BEGIN:VCALENDAR
VERSION:2.0
PRODID:-//Phantanoise© - ECPv6.15.20//NONSGML v1.0//EN
CALSCALE:GREGORIAN
METHOD:PUBLISH
X-WR-CALNAME:Phantanoise©
X-ORIGINAL-URL:https://www.phantanoise.com
X-WR-CALDESC:Events for Phantanoise©
REFRESH-INTERVAL;VALUE=DURATION:PT1H
X-Robots-Tag:noindex
X-PUBLISHED-TTL:PT1H
BEGIN:VTIMEZONE
TZID:Europe/Vienna
BEGIN:DAYLIGHT
TZOFFSETFROM:+0100
TZOFFSETTO:+0200
TZNAME:CEST
DTSTART:20240331T010000
END:DAYLIGHT
BEGIN:STANDARD
TZOFFSETFROM:+0200
TZOFFSETTO:+0100
TZNAME:CET
DTSTART:20241027T010000
END:STANDARD
BEGIN:DAYLIGHT
TZOFFSETFROM:+0100
TZOFFSETTO:+0200
TZNAME:CEST
DTSTART:20250330T010000
END:DAYLIGHT
BEGIN:STANDARD
TZOFFSETFROM:+0200
TZOFFSETTO:+0100
TZNAME:CET
DTSTART:20251026T010000
END:STANDARD
BEGIN:DAYLIGHT
TZOFFSETFROM:+0100
TZOFFSETTO:+0200
TZNAME:CEST
DTSTART:20260329T010000
END:DAYLIGHT
BEGIN:STANDARD
TZOFFSETFROM:+0200
TZOFFSETTO:+0100
TZNAME:CET
DTSTART:20261025T010000
END:STANDARD
END:VTIMEZONE
BEGIN:VEVENT
DTSTART;TZID=Europe/Vienna:20251105T193000
DTEND;TZID=Europe/Vienna:20251105T220000
DTSTAMP:20260425T175157
CREATED:20250926T152757Z
LAST-MODIFIED:20250926T152838Z
UID:30101-1762371000-1762380000@www.phantanoise.com
SUMMARY:GO FISHING - Performance – Zeyringer\, Schneider\, Gammon\, Mannott
DESCRIPTION:Go fishing erzählt die Geschichte der jüdischen Zirkuskünstlerin Irene Bento\, die sowohl in der Manege als auch im Privaten eine beispielhafte Willenskraft und Durchsetzungsfähigkeit zeigte. \nDen Holocaust überlebte die talentierte Artistin dank ihres Mutes und der Unterstützung des deutschen Zirkusdirektors Adolf Althoff\, der sie und ihre Familie in seinem Zirkus aufnahm und vor den Nationalsozialist*innen versteckte. Das geheime Stichwort\, um zügig unterzutauchen\, lautete dabei „Go fishing“. Adolf Althoff\, seine Frau Maria Althoff\, sowie weitere Zirkusmitarbeiter*innen riskiert \nON THE EDGE – Festival / Wien\nhttps://www.ontheedge.at/go-fishing
URL:https://www.phantanoise.com/event/go-fishing-performance-zeyringer-schneider-gammon-mannott-2/
LOCATION:Theater am Werk\, Oswaldgasse 35A\, Wien\, Wien\, 1120\, Austria
CATEGORIES:Festival,Vienna
END:VEVENT
BEGIN:VEVENT
DTSTART;TZID=Europe/Vienna:20251105T190000
DTEND;TZID=Europe/Vienna:20251105T220000
DTSTAMP:20260425T175157
CREATED:20250908T163232Z
LAST-MODIFIED:20250908T163232Z
UID:29977-1762369200-1762380000@www.phantanoise.com
SUMMARY:Improvised & Experimental No. 263 (sound installation)
DESCRIPTION:-Set 1- Sophie Renger (paetzold)\, Grgur Savic (saxophone\, objects\, action)\, Asta D. (voice\, sound poetry)\n-Set 2- Shiomi Kawaguchi (shamisen)\, Kriton Beyer (daxophone)\, Jung-Jae Kim (tenor saxophone)
URL:https://www.phantanoise.com/event/improvised-experimental-no-263-sound-installation/
LOCATION:Hošek Contemporary\, Fischerinsel 3\, Berlin - Mitte\, Berlin\, 10179\, Germany
CATEGORIES:Berlin,Concert
END:VEVENT
BEGIN:VEVENT
DTSTART;TZID=Europe/Vienna:20251104T200000
DTEND;TZID=Europe/Vienna:20251104T220000
DTSTAMP:20260425T175157
CREATED:20251027T113657Z
LAST-MODIFIED:20251027T113657Z
UID:30171-1762286400-1762293600@www.phantanoise.com
SUMMARY:SJi Youn Kang & Clara de Asís | Luc Döbereiner & Leonie Strecker | Vanessa Scarpaccini & Ayşe Deniz Birdal
DESCRIPTION:This evening consists of three sets: \nJi Youn Kang\nA performance as a live construction of an unstable sonic machine\, circuits\, metal plates\, and electromagnetic feedback form a system where sound emerges from shifting relations between material\, performer\, and signal. Through acts of tinkering\, the piece reveals the hidden vitality of matter and its dynamic behaviors. \nJi Youn Kang is a composer and performer of electronic and instrumental music. Her work often draws from Korean shamanistic traditions while exploring spatial sound and handmade electronics. She teaches at the Institute of Sonology in The Hague and performs internationally. \n– Clara de Asís & Luc Döbereiner\nThe duo unfolds reduced sound textures with synthetic (analog and digital) sources\, moving between isolated harmonic states and noise. The music emphasizes spatiality\, the materiality of listening and sound reproduction\, and the interplay between reduction and multiplicity of sound sources. \nClara de Asís is an artist and composer working with electronics\, objects\, and instruments to investigate listening\, perception\, and social-material contexts. She creates works of different formats encompassing performance\, audio pieces and installations. \nLuc Döbereiner is a composer\, musician and researcher exploring the fragility and materiality of sound\, often using generative processes and synthesis. \n– Leonie Strecker\nIn her solo performance\, Strecker explores presence\, absence\, and memory through concrete and synthetic sound\, evoking ambiguous meanings and creating spaces for individual and collective listening. \nLeonie Strecker is a composer and sound artist based in Vienna. Her work includes electronic and electro-acoustic music\, compositions for soloists and ensembles\, as well as performances and installations. She explores ideas around the hybridity of form\, presence and absence\, the connection of memory and experience\, and the meaning of concrete and synthetic sound. \nAyşe Deniz Birdal (Istanbul\, 1996) started studying at the Istanbul University State Conservatory at age 10. She continued her studies with Julius Berger in Augsburg. She won first place in the Rudolf Matz Strings Competition and second place in the International Johan Andreas Stein Strings Competition\, where she played\, among others\, her own composition Sky-Cut.\nBirdal played multiple festivals\, including the Menuhin Festival Gstaad String Academy and the Kronbeg Academy Cello Festival\, and played as a soloist with the Kaunas Philharmonic Orchestra\, among others.\nShe has a strong interest for contemporary classical music and music from her home country. She is also an enthusiastic improviser.\nWith her artistic identity\, she is building a bridge between genres and cultures\, to express her identity as a human being and a woman who migrated from Turkey through Europe to pursue an artistic career\, and to narrate her experience through life and cultures. \nVanessa Mattei Scarpaccini (2004) is an Italian-Polish dance artist currently based in Florence. She collaborates with Sosta Palmizi and develops her own choreographic work. Her practice moves through improvisation\, composition and interdisciplinary dialogue — working with musicians and visual artists across Europe. \nShe has performed in works by choreographers such as Virgilio Sieni\, Natalia Di Cosmo\, and Paulina Rewucka\, and is part of the improvisation collective FREE FORMS OF ART. \nVanessa trained between Florence and Vienna\, with formative experiences also in Germany\, Belgium\, and Spain. Alongside her artistic practice\, she is currently studying philosophy.
URL:https://www.phantanoise.com/event/sji-youn-kang-clara-de-asis-luc-dobereiner-leonie-strecker-vanessa-scarpaccini-ayse-deniz-birdal/
LOCATION:v.e.k.k.s.\, Ratschkygasse 14/1\, Wien\, 1120\, Austria
CATEGORIES:Concert,Vienna
END:VEVENT
BEGIN:VEVENT
DTSTART;TZID=Europe/Vienna:20251104T193000
DTEND;TZID=Europe/Vienna:20251104T220000
DTSTAMP:20260425T175157
CREATED:20250926T152603Z
LAST-MODIFIED:20250926T152603Z
UID:30099-1762284600-1762293600@www.phantanoise.com
SUMMARY:GO FISHING - Performance – Zeyringer\, Schneider\, Gammon\, Mannott
DESCRIPTION:Go fishing erzählt die Geschichte der jüdischen Zirkuskünstlerin Irene Bento\, die sowohl in der Manege als auch im Privaten eine beispielhafte Willenskraft und Durchsetzungsfähigkeit zeigte. \nDen Holocaust überlebte die talentierte Artistin dank ihres Mutes und der Unterstützung des deutschen Zirkusdirektors Adolf Althoff\, der sie und ihre Familie in seinem Zirkus aufnahm und vor den Nationalsozialist*innen versteckte. Das geheime Stichwort\, um zügig unterzutauchen\, lautete dabei „Go fishing“. Adolf Althoff\, seine Frau Maria Althoff\, sowie weitere Zirkusmitarbeiter*innen riskiert \nON THE EDGE – Festival / Wien \nhttps://www.ontheedge.at/go-fishing
URL:https://www.phantanoise.com/event/go-fishing-performance-zeyringer-schneider-gammon-mannott/
LOCATION:Theater am Werk\, Oswaldgasse 35A\, Wien\, Wien\, 1120\, Austria
CATEGORIES:Festival,Vienna
END:VEVENT
BEGIN:VEVENT
DTSTART;TZID=Europe/Vienna:20251103T203000
DTEND;TZID=Europe/Vienna:20251103T223000
DTSTAMP:20260425T175157
CREATED:20250804T102535Z
LAST-MODIFIED:20250817T105058Z
UID:28171-1762201800-1762209000@www.phantanoise.com
SUMMARY:Leuchtstoff
DESCRIPTION:Tour 2025
URL:https://www.phantanoise.com/event/leuchtstoff/
LOCATION:rhiz – contemporary underground\, Lerchenfelder Gürtel\, Stadtbahnbögen 37-38\, Wien\, 1080\, Austria
CATEGORIES:Vienna
END:VEVENT
BEGIN:VEVENT
DTSTART;TZID=Europe/Vienna:20251031T180000
DTEND;TZID=Europe/Vienna:20251031T220000
DTSTAMP:20260425T175157
CREATED:20250905T154813Z
LAST-MODIFIED:20250905T154813Z
UID:29840-1761933600-1761948000@www.phantanoise.com
SUMMARY:noche de Werner 25
DESCRIPTION:Agnes Hvizdalek solo (Stimme) · Billy Roisz & dieb13: echoes of the kornfields (Turntables\, Fieldrecordings\, Electronik\, Video-Score) · Sisters in Noise: Miriam Jochmann / Nina Jukić / Ellen Preuss (Kontrabass\, Stimme\, Elektronik)
URL:https://www.phantanoise.com/event/noche-de-werner-25/
LOCATION:echoraum\, Sechshauserstrasse 66\, Wien\, Wien\, 1150\, Austria
CATEGORIES:Concert,Vienna
END:VEVENT
BEGIN:VEVENT
DTSTART;TZID=Europe/Vienna:20251030T200000
DTEND;TZID=Europe/Vienna:20251030T220000
DTSTAMP:20260425T175157
CREATED:20250901T081327Z
LAST-MODIFIED:20250901T081327Z
UID:29697-1761854400-1761861600@www.phantanoise.com
SUMMARY:Impro4
DESCRIPTION:Noé Schüttler (g)\nGero von Randow (synth)\nJohannes Fritz (b)\nEliah Antoine Ebner (dr)
URL:https://www.phantanoise.com/event/impro4/
LOCATION:Celeste\, Hamburgerstraße 18\, Wien\, 1050\, Austria
CATEGORIES:Concert,Vienna
END:VEVENT
BEGIN:VEVENT
DTSTART;TZID=Europe/Vienna:20251029T200000
DTEND;TZID=Europe/Vienna:20251029T223000
DTSTAMP:20260425T175157
CREATED:20250812T105558Z
LAST-MODIFIED:20250817T120627Z
UID:28632-1761768000-1761777000@www.phantanoise.com
SUMMARY:Monthly clubnight for Improvised Music
DESCRIPTION:
URL:https://www.phantanoise.com/event/monthly-clubnight-for-improvised-music-2/
LOCATION:Ryan’s N16\, Stoke Newington Church Street 181\, London - Stoke Newington\, London\, N16 0UL
CATEGORIES:Session
END:VEVENT
BEGIN:VEVENT
DTSTART;TZID=Europe/Vienna:20251029T200000
DTEND;TZID=Europe/Vienna:20251029T220000
DTSTAMP:20260425T175157
CREATED:20250804T154829Z
LAST-MODIFIED:20250817T120640Z
UID:28215-1761768000-1761775200@www.phantanoise.com
SUMMARY:Eleusínia Mystéria 2510
DESCRIPTION:Eleusínia Mystéria Open Jam Sessions Host: HARUKI NODA open to all art disciplines and styles every last Wednesday of the month bring your instruments\, gadgets and toys play | connect | dream together
URL:https://www.phantanoise.com/event/eleusinia-mysteria-2510/
LOCATION:ExMachinisMusicae Haruki Noda\, Am Rosenberg 1/3/R01\, Wien\, 1230\, Austria
CATEGORIES:Session,Vienna
END:VEVENT
BEGIN:VEVENT
DTSTART;TZID=Europe/Vienna:20251029T190000
DTEND;TZID=Europe/Vienna:20251029T220000
DTSTAMP:20260425T175157
CREATED:20250908T163129Z
LAST-MODIFIED:20250908T163129Z
UID:29975-1761764400-1761775200@www.phantanoise.com
SUMMARY:Improvised & Experimental No. 262 (sound installation)
DESCRIPTION:-Set 1- Tangerine – Danielle Friedman (piano)\, Aviv Noam (alto saxophone)\n-Set 2- Taupe Étoile Ext. – Johanna Sandels (voice\, looper\, effects)\, Grisha Pankert (E-violin\, FX)\, Mathieu Sylvestre (field recordings\, tapes)
URL:https://www.phantanoise.com/event/improvised-experimental-no-262-sound-installation/
LOCATION:Hošek Contemporary\, Fischerinsel 3\, Berlin - Mitte\, Berlin\, 10179\, Germany
CATEGORIES:Berlin,Concert
END:VEVENT
BEGIN:VEVENT
DTSTART;TZID=Europe/Vienna:20251028T200000
DTEND;TZID=Europe/Vienna:20251028T220000
DTSTAMP:20260425T175157
CREATED:20250905T154715Z
LAST-MODIFIED:20250905T154715Z
UID:29838-1761681600-1761688800@www.phantanoise.com
SUMMARY:The Magic I.D.
DESCRIPTION:Kai Fagaschinski (Klarinette) / Margareth Kammerer (Stimme\, Gitarre) / Christof Kurzmann (lloopp\, Devices\, Stimme) / Michael Thieke (Klarinette)
URL:https://www.phantanoise.com/event/the-magic-i-d/
LOCATION:echoraum\, Sechshauserstrasse 66\, Wien\, Wien\, 1150\, Austria
CATEGORIES:Concert,Vienna
END:VEVENT
BEGIN:VEVENT
DTSTART;VALUE=DATE:20251028
DTEND;VALUE=DATE:20251030
DTSTAMP:20260425T175157
CREATED:20250812T110648Z
LAST-MODIFIED:20250817T120655Z
UID:28645-1761609600-1761782399@www.phantanoise.com
SUMMARY:International Congress "Improvisation in Art and Everyday Life"
DESCRIPTION:Improvisation is not only the domain of artists — it’s a powerful force that shapes our daily decisions\, reactions\, and creative choices. Join this international\, interdisciplinary congress that will bring together outstanding creators\, scholars\, and practitioners from around the world to explore the phenomenon of improvisation from multiple perspectives! \nSpecial Guests:\nCharles Limb | Niels Rønsholdt | Adam Strug | Simon Procter | Zbigniew Blukacz I Monika Szczepanik | Ilona Trybuła I Paweł Tomaszewski | Kris Jurga | …and many other inspiring speakers and creators!
URL:https://www.phantanoise.com/event/international-congress-improvisation-in-art-and-everyday-life/
LOCATION:Akademia Muzyczna im. Karola Szymanowskiego w Katowicach\, ul. Zacisze 3\, Katowice\, Śląskie\, 40-025\, Poland
CATEGORIES:Festival
END:VEVENT
BEGIN:VEVENT
DTSTART;TZID=Europe/Vienna:20251026T200000
DTEND;TZID=Europe/Vienna:20251026T220000
DTSTAMP:20260425T175157
CREATED:20250927T064028Z
LAST-MODIFIED:20250927T064115Z
UID:30117-1761508800-1761516000@www.phantanoise.com
SUMMARY:Kvadrata Supro | Alexander Babikov & Valentin Duit
DESCRIPTION:Trio Kvadrata Supro was formed in 2021 as an improvisational group based on double wind instruments – mainly saxophones and clarinets – and a rhythmic system made up of drums and vibraphone. The fabric of their music unfolds in the polarity between trance-eruptive free jazz with various folkloric atavisms and free improvisation with elements of minimalism and ambient. For the autumn tour in 2025 the group invited Hungarian double bassist and composer Ernö Hock to collaborate\, who straddles jazz\, folklore\, experimental rock and free improvisation. \nErnö Hock (H) – bass \nElia Moretti (I) – drums\, vibraphone\nhttps://database.shareimpro.eu/en/person/elia-moretti \nMichal Hrubý (CZ) – tenor saxophone\, clarinets\, flutes\nmichalhruby.bandcamp.com \nZdeněk Závodný (CZ) – saxophones\, clarinet\nhttps://frisk.band \n____ \nValentin Duit & Alexander Babikov
URL:https://www.phantanoise.com/event/kvadrata-supro-alexander-babikov-valentin-duit/
LOCATION:v.e.k.k.s.\, Ratschkygasse 14/1\, Wien\, 1120\, Austria
CATEGORIES:Concert,Vienna
END:VEVENT
BEGIN:VEVENT
DTSTART;TZID=Europe/Vienna:20251026T183000
DTEND;TZID=Europe/Vienna:20251026T213000
DTSTAMP:20260425T175157
CREATED:20250814T163542Z
LAST-MODIFIED:20250814T163542Z
UID:28866-1761503400-1761514200@www.phantanoise.com
SUMMARY:Organ Sequences XXVIII
DESCRIPTION:Frank and Zeynep Ayşe Hatipoğlu at Taborkirche – Kreuzberg. \nZeynep Ayşe Hatipoğlu performs with cello\, electronic processes\, sound recording\, and voice\, moving between free improvisation and composition. Background is rooted in Istanbul: Turkish Makam music\, Eurogenetic classical music\, experimental\, and sonic practices. Music switches between musical genres\, creating through gestural and embodied movements of textural acoustic and electroacoustic sounds. \nAside from performing-composing practices\, interested in the social dynamics of musical acts as a creative\, interpretative way of synchronization\, exploring ‚oneness with others‘ and fostering small-scale supportive communities. Holds a PhD from Istanbul ITU MIAM on improvisational playful thinking as a tool for supporting creative communities. Lives and works in Berlin since 2023.
URL:https://www.phantanoise.com/event/organ-sequences-xxviii/
LOCATION:Taborkirche Berlin Kreuzberg\, Taborstraße 17\, Berlin\, Berlin-Kreuzberg\, 10997\, Germany
CATEGORIES:Berlin
END:VEVENT
BEGIN:VEVENT
DTSTART;TZID=Europe/Vienna:20251025T233000
DTEND;TZID=Europe/Vienna:20251026T060000
DTSTAMP:20260425T175157
CREATED:20250817T115235Z
LAST-MODIFIED:20250817T115235Z
UID:29260-1761435000-1761458400@www.phantanoise.com
SUMMARY:STF25 + Bestand - Closing Party
DESCRIPTION:PÖ (DJ Set) GH/FR – more tba \nSonic Territories 25 \n \n 
URL:https://www.phantanoise.com/event/stf25-bestand-closing-party/
LOCATION:Coco Bar Vienna\, U-Bahn Bogen 35 und 35\, Wien\, 1080\, Austria
CATEGORIES:Sonic Territories,Vienna
END:VEVENT
BEGIN:VEVENT
DTSTART;TZID=Europe/Vienna:20251025T200000
DTEND;TZID=Europe/Vienna:20251025T223000
DTSTAMP:20260425T175157
CREATED:20250817T115002Z
LAST-MODIFIED:20250817T115002Z
UID:29258-1761422400-1761431400@www.phantanoise.com
SUMMARY:Fennesz\, PÖ\, NÂR / Nadia Daou\, Dino Spiluttini
DESCRIPTION:WUK Grosser Saal \nSonic Territories 25 \n \n 
URL:https://www.phantanoise.com/event/fennesz-po-nar-nadia-daou-dino-spiluttini/
LOCATION:WUK – Werkstätten‑ und Kulturhaus\, Währinger Straße 59\, Wien\, 1090\, Austria
CATEGORIES:Sonic Territories,Vienna
END:VEVENT
BEGIN:VEVENT
DTSTART;TZID=Europe/Vienna:20251025T193000
DTEND;TZID=Europe/Vienna:20251025T220000
DTSTAMP:20260425T175157
CREATED:20250804T110656Z
LAST-MODIFIED:20250817T120730Z
UID:28191-1761420600-1761429600@www.phantanoise.com
SUMMARY:Alternnativ TV + Splintered + Kleistwahr + DJ Graham Duff
DESCRIPTION:Presented by Fourth Dimension Records
URL:https://www.phantanoise.com/event/alternative-tv-splintered-kleistwahr-dj-graham-duff/
LOCATION:Café OTO\, 18–22 Ashwin street\, Dalston\, London\, E8 3DL
CATEGORIES:Vienna
END:VEVENT
BEGIN:VEVENT
DTSTART;TZID=Europe/Vienna:20251025T190000
DTEND;TZID=Europe/Vienna:20251025T233000
DTSTAMP:20260425T175157
CREATED:20250915T150544Z
LAST-MODIFIED:20250915T150631Z
UID:30028-1761418800-1761435000@www.phantanoise.com
SUMMARY:re_composed 2025 | 3
DESCRIPTION:19:00 | Se-Lien Chuang & Andreas Weixler\n20:00 | Sophia Goidinger-Koch\n21:00 | Patrik Lechner \nDie 15. Ausgabe des Festivals re_composed findet vom 23. bis 25. Oktober 2025 in der Kunsttankstelle Ottakring statt. Dabei werden Komponistinnen und Komponisten der Gegenwart aufgeführt\, die sich in ihren Arbeiten mit der Fragestellung des Komponierens in einer Digitalen Welt auseinandersetzen und diese Fragestellung auch in ihrer Musik\, ihren Kompositionen und Arbeiten weiterführen.\nKunsttankstelle Ottakring\, Grundsteingasse 45\, 1160 Wien\nEinlass 15 Minuten vor Konzertbeginn.
URL:https://www.phantanoise.com/event/re_composed-2025-3/
LOCATION:Wien
CATEGORIES:Concert,Vienna
END:VEVENT
BEGIN:VEVENT
DTSTART;TZID=Europe/Vienna:20251025T190000
DTEND;TZID=Europe/Vienna:20251025T233000
DTSTAMP:20260425T175157
CREATED:20250915T150451Z
LAST-MODIFIED:20250915T150451Z
UID:30026-1761418800-1761435000@www.phantanoise.com
SUMMARY:re_composed 2025 | 2
DESCRIPTION:19:00 | Leonie Strecker\n20:00 | Peter Kutin\n21:00 | apparatus \nDie 15. Ausgabe des Festivals re_composed findet vom 23. bis 25. Oktober 2025 in der Kunsttankstelle Ottakring statt. Dabei werden Komponistinnen und Komponisten der Gegenwart aufgeführt\, die sich in ihren Arbeiten mit der Fragestellung des Komponierens in einer Digitalen Welt auseinandersetzen und diese Fragestellung auch in ihrer Musik\, ihren Kompositionen und Arbeiten weiterführen.\nKunsttankstelle Ottakring\, Grundsteingasse 45\, 1160 Wien\nEinlass 15 Minuten vor Konzertbeginn.
URL:https://www.phantanoise.com/event/re_composed-2025-2/
LOCATION:Wien
CATEGORIES:Concert,Vienna
END:VEVENT
BEGIN:VEVENT
DTSTART;TZID=Europe/Vienna:20251024T233000
DTEND;TZID=Europe/Vienna:20251025T060000
DTSTAMP:20260425T175157
CREATED:20250817T114816Z
LAST-MODIFIED:20250817T114816Z
UID:29256-1761348600-1761372000@www.phantanoise.com
SUMMARY:Thao\, Mika Oki\, Marshrutka\, Lucia Kagramanyan
DESCRIPTION:Sonic Territories 25 \n \n 
URL:https://www.phantanoise.com/event/thao-mika-oki-marshrutka-lucia-kagramanyan/
LOCATION:B72\, Hernalser Gürtel Bogen 72–73\, Wien\, Wien\, 1080\, Austria
CATEGORIES:Sonic Territories,Vienna
END:VEVENT
BEGIN:VEVENT
DTSTART;TZID=Europe/Vienna:20251024T200000
DTEND;TZID=Europe/Vienna:20251024T220000
DTSTAMP:20260425T175157
CREATED:20250905T154614Z
LAST-MODIFIED:20250905T154614Z
UID:29836-1761336000-1761343200@www.phantanoise.com
SUMMARY:Isidora Edwards & Vinicius Cajado · Duthoit / Sinkauz / Sinkauz
DESCRIPTION:Isidora Edwards (Cello) & Vinicius Cajado (Kontrabass) · Isabelle Duthoit (Stimme & Klarinette) / Alen Sinkauz (E-Bass & Elektronik) / Nenad Sinkauz (E-Gitarre & Elektronik)
URL:https://www.phantanoise.com/event/isidora-edwards-vinicius-cajado-%c2%b7-duthoit-sinkauz-sinkauz/
LOCATION:echoraum\, Sechshauserstrasse 66\, Wien\, Wien\, 1150\, Austria
CATEGORIES:Concert,Vienna
END:VEVENT
BEGIN:VEVENT
DTSTART;TZID=Europe/Vienna:20251024T190000
DTEND;TZID=Europe/Vienna:20251024T220000
DTSTAMP:20260425T175157
CREATED:20250901T084006Z
LAST-MODIFIED:20250902T165825Z
UID:29707-1761332400-1761343200@www.phantanoise.com
SUMMARY:Circuit Fantôme - Season 5 Episode 11: Manuel Rocha
DESCRIPTION:https://floatingsound.at\nCircuit Fantôme – Season 5 Episode 11: Manuel Rochaseries of octophonic / acousmatic listening sessions and performances\,curated by Daniel Teruggi and Anton Iakhontov (Patrick K.-H.)Ye Ixquich Cahuitl (2021)\n\n24 October\,four shows:at 18:15\, 19:15\, 20:15 and 21:15works of Manuel Rocha performed by Patrick K.-H.Pay as you wish.
URL:https://www.phantanoise.com/event/circuit-fantome-season-5-episode-11-manuel-rocha/
LOCATION:Vronihof Kulturverein\, Veronikagasse 24\, Wien\, 1170\, Austria
CATEGORIES:Concert,Vienna
ORGANIZER;CN="Floating Sound Gallery":MAILTO:floatingsound.vienna@gmail.com
END:VEVENT
BEGIN:VEVENT
DTSTART;TZID=Europe/Vienna:20251024T180000
DTEND;TZID=Europe/Vienna:20251024T200000
DTSTAMP:20260425T175157
CREATED:20250817T114536Z
LAST-MODIFIED:20250817T114645Z
UID:29250-1761328800-1761336000@www.phantanoise.com
SUMMARY:Sphaîra
DESCRIPTION:Sara Persico & Mika Oki \nWUK Grosser Saal \nSonic Territories 25 \n \n 
URL:https://www.phantanoise.com/event/sara-pesico-mika-oki/
LOCATION:WUK – Werkstätten‑ und Kulturhaus\, Währinger Straße 59\, Wien\, 1090\, Austria
CATEGORIES:Sonic Territories,Vienna
END:VEVENT
BEGIN:VEVENT
DTSTART;TZID=Europe/Vienna:20251024T180000
DTEND;TZID=Europe/Vienna:20251024T200000
DTSTAMP:20260425T175157
CREATED:20250817T114429Z
LAST-MODIFIED:20250817T114429Z
UID:29245-1761328800-1761336000@www.phantanoise.com
SUMMARY:Nyokabi Kariũki
DESCRIPTION:World Premiere \nWUK Grosser Saal \nSonic Territories 25 \n \n 
URL:https://www.phantanoise.com/event/nyokabi-kariuki/
LOCATION:WUK – Werkstätten‑ und Kulturhaus\, Währinger Straße 59\, Wien\, 1090\, Austria
CATEGORIES:Sonic Territories,Vienna
END:VEVENT
BEGIN:VEVENT
DTSTART;TZID=Europe/Vienna:20251024T180000
DTEND;TZID=Europe/Vienna:20251024T200000
DTSTAMP:20260425T175157
CREATED:20250817T113837Z
LAST-MODIFIED:20250817T113837Z
UID:29239-1761328800-1761336000@www.phantanoise.com
SUMMARY:Talán
DESCRIPTION:Raphael Rogiński \nWUK Grosser Saal \nSonic Territories 25 \n \n  \n 
URL:https://www.phantanoise.com/event/talan/
LOCATION:WUK – Werkstätten‑ und Kulturhaus\, Währinger Straße 59\, Wien\, 1090\, Austria
CATEGORIES:Sonic Territories,Vienna
END:VEVENT
BEGIN:VEVENT
DTSTART;TZID=Europe/Vienna:20251024T180000
DTEND;TZID=Europe/Vienna:20251024T200000
DTSTAMP:20260425T175157
CREATED:20250817T113451Z
LAST-MODIFIED:20250817T113451Z
UID:29233-1761328800-1761336000@www.phantanoise.com
SUMMARY:Plankturutaña
DESCRIPTION:Merche Blasco\, Ute Wassermann\, Marina Cyrino – Austria Premiere \nWUK Museumsräume \nSonic Territories 25 \n \n 
URL:https://www.phantanoise.com/event/plankturutana/
LOCATION:WUK – Werkstätten‑ und Kulturhaus\, Währinger Straße 59\, Wien\, 1090\, Austria
CATEGORIES:Sonic Territories,Vienna
END:VEVENT
BEGIN:VEVENT
DTSTART;TZID=Europe/Vienna:20251023T210000
DTEND;TZID=Europe/Vienna:20251023T233000
DTSTAMP:20260425T175157
CREATED:20250817T113203Z
LAST-MODIFIED:20250817T113203Z
UID:29230-1761253200-1761262200@www.phantanoise.com
SUMMARY:Fæ Bestia\, LOUFR\, Misonica\, hiff
DESCRIPTION:Sonic Territories 25 \n \n 
URL:https://www.phantanoise.com/event/fae-bestia-loufr-misonica-hiff/
LOCATION:rhiz – contemporary underground\, Lerchenfelder Gürtel\, Stadtbahnbögen 37-38\, Wien\, 1080\, Austria
CATEGORIES:Sonic Territories,Vienna
END:VEVENT
BEGIN:VEVENT
DTSTART;TZID=Europe/Vienna:20251023T200000
DTEND;TZID=Europe/Vienna:20251023T220000
DTSTAMP:20260425T175157
CREATED:20251014T070135Z
LAST-MODIFIED:20251014T070206Z
UID:30167-1761249600-1761256800@www.phantanoise.com
SUMMARY:Harpy (US) and Tania Fuchs (AT)
DESCRIPTION:Harpy is the collaboration of cult musical/performance artists Gyna Bootleg and Pippi Zornoza. Harpy lends their atmospheric sonic musings and manic vocals to a multi-layered aggression that is both deeply haunted and utterly relentless. \nHarpy on bandcamp \nTania Fuchs has haunted the viennese underground for more than a decade with here intense live-performances and DJ-sets. Abandoning here moinker Abu-Gabi switching to her name Tania Fuchs her music is more personal and daring than then ever\, breaking boundaries between club-music\, noise\, singer-songwriter and her cursed poetry. \nAbu Gabi on bandcamp
URL:https://www.phantanoise.com/event/harpy-us-and-tania-fuchs-at/
LOCATION:Einbaumöbel\, Gürtelbogen 97\, Wien\, Wien\, 1090\, Austria
CATEGORIES:Concert,Vienna
END:VEVENT
BEGIN:VEVENT
DTSTART;TZID=Europe/Vienna:20251023T193000
DTEND;TZID=Europe/Vienna:20251023T220000
DTSTAMP:20260425T175157
CREATED:20250926T152251Z
LAST-MODIFIED:20250926T152251Z
UID:30097-1761247800-1761256800@www.phantanoise.com
SUMMARY:Gammon und Laura Pudelek
DESCRIPTION:19:30h Konzert – Improvisation\nLaura Pudelek – Cello\nGammon – Modular Synthesizer
URL:https://www.phantanoise.com/event/gammon-und-laura-pudelek-2/
LOCATION:Wien
CATEGORIES:Concert,Vienna
END:VEVENT
BEGIN:VEVENT
DTSTART;TZID=Europe/Vienna:20251023T190000
DTEND;TZID=Europe/Vienna:20251023T233000
DTSTAMP:20260425T175157
CREATED:20250915T150339Z
LAST-MODIFIED:20250915T150339Z
UID:30024-1761246000-1761262200@www.phantanoise.com
SUMMARY:re_composed 2025 | 1
DESCRIPTION:19:00 | Belma Bešlić-Gàl\n20:00 | Nava Hemyari\n21:00 | Sara Zlanabitnig \nDie 15. Ausgabe des Festivals re_composed findet vom 23. bis 25. Oktober 2025 in der Kunsttankstelle Ottakring statt. Dabei werden Komponistinnen und Komponisten der Gegenwart aufgeführt\, die sich in ihren Arbeiten mit der Fragestellung des Komponierens in einer Digitalen Welt auseinandersetzen und diese Fragestellung auch in ihrer Musik\, ihren Kompositionen und Arbeiten weiterführen.\nKunsttankstelle Ottakring\, Grundsteingasse 45\, 1160 Wien\nEinlass 15 Minuten vor Konzertbeginn.
URL:https://www.phantanoise.com/event/re_composed-2025-1/
LOCATION:Kunsttankstelle Ottakring\, Grundsteingasse 45-47\, Wien\, Wien\, 1160\, Austria
CATEGORIES:Concert,Vienna
END:VEVENT
END:VCALENDAR