BEGIN:VCALENDAR
VERSION:2.0
PRODID:-//Phantanoise© - ECPv6.15.20//NONSGML v1.0//EN
CALSCALE:GREGORIAN
METHOD:PUBLISH
X-WR-CALNAME:Phantanoise©
X-ORIGINAL-URL:https://www.phantanoise.com
X-WR-CALDESC:Events for Phantanoise©
REFRESH-INTERVAL;VALUE=DURATION:PT1H
X-Robots-Tag:noindex
X-PUBLISHED-TTL:PT1H
BEGIN:VTIMEZONE
TZID:Europe/Vienna
BEGIN:DAYLIGHT
TZOFFSETFROM:+0100
TZOFFSETTO:+0200
TZNAME:CEST
DTSTART:20240331T010000
END:DAYLIGHT
BEGIN:STANDARD
TZOFFSETFROM:+0200
TZOFFSETTO:+0100
TZNAME:CET
DTSTART:20241027T010000
END:STANDARD
BEGIN:DAYLIGHT
TZOFFSETFROM:+0100
TZOFFSETTO:+0200
TZNAME:CEST
DTSTART:20250330T010000
END:DAYLIGHT
BEGIN:STANDARD
TZOFFSETFROM:+0200
TZOFFSETTO:+0100
TZNAME:CET
DTSTART:20251026T010000
END:STANDARD
BEGIN:DAYLIGHT
TZOFFSETFROM:+0100
TZOFFSETTO:+0200
TZNAME:CEST
DTSTART:20260329T010000
END:DAYLIGHT
BEGIN:STANDARD
TZOFFSETFROM:+0200
TZOFFSETTO:+0100
TZNAME:CET
DTSTART:20261025T010000
END:STANDARD
END:VTIMEZONE
BEGIN:VEVENT
DTSTART;VALUE=DATE:20250903
DTEND;VALUE=DATE:20250908
DTSTAMP:20260425T172141
CREATED:20250817T113706Z
LAST-MODIFIED:20250817T113725Z
UID:29240-1756857600-1757289599@www.phantanoise.com
SUMMARY:Sweet Water 3.0
DESCRIPTION:Event \n\n\n\n\n\nChunLi (TW) \n\n\n\nSweet Water 3.0 is an audiovisual work curated by ChunLi\, consisting of live improvised music and real-time storytelling visuals. Drawing from profound myths and speculative futures\, the music and visuals will subtly convey a story of contemporary humor through electronic instruments and transcribed reverbs. \nDATE(s) tba
URL:https://www.phantanoise.com/event/sweet-water-3-0/
CATEGORIES:Ars Electronica
END:VEVENT
BEGIN:VEVENT
DTSTART;TZID=Europe/Vienna:20250902T213000
DTEND;TZID=Europe/Vienna:20250902T213000
DTSTAMP:20260425T172141
CREATED:20250817T112013Z
LAST-MODIFIED:20250817T112038Z
UID:29220-1756848600-1756848600@www.phantanoise.com
SUMMARY:Pianographique: Mishima-Suite von Philip Glass
DESCRIPTION:Maki Namekawa (JP)\, Cori O’Lan (AT) \n\n\n\n1925\, vor hundert Jahren\, wurde der ebenso gefeierte wie umstrittene japanische Autor\, Schauspieler und Regisseur Mishima Yukio geboren – einer der bedeutendsten Vertreter der japanischen Nachkriegsliteratur. Seine durchaus bizarre Lebensgeschichte wurde 1985 von Paul Schrader verfilmt\, die Filmmusik dazu komponierte Philip Glass. Unabhängig vom Film entwickelte sich die Musik zu einem eigenständigen Erfolg: Unabhängig vom Film begann die Musik\, in vielfacher Weise instrumentiert\, ihre eigene Erfolgsgeschichte und wurde 2018\, im Auftrag von Maki Namekawa von Michael Riesman – langjähriger musikalischer Leiter von Philip Glass – für Klavier arrangiert. Maki Namekawa\, die wohl profilierteste Expertin für die Klaviermusik von Philip Glass\, hat das gesamte Werk auf CD veröffentlicht und wird an diesem Abend eine Suite mit 7 Stücken aus Mishima im Deep Space 8K des Ars Electronica Center spielen. Visuell begleitet wird das Konzert mit digitalen Realtime Visulisierungen von Cori O’Lan.
URL:https://www.phantanoise.com/event/pianographique-mishima-suite-von-philip-glass/
LOCATION:Ars Electronica Center\, Ars-Electronica-Straße 1\, Linz\, Upper Austria\, 4040\, Austria
CATEGORIES:Ars Electronica,Concert
END:VEVENT
BEGIN:VEVENT
DTSTART;TZID=Europe/Vienna:20250902T203000
DTEND;TZID=Europe/Vienna:20250902T230000
DTSTAMP:20260425T172141
CREATED:20250817T124853Z
LAST-MODIFIED:20250817T124853Z
UID:29272-1756845000-1756854000@www.phantanoise.com
SUMMARY:Impro Free – Daminaisdis\, Rave\, Provan\, Alexandre
DESCRIPTION:For the first time ever\, four bold voices from across the globe come together on stage—unrehearsed\, unfiltered\, and completely in the moment.\nSaxophonist Ada Rave (AR)\, cornetist and vocalist Felicity Provan (AUS)\, guitarist Giotis Damianidis (GR)\, and drummer Diogo Alexandre (PT) unite for an evening of raw\, spontaneous creation. What happens when these singular artists meet for the first time? No one knows—not even them.\nExpect deep listening\, fearless interplay\, and soundscapes shaped in real time!
URL:https://www.phantanoise.com/event/impro-free-daminaisdis-rave-provan-alexandre/
LOCATION:Café Central\, rue de Borgval 14\, BRussels\, 1000\, Belgium
CATEGORIES:Concert
END:VEVENT
BEGIN:VEVENT
DTSTART;TZID=Europe/Vienna:20250902T193000
DTEND;TZID=Europe/Vienna:20250902T220000
DTSTAMP:20260425T172141
CREATED:20250804T105552Z
LAST-MODIFIED:20250817T110427Z
UID:28177-1756841400-1756850400@www.phantanoise.com
SUMMARY:Aane Halliwell + Sarahsson + Yoga W/ Renzniro\, Hunger Hill & Lili Holland Fricke
DESCRIPTION:Presented by THE EMERALD PLANET
URL:https://www.phantanoise.com/event/ange-halliwell-sarahsson-y0ga-w-renzniro-hunger-hill-lili-holland-fricke/
LOCATION:Café OTO\, 18–22 Ashwin street\, Dalston\, London\, E8 3DL
END:VEVENT
BEGIN:VEVENT
DTSTART;TZID=Europe/Vienna:20250902T190000
DTEND;TZID=Europe/Vienna:20250902T230000
DTSTAMP:20260425T172141
CREATED:20250902T080114Z
LAST-MODIFIED:20250902T080133Z
UID:29770-1756839600-1756854000@www.phantanoise.com
SUMMARY:Collapsed Star – unsafe+sound festival
DESCRIPTION:18:30—Inou Ki Endo\n19:00—Zosia Holubowska feat. Muciño pres. “Lovers / Lichens”\n20:00—HxH\n21:00—ROTOЯ – SONIC BODY\n22:00—Rosa Anschütz \nA collapsed star is a paradox of time: both an ending and a continuation\, a remnant of the past but still to be perceived in the present. It’s a marker of time’s vast scale. The opening concerts explore sound as living archive and temporal experiment\, folding together the microscopic and the cosmic\, the intimate and the infinite.
URL:https://www.phantanoise.com/event/collapsed-star-unsafesound-festival/
LOCATION:AIL\, Georg‑Coch‑Platz 2\, Wien\, Wien\, 1010\, Austria
CATEGORIES:Festival,Vienna
END:VEVENT
BEGIN:VEVENT
DTSTART;TZID=Europe/Vienna:20250901T210000
DTEND;TZID=Europe/Vienna:20250901T233000
DTSTAMP:20260425T172141
CREATED:20250823T153003Z
LAST-MODIFIED:20250823T154406Z
UID:29609-1756760400-1756769400@www.phantanoise.com
SUMMARY:Experimontag Savic / Morimoto
DESCRIPTION:Grgur Savic – alto saxophone\, laptop\, sound processing \nSeiji Morimoto – modified sound modules \n \nhttp://grgursavic.com \nhttps://www.seijimorimoto.com
URL:https://www.phantanoise.com/event/experimontag-2/
LOCATION:Madame Claude\, Lübbener Straße 19\, Berlin-Kreuzberg\, Berlin\, 10997
CATEGORIES:Berlin,Concert
END:VEVENT
BEGIN:VEVENT
DTSTART;TZID=Europe/Vienna:20250901T193000
DTEND;TZID=Europe/Vienna:20250901T220000
DTSTAMP:20260425T172141
CREATED:20250804T105421Z
LAST-MODIFIED:20250817T110451Z
UID:28175-1756755000-1756764000@www.phantanoise.com
SUMMARY:Water Damage
DESCRIPTION:
URL:https://www.phantanoise.com/event/water-damage/
LOCATION:Café OTO\, 18–22 Ashwin street\, Dalston\, London\, E8 3DL
END:VEVENT
BEGIN:VEVENT
DTSTART;TZID=Europe/Vienna:20250830T200000
DTEND;TZID=Europe/Vienna:20250830T203000
DTSTAMP:20260425T172141
CREATED:20250826T162452Z
LAST-MODIFIED:20250826T162452Z
UID:29678-1756584000-1756585800@www.phantanoise.com
SUMMARY:Cord Clamping by Jonathan Noch
DESCRIPTION:On Saturday 30.8. thedance production “Cord Clamping” premieres in JazzICord Clamping\nwith Elena Rebeccato & Fanny de Ponti \nDuration: ca. 30min \nA piece about liberation and resistance. A choreographic attempt to breach the cover of otherness. An inquiry in empathy. An antidote to the small and big oppressions of life. \n2 Performances: 6pm & 8pm\nPay as you can: 10€ I 15€ I 20€\nTickets via nachtmusik.org
URL:https://www.phantanoise.com/event/cord-clamping-by-jonathan-noch-2/
LOCATION:Jazzit Musik Club Salzburg\, Elisabethstraße 11\, Salzburg\, Salzburg\, 5020\, Austria
CATEGORIES:Dance
END:VEVENT
BEGIN:VEVENT
DTSTART;TZID=Europe/Vienna:20250830T183000
DTEND;TZID=Europe/Vienna:20250830T200000
DTSTAMP:20260425T172141
CREATED:20250814T054943Z
LAST-MODIFIED:20250817T122626Z
UID:28762-1756578600-1756584000@www.phantanoise.com
SUMMARY:VIO: so Thetys could nourish
DESCRIPTION:The Vienna Improvisers Orchestra (VIO)\, founded by Michael Fischer in 2004\, is one of the world’s most long-standing improvisation orchestras. The VIO’s unique approach\, known as “instant composition conducting\,” involves creating complex improvised music for large ensembles in real-time. This method is an evolution of Butch Morris’s “Conduction” technique\, which uses hand signs to guide the ensemble. The VIO’s instant compositions are characterized by several key principles: \n\nAd Hoc Creation: The music is created spontaneously by both the conductor and the musicians\, with no pre-planned structures or parts.\nMinimal Rehearsal: The ensemble only has a brief run-through of the hand signs before a performance.\nLong\, Narrative Pieces: The compositions are typically lengthy\, lasting between 35 and 50 minutes.\nRotating Ensemble: A new group of musicians performs at each concert\, often including at least one new member.\n\nThe orchestra has performed at major international festivals and venues\, including the Moers Festival in Germany\, Wien Modern\, and Porgy & Bess in Vienna. They have also appeared at prominent art institutions like Belvedere21 and Künstlerhaus Wien. \nMichael Fischer\, the VIO’s artistic director\, is a tenor saxophone and “feedback saxophone” player\, as well as a soundscape composer. As a conductor\, he has led improvising orchestras and large ensembles at institutions and festivals worldwide\, including Johns Hopkins University\, the University of California Irvine\, and the Creative Music Festival in Japan.
URL:https://www.phantanoise.com/event/vio-so-thetys-could-nourish/
LOCATION:Semmelweisklinik\, Hockegasse 37 Haus 4\, Wien\, 1180\, Austria
CATEGORIES:Concert,Vienna
END:VEVENT
BEGIN:VEVENT
DTSTART;TZID=Europe/Vienna:20250830T180000
DTEND;TZID=Europe/Vienna:20250830T183000
DTSTAMP:20260425T172141
CREATED:20250826T162338Z
LAST-MODIFIED:20250826T162338Z
UID:29676-1756576800-1756578600@www.phantanoise.com
SUMMARY:Cord Clamping by Jonathan Noch
DESCRIPTION:On Saturday 30.8. thedance production “Cord Clamping” premieres in JazzICord Clamping\nwith Elena Rebeccato & Fanny de Ponti \nDuration: ca. 30min \nA piece about liberation and resistance. A choreographic attempt to breach the cover of otherness. An inquiry in empathy. An antidote to the small and big oppressions of life. \n2 Performances: 6pm & 8pm\nPay as you can: 10€ I 15€ I 20€\nTickets via nachtmusik.org
URL:https://www.phantanoise.com/event/cord-clamping-by-jonathan-noch/
LOCATION:Jazzit Musik Club Salzburg\, Elisabethstraße 11\, Salzburg\, Salzburg\, 5020\, Austria
CATEGORIES:Dance
END:VEVENT
BEGIN:VEVENT
DTSTART;VALUE=DATE:20250830
DTEND;VALUE=DATE:20250908
DTSTAMP:20260425T172141
CREATED:20250812T104833Z
LAST-MODIFIED:20250817T122634Z
UID:28627-1756512000-1757289599@www.phantanoise.com
SUMMARY:Danza e Voce in Natura
DESCRIPTION:Attention: The seminar will NOT happen in Milano but at STROMBOLI contact KEA! \nA dance and voice seminar will take place on the island of Stromboli\, Sicily\, from August 30 to September 7\, 2025. Hosted by the Compagniakha\, the workshop will feature Kea Tonetti for dance (Butoh and Danza Sensibile®) and Tivitavi for voice (Sound Yoga\, Shamanic Singing). The event includes live music and will culminate in a final performance. The location is described as a magical and energetic place\, with black volcanic sand\, the revitalizing energy of the volcano\, and a unique natural environment.
URL:https://www.phantanoise.com/event/danza-e-voce-in-natura/
LOCATION:Spazio CONTINUUM\, Via Stendhal 43\, Milano\, Lombardia\, 20144\, Italy
CATEGORIES:Dance
END:VEVENT
BEGIN:VEVENT
DTSTART;VALUE=DATE:20250830
DTEND;VALUE=DATE:20250831
DTSTAMP:20260425T172141
CREATED:20250814T145801Z
LAST-MODIFIED:20250817T122701Z
UID:28849-1756512000-1756598399@www.phantanoise.com
SUMMARY:Monza Blitz & Joanna Coleman
DESCRIPTION:Im Rahmen von Gürtel Nightwalk
URL:https://www.phantanoise.com/event/monza-blitz-joanna-coleman/
LOCATION:volxkino\, Wien\, Austria
CATEGORIES:Concert,Vienna
END:VEVENT
BEGIN:VEVENT
DTSTART;TZID=Europe/Vienna:20250829T203000
DTEND;TZID=Europe/Vienna:20250829T220000
DTSTAMP:20260425T172141
CREATED:20250804T155559Z
LAST-MODIFIED:20250817T122709Z
UID:28222-1756499400-1756504800@www.phantanoise.com
SUMMARY:Aki Takase and Isabel Roessler
DESCRIPTION:Isabel Rößler | Bass | Aki Takase | Klavier
URL:https://www.phantanoise.com/event/aki-takase-and-isabel-roessler/
LOCATION:ausland\, Lychenerstraße 60\, Berlin\, Prenzlauer Berg\, Berlin\, 10437
CATEGORIES:Berlin,Concert
END:VEVENT
BEGIN:VEVENT
DTSTART;VALUE=DATE:20250829
DTEND;VALUE=DATE:20250831
DTSTAMP:20260425T172141
CREATED:20250814T181611Z
LAST-MODIFIED:20250814T181647Z
UID:28874-1756425600-1756598399@www.phantanoise.com
SUMMARY:Le Signal #5
DESCRIPTION:Festival-website   \nVENDREDI 29 AOUT \nZoe Heselton (FR/UK)\nAmédée de Murcia (FR)\nPassepartout Duo (US/IT) \nSAMEDI 30 AOUT 14h / Gîte Rivier’arts (5 mins de Gigors\, suivre les panneaux)\nLuci Schneider (FR)\nJacques Demierre & Jonas Kocher (CH) \nSAMEDI 30 AOUT 19h – Gigors Electric\nDans le désordre :\nLeoni Leoni (CH)\nOlaf bender/Byetone (DE)\nSignal Lapidaire /Rodolphe Loubatière et Paula Sanchez (FR/CH)\nFrank Bretschneider (DE)\nTDTNDG (FR)\nOlivier Brichet (FR)\nDJ Nerf \nCamping gratuit à Gigors Electric au bord de la rivière\, petit déj partagé\, douches\, toilettes\, en voiture\, camion ou tente.\nRestauration à base de pizzas\, galettes\, crêpes\, végé/pas végé avec la cantine de la plage (team Rompon RPZ) les soirs\, le midi\, all night… \n  \n 
URL:https://www.phantanoise.com/event/le-signal-5/
LOCATION:Gigors Electric\, Drome 26\, Gigors-et-Lozeron\, 26400\, France
CATEGORIES:Festival
END:VEVENT
BEGIN:VEVENT
DTSTART;TZID=Europe/Vienna:20250828T200000
DTEND;TZID=Europe/Vienna:20250828T220000
DTSTAMP:20260425T172141
CREATED:20250803T091402Z
LAST-MODIFIED:20250817T122743Z
UID:28106-1756411200-1756418400@www.phantanoise.com
SUMMARY:Ng–Henkel–Borghini // Mattrey–Salvo–Cajado
DESCRIPTION:
URL:https://www.phantanoise.com/event/ng-henkel-borghini-mattrey-salvo-cajado/
LOCATION:Richten25\, Gerichtstraße 25\, Berlin\, 13347\, Germany
CATEGORIES:Berlin,Concert
END:VEVENT
BEGIN:VEVENT
DTSTART;TZID=Europe/Vienna:20250827T200000
DTEND;TZID=Europe/Vienna:20250827T230000
DTSTAMP:20260425T172141
CREATED:20250812T105827Z
LAST-MODIFIED:20250817T122804Z
UID:28636-1756324800-1756335600@www.phantanoise.com
SUMMARY:Shelley Hirsh & Joke Lanz
DESCRIPTION:Shelley Hirsch (US): voiceJoke Lanz (CH/DE): turntables \nSHELLEY HIRSCH (New York) is “an unorthodox extraordinary fusion of vocalist\, composer and performance artist” (Anne LeBaron)\, whose work encompasses story telling pieces\, staged performances\, compositions\, improvisations\, collaborations\, installations and radio-plays\, which have been presented on 5 continents. .She has performed hundreds of concerts of improvised music with many musicians i.e. Anthony Coleman\, Christian Marclay\, Ikue Mori\, Toshio Kajiwara\, Hans Reichel\, Min Xiao Fen\, Paul Lovens\, DJ Olive\, Joey Baron\, Marc Ribot\, Butch Morris\, Elliot Sharp etc. She recorded for such labels as Tzadik\, No Mans Land\, Apollo\, Innocence Records\, FMP etc. with the likes of John Zorn\, David Weinstein\, Nicolas Collins\, Jon Rose\, Sven Ake Johannson\, Alexander von Schlippenbach\, Jin Hi Kim and many more..“A woman of thousand voices… She offers an enthralling demonstration of the way songs\, vocal styles and language might have evolved out of more primal musical impulses.” [New York Times]
URL:https://www.phantanoise.com/event/shelley-hirsh-joke-lanz/
LOCATION:exploratorium berlin\, Zossener Straße 24\, Berlin - Kreuzberg\, Berlin\, 10961
CATEGORIES:Berlin,Concert
END:VEVENT
BEGIN:VEVENT
DTSTART;TZID=Europe/Vienna:20250827T200000
DTEND;TZID=Europe/Vienna:20250827T230000
DTSTAMP:20260425T172141
CREATED:20250804T154145Z
LAST-MODIFIED:20250817T122821Z
UID:28208-1756324800-1756335600@www.phantanoise.com
SUMMARY:Eleusínia Mystéria Summer Edition 2508
DESCRIPTION:Eleusínia Mystéria\nOpen Jam Sessions\nHost: HARUKI NODA\nopen to all art disciplines and styles\nevery last Wednesday of the month\nbring your instruments\, gadgets and toys\nplay | connect | dream together
URL:https://www.phantanoise.com/event/eleusinia-mysteria-summer-edition-2508/
LOCATION:Coco Bar Vienna\, U-Bahn Bogen 35 und 35\, Wien\, 1080\, Austria
CATEGORIES:Session,Vienna
END:VEVENT
BEGIN:VEVENT
DTSTART;TZID=Europe/Vienna:20250824T183000
DTEND;TZID=Europe/Vienna:20250824T213000
DTSTAMP:20260425T172141
CREATED:20250814T163744Z
LAST-MODIFIED:20250817T122826Z
UID:28868-1756060200-1756071000@www.phantanoise.com
SUMMARY:Organ Sequences XVII
DESCRIPTION:Rebecca Lane | Flutes\nClara de Asís | Modular + Percussion\n»Quatre heures à Chatila«\nPHAORAH CHROMIUM\nUnknown »Armenian Organ Works«\nゴマサン | organ \n\nRebecca Lane\nis a composer and flutist who specializes in just intonation and pure tunings. She plays Kingma system quarter-tone flutes and works closely with composers like Catherine Lamb and performers like Clara de Asís. As a member of the Harmonic Space Orchestra\, she consistently challenges conventional tuning systems in her projects. \nListen to Rebecca Lane: https://discreeteditions.bandcamp.com/album/distances-bending \nPharoah Chromium\nPharoah Chromium is the project of German-Palestinian musician Ghazi Barakat. Named after a track by the band Chrome\, his music combines elements of Krautrock\, Industrial\, Free Jazz\, and Arabic soundscapes. His work\, released on labels like Grautag and Labelle69 and often in collaboration with artists like Günter Schickert\, results in ritualistic sound performances that blur the line between trance and presence. \nListen to Pharoah Chromium: https://pharoahchromium.bandcamp.com/album/jean-genet \nClara de Asís\nClara de Asís is a composer and sound artist born in Spain in 1988. Her work explores the interplay of acoustics\, time\, and attention. Using both electronic and acoustic instruments\, often in unconventional setups\, she creates performances\, installations\, and interdisciplinary collaborations. She has been an artist in residence at Q-O2 in Brussels and EMS in Stockholm\, and she is currently the co-artistic director of the Göteborg Art Sounds Festival. \nListen to Clara de Asís: https://discreeteditions.bandcamp.com/album/distances-bending \nGomāsan (Romain C. Bertheau)\nGomāsan\, also known as Romain C. Bertheau\, is a composer\, organist\, harpsichordist\, and no-input mixing board performer based in Berlin and Java. His work blends a minimalist sound aesthetic with improvised noise music. After several years in Asia recording traditional music\, he returned to Europe to focus on creating texture-rich works for the organ. \nListen to Gomāsan: https://romainbertheau.bandcamp.com/album/anatomy-of-a-bird
URL:https://www.phantanoise.com/event/organ-sequences-xvii/
LOCATION:Taborkirche Berlin Kreuzberg\, Taborstraße 17\, Berlin\, Berlin-Kreuzberg\, 10997\, Germany
CATEGORIES:Berlin,Concert
END:VEVENT
BEGIN:VEVENT
DTSTART;TZID=Europe/Vienna:20250823T210000
DTEND;TZID=Europe/Vienna:20250823T220000
DTSTAMP:20260425T172141
CREATED:20250823T154557Z
LAST-MODIFIED:20250823T154557Z
UID:29623-1755982800-1755986400@www.phantanoise.com
SUMMARY:Experimontag  Marta Zapparoli + Andrea Parkins + Lichene (DJ-Set)
DESCRIPTION:Marta Zapparoli\nExperimental\, sound art\, noise / From Italy based in Berlin \nIlektrofonitikos – is an improvised performance by Marta Zapparoli which explores the invisible web of radio waves throught real time detection of wireless\, using antennas and radio receivers incorporating CV synth and recorded signals on tapes. \nShe will create a captivating sonic landscape \, a real time flow of the inaudible. \nHome \n \nhttps://martazapparoli.bandcamp.com/ \n \nhttps://www.facebook.com/marta.zapparoli.3/ \n  \nAndrea Parkins\nElectroacoustic / Berlin \nAndrea Parkins will perform a new electroacoustic set for amplified objects\, electronics and small acoustic instruments. \nParkins’ works in sound incorporate subtle sonic examination of everyday objects and surfaces\, sculpted electronic feedback\, and investigation of embodiment and gesture with her custom-designed instruments. \nHer current research addresses her materials both past and present: amplified drawing tools\, electronic and acoustic instruments\, objects\, images\, and the-body-as-Foley. \nParkins’ performances and intermedia installations have been presented internationally\, at venues including the Whitney Museum of American Art\, Experimental Intermedia\, and Kunsthalle Basel; and festivals such as All Ears! (Oslo)\, Next (Bratislava)\, and Akousma (Montreal). \n \nhttps://andreaparkins.bandcamp.com/album/two-rooms-from-the-memory-palace \n \nhttps://www.instagram.com/andreamparkins/ \nhttps://www.facebook.com/andrea.parkins.16 \n  \n  \nLichene (DJ-Set)\nDrone / Ambient / Ritualist \nhttps://m.mixcloud.com/licia-lithium/ \nhttps://www.facebook.com/licia.elle \nhttps://www.instagram.com/licia_lithium_lichene/ \n 
URL:https://www.phantanoise.com/event/experimontag-marta-zapparoli-andrea-parkins-lichene-dj-set/
LOCATION:Madame Claude\, Lübbener Straße 19\, Berlin-Kreuzberg\, Berlin\, 10997
CATEGORIES:Berlin,Concert
END:VEVENT
BEGIN:VEVENT
DTSTART;TZID=Europe/Vienna:20250823T200000
DTEND;TZID=Europe/Vienna:20250823T223000
DTSTAMP:20260425T172141
CREATED:20250814T154712Z
LAST-MODIFIED:20250817T122836Z
UID:28858-1755979200-1755988200@www.phantanoise.com
SUMMARY:G A R A G E : < g h o s t s > sound [action:movement] poetry
DESCRIPTION:doors 19:30\nstart 20:00 sharp\nend 22:30\nFREE ADMISSION !\nbut donations for the artists are welcome. \nperformances I actions by\nZONE NULL\nTony Elieh – bass guitar\, live-electronics\nBurkhard Beins – bass guitar\, live-electronics\nhttps://www.burkhardbeins.de/groups/zone_null.html\n_____\nTHE SLANTED-STAGE EPISODE ABOUT FUTURE HAUNTINGS\nbroken imaginings in voice and fractured piano with a few guitar emissions\nDora Bleu\, narration\, voice impression\, guitar\, electronics\nU Moellhusen: fractured & detuned piano played with a number of objects\nhttps://soundcloud.com/dora-bleu/lion-and-mousehttps:// http://elektroakustischegarage.bandcamp.com/…/demagneti…\n_____\nGHOST IN THE SOUND\nby Tarufu [Japan]\nA set of several bone conduction transducers are used to vibrate all kinds of objects and produce special sounds. Woods\, glasses\, cans\, shells and other objects will tremble and their songs “Ghosts” will rise in the space.\n\nhttps://www.instagram.com/tarufumusic/\n_____\nand an unnamed special guest !!!\n_____
URL:https://www.phantanoise.com/event/g-a-r-a-g-e-g-h-o-s-t-s-sound-actionmovement-poetry/
LOCATION:Garage – Berlin Neukölln\, Karl- Marx-Strasse 204-206\, Berlin - Neukölln\, Berlin\, 12055\, Germany
CATEGORIES:Berlin,Concert
END:VEVENT
BEGIN:VEVENT
DTSTART;TZID=Europe/Vienna:20250820T203000
DTEND;TZID=Europe/Vienna:20250820T220000
DTSTAMP:20260425T172141
CREATED:20250816T135127Z
LAST-MODIFIED:20250817T122848Z
UID:29122-1755721800-1755727200@www.phantanoise.com
SUMMARY:NENDA
DESCRIPTION:WUK-Platzkonzert \nDie Tiroler Musikerin und Rapperin Nenda ist mixed race und hat ihre Heimat\, das Ötztal\, laut dem Text zu „Mixed Feelings“ verlassen\, weil sie dort zu oft gefragt wurde\, ob sie denn Deutsch verstehe. Heute lebt Nenda in London und widmet ihre Debütsingle dem Thema Alltagsrassismus: „too white\, not black enough“ (und umgekehrt)\, heißt es in den Lyrics und auch: „Österreich\, ist das das mit den Kängurus?“ Eine super-funky und auch lustige Nummer über all die Fragen und Verwirrungen\, denen Nenda sich im Alltag ausgesetzt sieht\, in UK ebenso wie in Österreich\, gesungen und gerappt im Sprachenmix aus Englisch und Tirolerisch.
URL:https://www.phantanoise.com/event/nenda/
LOCATION:WUK – Werkstätten‑ und Kulturhaus\, Währinger Straße 59\, Wien\, 1090\, Austria
CATEGORIES:Concert,Vienna
END:VEVENT
BEGIN:VEVENT
DTSTART;TZID=Europe/Vienna:20250820T180000
DTEND;TZID=Europe/Vienna:20250820T233000
DTSTAMP:20260425T172141
CREATED:20250818T153052Z
LAST-MODIFIED:20250818T155451Z
UID:29399-1755712800-1755732600@www.phantanoise.com
SUMMARY:Krach am Kanal 250820
DESCRIPTION:Gero von Randow\, projectvime\, VVV\, ratpack\, Pantanoise Artist\, Fahrradkette\, Armonie\, luqui\, alex \n“18h Eröffnung:\nRedebeitrag Krach am Kanal Clemens \n18:15 Soundart Act #1 Gero von Randow \n18:30 Soundart Act #2 projectvime \n19:00 Redebeitrag Krach am Kanal Vali \n19:15 SoundArt Act #3 VVV \n19:30 SoundArt Act #4 ratpack \n20:00 SoundArt Act #5 phantanoise \n20:30 DJ Set #1 Fahrradkette \n21:00 DJ Set #2 Armonia \n21:30 DJ Set #3 luqi \n22:00 DJ Set #4 alex \n“Da es diesmal vermutlich abends regnen wird\, werden wir wahrscheinlich unter dem Betonvorsprung neben dem Oskar Kokoschka Platz aufbauen!”
URL:https://www.phantanoise.com/event/krach-am-kanal-250820/
LOCATION:Krachkanal\, Oskar Kokoschkaplatz\, Wien\, Wien\, 1010
CATEGORIES:Concert,Vienna
END:VEVENT
BEGIN:VEVENT
DTSTART;TZID=Europe/Vienna:20250819T203000
DTEND;TZID=Europe/Vienna:20250819T220000
DTSTAMP:20260425T172141
CREATED:20250816T134847Z
LAST-MODIFIED:20250817T122905Z
UID:29119-1755635400-1755640800@www.phantanoise.com
SUMMARY:Kasho Chualan
DESCRIPTION:WUK-Platzkonzert \nKasho Chualan ist eine kurdisch-kanadische Pianistin\, Komponistin und multidisziplinäre Klangkünstlerin mit Lebensmittelpunkt in Wien. In ihrem Schaffen erkundet sie unermüdlich die Grenzen des Hörbaren – mit erweiterten Spieltechniken\, präpariertem Klavier\, Elektronik\, Spielzeugen und Tonbandmaterial. Ihre Klangsuche führt sie auf ungewöhnlichen Wegen: Sie manipuliert Resonanzkörper\, löst sich von tradierten Spielweisen und stellt gängige Vorstellungen davon infrage\, was ein Instrument ist – und sein darf. Ihre Kompositionen und Performances sind getragen von Grenzauflösungen\, Körperlichkeit\, experimenteller Improvisation und zwischenmenschlichen Konfrontation.
URL:https://www.phantanoise.com/event/kasho-chualan/
LOCATION:WUK – Werkstätten‑ und Kulturhaus\, Währinger Straße 59\, Wien\, 1090\, Austria
CATEGORIES:Concert,Vienna
END:VEVENT
END:VCALENDAR