BEGIN:VCALENDAR
VERSION:2.0
PRODID:-//Phantanoise© - ECPv6.15.20//NONSGML v1.0//EN
CALSCALE:GREGORIAN
METHOD:PUBLISH
X-WR-CALNAME:Phantanoise©
X-ORIGINAL-URL:https://www.phantanoise.com
X-WR-CALDESC:Events for Phantanoise©
REFRESH-INTERVAL;VALUE=DURATION:PT1H
X-Robots-Tag:noindex
X-PUBLISHED-TTL:PT1H
BEGIN:VTIMEZONE
TZID:Europe/Vienna
BEGIN:DAYLIGHT
TZOFFSETFROM:+0100
TZOFFSETTO:+0200
TZNAME:CEST
DTSTART:20240331T010000
END:DAYLIGHT
BEGIN:STANDARD
TZOFFSETFROM:+0200
TZOFFSETTO:+0100
TZNAME:CET
DTSTART:20241027T010000
END:STANDARD
BEGIN:DAYLIGHT
TZOFFSETFROM:+0100
TZOFFSETTO:+0200
TZNAME:CEST
DTSTART:20250330T010000
END:DAYLIGHT
BEGIN:STANDARD
TZOFFSETFROM:+0200
TZOFFSETTO:+0100
TZNAME:CET
DTSTART:20251026T010000
END:STANDARD
BEGIN:DAYLIGHT
TZOFFSETFROM:+0100
TZOFFSETTO:+0200
TZNAME:CEST
DTSTART:20260329T010000
END:DAYLIGHT
BEGIN:STANDARD
TZOFFSETFROM:+0200
TZOFFSETTO:+0100
TZNAME:CET
DTSTART:20261025T010000
END:STANDARD
END:VTIMEZONE
BEGIN:VEVENT
DTSTART;TZID=Europe/Vienna:20250820T180000
DTEND;TZID=Europe/Vienna:20250820T233000
DTSTAMP:20260425T172045
CREATED:20250818T153052Z
LAST-MODIFIED:20250818T155451Z
UID:29399-1755712800-1755732600@www.phantanoise.com
SUMMARY:Krach am Kanal 250820
DESCRIPTION:Gero von Randow\, projectvime\, VVV\, ratpack\, Pantanoise Artist\, Fahrradkette\, Armonie\, luqui\, alex \n“18h Eröffnung:\nRedebeitrag Krach am Kanal Clemens \n18:15 Soundart Act #1 Gero von Randow \n18:30 Soundart Act #2 projectvime \n19:00 Redebeitrag Krach am Kanal Vali \n19:15 SoundArt Act #3 VVV \n19:30 SoundArt Act #4 ratpack \n20:00 SoundArt Act #5 phantanoise \n20:30 DJ Set #1 Fahrradkette \n21:00 DJ Set #2 Armonia \n21:30 DJ Set #3 luqi \n22:00 DJ Set #4 alex \n“Da es diesmal vermutlich abends regnen wird\, werden wir wahrscheinlich unter dem Betonvorsprung neben dem Oskar Kokoschka Platz aufbauen!”
URL:https://www.phantanoise.com/event/krach-am-kanal-250820/
LOCATION:Krachkanal\, Oskar Kokoschkaplatz\, Wien\, Wien\, 1010
CATEGORIES:Concert,Vienna
END:VEVENT
BEGIN:VEVENT
DTSTART;TZID=Europe/Vienna:20250819T203000
DTEND;TZID=Europe/Vienna:20250819T220000
DTSTAMP:20260425T172045
CREATED:20250816T134847Z
LAST-MODIFIED:20250817T122905Z
UID:29119-1755635400-1755640800@www.phantanoise.com
SUMMARY:Kasho Chualan
DESCRIPTION:WUK-Platzkonzert \nKasho Chualan ist eine kurdisch-kanadische Pianistin\, Komponistin und multidisziplinäre Klangkünstlerin mit Lebensmittelpunkt in Wien. In ihrem Schaffen erkundet sie unermüdlich die Grenzen des Hörbaren – mit erweiterten Spieltechniken\, präpariertem Klavier\, Elektronik\, Spielzeugen und Tonbandmaterial. Ihre Klangsuche führt sie auf ungewöhnlichen Wegen: Sie manipuliert Resonanzkörper\, löst sich von tradierten Spielweisen und stellt gängige Vorstellungen davon infrage\, was ein Instrument ist – und sein darf. Ihre Kompositionen und Performances sind getragen von Grenzauflösungen\, Körperlichkeit\, experimenteller Improvisation und zwischenmenschlichen Konfrontation.
URL:https://www.phantanoise.com/event/kasho-chualan/
LOCATION:WUK – Werkstätten‑ und Kulturhaus\, Währinger Straße 59\, Wien\, 1090\, Austria
CATEGORIES:Concert,Vienna
END:VEVENT
END:VCALENDAR