BEGIN:VCALENDAR
VERSION:2.0
PRODID:-//Phantanoise© - ECPv6.15.20//NONSGML v1.0//EN
CALSCALE:GREGORIAN
METHOD:PUBLISH
X-WR-CALNAME:Phantanoise©
X-ORIGINAL-URL:https://www.phantanoise.com
X-WR-CALDESC:Events for Phantanoise©
REFRESH-INTERVAL;VALUE=DURATION:PT1H
X-Robots-Tag:noindex
X-PUBLISHED-TTL:PT1H
BEGIN:VTIMEZONE
TZID:Europe/Vienna
BEGIN:DAYLIGHT
TZOFFSETFROM:+0100
TZOFFSETTO:+0200
TZNAME:CEST
DTSTART:20250330T010000
END:DAYLIGHT
BEGIN:STANDARD
TZOFFSETFROM:+0200
TZOFFSETTO:+0100
TZNAME:CET
DTSTART:20251026T010000
END:STANDARD
BEGIN:DAYLIGHT
TZOFFSETFROM:+0100
TZOFFSETTO:+0200
TZNAME:CEST
DTSTART:20260329T010000
END:DAYLIGHT
BEGIN:STANDARD
TZOFFSETFROM:+0200
TZOFFSETTO:+0100
TZNAME:CET
DTSTART:20261025T010000
END:STANDARD
BEGIN:DAYLIGHT
TZOFFSETFROM:+0100
TZOFFSETTO:+0200
TZNAME:CEST
DTSTART:20270328T010000
END:DAYLIGHT
BEGIN:STANDARD
TZOFFSETFROM:+0200
TZOFFSETTO:+0100
TZNAME:CET
DTSTART:20271031T010000
END:STANDARD
END:VTIMEZONE
BEGIN:VEVENT
DTSTART;TZID=Europe/Vienna:20260924T200000
DTEND;TZID=Europe/Vienna:20260924T220000
DTSTAMP:20260425T125910
CREATED:20260206T111730Z
LAST-MODIFIED:20260206T111730Z
UID:30317-1790280000-1790287200@www.phantanoise.com
SUMMARY:Trio Stopkontakt: Bogner/Eberhard/Gross
DESCRIPTION:On the Couch ist eine Studiokonzertreihe mit Hauskonzertcharakter\, die monatlich (außer im Sommer) an einem Donnerstagabend im Studio Eberhard\, in der Salesianergasse 10/1 um 20h stattfindet. Entstanden ist sie 2012 aus einer Klangkunstausstellung des deutschen Musikrates. Kuratiert und organisiert vom Kulturverein On the Couch – zur Förderung von Kunst und Kultur in der Gesellschaft. Bisher fanden über 100 Konzerte statt. Der Schwerpunkt liegt auf aktueller Neuer Musik.\nDie Idee entstand aus dem Bedürfnis heraus\, professionelles Musikschaffen in die Intimität eines Salons zu bringen. Dadurch bietet sich die Möglichkeit\, MusikerInnen und Publikum nah zusammenzuführen\, sich über das Gehörte und Erlebte auszutauschen. Es geht um eine persönliche Gegenseitigkeit\, die im herkömmlichen Konzertbetrieb nicht vorkommt.
URL:https://www.phantanoise.com/event/trio-stopkontakt-bogner-eberhard-gross/
LOCATION:Studio Eberhard\, Salesianergasse 10/1\, Wien\, Wien\, 1030\, Austria
CATEGORIES:Concert,Vienna
END:VEVENT
BEGIN:VEVENT
DTSTART;TZID=Europe/Vienna:20261008T200000
DTEND;TZID=Europe/Vienna:20261008T220000
DTSTAMP:20260425T125910
CREATED:20260206T111828Z
LAST-MODIFIED:20260206T111828Z
UID:30319-1791489600-1791496800@www.phantanoise.com
SUMMARY:Isabella Forciniti\, Volkmar Klien
DESCRIPTION:On the Couch ist eine Studiokonzertreihe mit Hauskonzertcharakter\, die monatlich (außer im Sommer) an einem Donnerstagabend im Studio Eberhard\, in der Salesianergasse 10/1 um 20h stattfindet. Entstanden ist sie 2012 aus einer Klangkunstausstellung des deutschen Musikrates. Kuratiert und organisiert vom Kulturverein On the Couch – zur Förderung von Kunst und Kultur in der Gesellschaft. Bisher fanden über 100 Konzerte statt. Der Schwerpunkt liegt auf aktueller Neuer Musik.\nDie Idee entstand aus dem Bedürfnis heraus\, professionelles Musikschaffen in die Intimität eines Salons zu bringen. Dadurch bietet sich die Möglichkeit\, MusikerInnen und Publikum nah zusammenzuführen\, sich über das Gehörte und Erlebte auszutauschen. Es geht um eine persönliche Gegenseitigkeit\, die im herkömmlichen Konzertbetrieb nicht vorkommt.
URL:https://www.phantanoise.com/event/isabella-forciniti-volkmar-klien/
LOCATION:Studio Eberhard\, Salesianergasse 10/1\, Wien\, Wien\, 1030\, Austria
CATEGORIES:Concert,Vienna
END:VEVENT
END:VCALENDAR