BEGIN:VCALENDAR
VERSION:2.0
PRODID:-//Phantanoise© - ECPv6.15.20//NONSGML v1.0//EN
CALSCALE:GREGORIAN
METHOD:PUBLISH
X-WR-CALNAME:Phantanoise©
X-ORIGINAL-URL:https://www.phantanoise.com
X-WR-CALDESC:Events for Phantanoise©
REFRESH-INTERVAL;VALUE=DURATION:PT1H
X-Robots-Tag:noindex
X-PUBLISHED-TTL:PT1H
BEGIN:VTIMEZONE
TZID:Europe/Vienna
BEGIN:DAYLIGHT
TZOFFSETFROM:+0100
TZOFFSETTO:+0200
TZNAME:CEST
DTSTART:20250330T010000
END:DAYLIGHT
BEGIN:STANDARD
TZOFFSETFROM:+0200
TZOFFSETTO:+0100
TZNAME:CET
DTSTART:20251026T010000
END:STANDARD
BEGIN:DAYLIGHT
TZOFFSETFROM:+0100
TZOFFSETTO:+0200
TZNAME:CEST
DTSTART:20260329T010000
END:DAYLIGHT
BEGIN:STANDARD
TZOFFSETFROM:+0200
TZOFFSETTO:+0100
TZNAME:CET
DTSTART:20261025T010000
END:STANDARD
BEGIN:DAYLIGHT
TZOFFSETFROM:+0100
TZOFFSETTO:+0200
TZNAME:CEST
DTSTART:20270328T010000
END:DAYLIGHT
BEGIN:STANDARD
TZOFFSETFROM:+0200
TZOFFSETTO:+0100
TZNAME:CET
DTSTART:20271031T010000
END:STANDARD
END:VTIMEZONE
BEGIN:VEVENT
DTSTART;TZID=Europe/Vienna:20260411T140000
DTEND;TZID=Europe/Vienna:20260412T200000
DTSTAMP:20260424T161845
CREATED:20260317T142337Z
LAST-MODIFIED:20260317T142337Z
UID:30530-1775916000-1776024000@www.phantanoise.com
SUMMARY:Workshop: live coding with my frends on da computer
DESCRIPTION:Workshop with Martin Gius (aka. polymorphic engine):\nlive coding with my frends on da computer \nIn this workshop we will focus on the new livecoding language zwirn and how it can be used for networked\, collaborative creation of music. \nZwirn has been developed over the past few years taking inspiration from existing languages such as TidalCycles and Strudel. It’s simple syntax allows for great modularity and a high degree of abstraction making it an interesting tool both for improvisation and algorithmic composition. \nUsing the browser-based editor flok\, participants interact on the same document simultaneously and execute code in real-time remotely on their own laptops. The focus lies in explorative interactions within the possibilities language provides to create music as a networked ensemble. \nAt the end of the workshop will be a public livecoding session that serves as a playground for further explorations. \nDates & Times:\nSaturday\, 11 April\, 14:00–18:00 (Workshop)\nSunday\, 12 April\, 16:00–20:00 (Workshop)\nSunday\, 12 April\, 20:00– 22:00 (Public livecoding session) \nRequirements:\nZwirn is a beginner friendly language. No prerequisites in programming or music needed. Bring your own laptop. \nFee: 20 € per person – Free for those who cannot afford it \nPlease register via info@kvr.or.at \nLinks:\nhttps://codeberg.org/uzu/zwirn\nhttps://codeberg.org/munshkr/flok
URL:https://www.phantanoise.com/event/workshop-live-coding-with-my-frends-on-da-computer/
LOCATION:kvr – kulturverein rosalia\, Hernalser Hauptstrasse 86\, 1170 Wien
CATEGORIES:Vienna,Workshop
END:VEVENT
END:VCALENDAR