BEGIN:VCALENDAR
VERSION:2.0
PRODID:-//Phantanoise© - ECPv6.15.20//NONSGML v1.0//EN
CALSCALE:GREGORIAN
METHOD:PUBLISH
X-WR-CALNAME:Phantanoise©
X-ORIGINAL-URL:https://www.phantanoise.com
X-WR-CALDESC:Events for Phantanoise©
REFRESH-INTERVAL;VALUE=DURATION:PT1H
X-Robots-Tag:noindex
X-PUBLISHED-TTL:PT1H
BEGIN:VTIMEZONE
TZID:Europe/Vienna
BEGIN:DAYLIGHT
TZOFFSETFROM:+0100
TZOFFSETTO:+0200
TZNAME:CEST
DTSTART:20250330T010000
END:DAYLIGHT
BEGIN:STANDARD
TZOFFSETFROM:+0200
TZOFFSETTO:+0100
TZNAME:CET
DTSTART:20251026T010000
END:STANDARD
BEGIN:DAYLIGHT
TZOFFSETFROM:+0100
TZOFFSETTO:+0200
TZNAME:CEST
DTSTART:20260329T010000
END:DAYLIGHT
BEGIN:STANDARD
TZOFFSETFROM:+0200
TZOFFSETTO:+0100
TZNAME:CET
DTSTART:20261025T010000
END:STANDARD
BEGIN:DAYLIGHT
TZOFFSETFROM:+0100
TZOFFSETTO:+0200
TZNAME:CEST
DTSTART:20270328T010000
END:DAYLIGHT
BEGIN:STANDARD
TZOFFSETFROM:+0200
TZOFFSETTO:+0100
TZNAME:CET
DTSTART:20271031T010000
END:STANDARD
END:VTIMEZONE
BEGIN:VEVENT
DTSTART;TZID=Europe/Vienna:20260403T183000
DTEND;TZID=Europe/Vienna:20260403T203000
DTSTAMP:20260424T161845
CREATED:20260316T112234Z
LAST-MODIFIED:20260316T112234Z
UID:30463-1775241000-1775248200@www.phantanoise.com
SUMMARY:ROTOR – Fabian Lanzmaier | Daniel Haas - Kraken
DESCRIPTION:FABIAN LANZMAIER\nelectronic instruments\nFabian Lanzmaier is a musician and sound artist living in Vienna. He is currently focusing on live performances that incorporate real-time audio synthesis and multichannel speaker setups\, as well as site-specific audio installations\, which often emerge from collaborative processes. He is interested in the possibilities and surprises that arise when working with systems and situations involving chance and unpredictability.\nfabianlanzmaier.com\nand\nDANIEL HAAS – KRAKEN\naudio/light system\nKraken is an experimental software instrument\, a chaotic cross-feedback modulation system built from multiple oscillators. Together they form a complex synth voice that continuously reorganizes itself. The interaction emerges by shaping how much modulation flows between the voices and which parameters are affected. Even the smallest adjustment can trigger dramatic shifts\, since every element is intertwined.\nRather than aiming for stable or predictable results\, Kraken embraces instability as a creative force. It can be approached as a tool for live improvisation\, an autonomous sound-generating entity\, or as the core of an installation that evolves continuously without direct human control. Its sonic output shifts between dense noise textures\, fragile microtonal clusters\, and rhythm-like patterns that emerge and collapse in unexpected ways.\nThe project explores the boundaries between instrument and organism\, performer and system. By setting initial conditions and steering relationships between oscillators\, the performer initiates processes that take on a life of their own. Kraken becomes less about playing sounds and more about tending to a living sonic ecosystem.\nDANIEL HAAS\nDaniel Haas – mostly known as Sturmherta – is a musician\, sound artist\, and experimentalist who focuses on related fields such as digital sound synthesis methods\, chaotic systems\, and the translation of sound waves into different domains\, making them visible\, tangible\, or experienceable in other forms.
URL:https://www.phantanoise.com/event/rotor-fabian-lanzmaier-daniel-haas-kraken/
LOCATION:Factory (Künstlerhaus Wien)\, Karlsplatz 5\, Wien\, 1010\, Austria
CATEGORIES:Concert,Vienna
END:VEVENT
BEGIN:VEVENT
DTSTART;TZID=Europe/Vienna:20260403T200000
DTEND;TZID=Europe/Vienna:20260403T220000
DTSTAMP:20260424T161846
CREATED:20260316T114950Z
LAST-MODIFIED:20260316T114950Z
UID:30482-1775246400-1775253600@www.phantanoise.com
SUMMARY:Maria Salamon | Alessandro Vicard & Salvoandrea Lucifer
DESCRIPTION:Maria Salamon – trance-cendence\na string theory of foreign origin / frequency flowing through the veins of the observer / synesthetic soundscapes emerging out of the void / creating singularities between noise and silence / a sometimes musical journey through self and counterparts / transforming echoes of awareness into sonic waves / Maria Salamon – concept\, electronics\, electric violin\, launedda\, percussion electric violin\, sound effects and loops\, building a bridge between the now and the unknown. investigations into the disappearance of time in the artistic process. exploring music-induced trance as a state of being. a non-linear approach Maria Salamon is a transdisciplinary musician\, composer and artist from Vienna\, Austria. Their work includes live concerts\, sound performances as well as composition and arrangements for different ensembles and film. Maria Salamon is known for their multidisciplinary approach and collaborations with artists from various genres. \n 
URL:https://www.phantanoise.com/event/maria-salamon-alessandro-vicard-salvoandrea-lucifer/
LOCATION:v.e.k.k.s.\, Ratschkygasse 14/1\, Wien\, 1120\, Austria
CATEGORIES:Concert,Vienna
END:VEVENT
BEGIN:VEVENT
DTSTART;TZID=Europe/Vienna:20260403T203000
DTEND;TZID=Europe/Vienna:20260403T220000
DTSTAMP:20260424T161846
CREATED:20260316T125151Z
LAST-MODIFIED:20260316T125151Z
UID:30490-1775248200-1775253600@www.phantanoise.com
SUMMARY:Jérôme Noetinger & Angélica Castelló
DESCRIPTION:Angélica Castelló paetzold\, tapes\, radios\, electronics\nJérôme Noetinger revox\, radio\, tapes\, electronics \nCASTELLO & NOETINGER \n\nhttps://mikroton.bandcamp.com/album/disturbio
URL:https://www.phantanoise.com/event/jerome-noetinger-angelica-castello/
LOCATION:kvr – kulturverein rosalia\, Hernalser Hauptstrasse 86\, 1170 Wien
CATEGORIES:Concert,Vienna
END:VEVENT
END:VCALENDAR