BEGIN:VCALENDAR
VERSION:2.0
PRODID:-//Phantanoise© - ECPv6.15.20//NONSGML v1.0//EN
CALSCALE:GREGORIAN
METHOD:PUBLISH
X-ORIGINAL-URL:https://www.phantanoise.com
X-WR-CALDESC:Events for Phantanoise©
REFRESH-INTERVAL;VALUE=DURATION:PT1H
X-Robots-Tag:noindex
X-PUBLISHED-TTL:PT1H
BEGIN:VTIMEZONE
TZID:Europe/Vienna
BEGIN:DAYLIGHT
TZOFFSETFROM:+0100
TZOFFSETTO:+0200
TZNAME:CEST
DTSTART:20250330T010000
END:DAYLIGHT
BEGIN:STANDARD
TZOFFSETFROM:+0200
TZOFFSETTO:+0100
TZNAME:CET
DTSTART:20251026T010000
END:STANDARD
BEGIN:DAYLIGHT
TZOFFSETFROM:+0100
TZOFFSETTO:+0200
TZNAME:CEST
DTSTART:20260329T010000
END:DAYLIGHT
BEGIN:STANDARD
TZOFFSETFROM:+0200
TZOFFSETTO:+0100
TZNAME:CET
DTSTART:20261025T010000
END:STANDARD
BEGIN:DAYLIGHT
TZOFFSETFROM:+0100
TZOFFSETTO:+0200
TZNAME:CEST
DTSTART:20270328T010000
END:DAYLIGHT
BEGIN:STANDARD
TZOFFSETFROM:+0200
TZOFFSETTO:+0100
TZNAME:CET
DTSTART:20271031T010000
END:STANDARD
END:VTIMEZONE
BEGIN:VEVENT
DTSTART;TZID=Europe/Vienna:20260327T200000
DTEND;TZID=Europe/Vienna:20260327T220000
DTSTAMP:20260424T175130
CREATED:20260206T092521Z
LAST-MODIFIED:20260206T092521Z
UID:30297-1774641600-1774648800@www.phantanoise.com
SUMMARY:Alony/ Zeiner · kit cut
DESCRIPTION:Alony / Zeiner \nEfrat Alony – Stimme\, Elektronik\nVerena Zeiner – Klavier \nEfrat Alony und Verena Zeiner bilden ein außergewöhnliches Duo\, das diverse musikalische Stile und Traditionen meisterhaft in eine nahtlose und fesselnde Darbietung verschmelzen lässt. Jede Einzelne bringt unverwechselbare Farben in das Ensemble ein: Efrat Alonys Stimme\, voll und nuanciert\, verwebt lyrische Erzählungen mit klanglicher Vielseitigkeit Verena Zeiners am Klavier\, ausdrucksstark und dynamisch bewegt\, bildet ein Fundament aus dem sich Unerwartetes entwickeln kann. Gemeinsam erschaffen sie ein klangliches Gewebe\, das sowohl spontan als auch anspruchsvoll ist. Mit diesem Duo feiern die Musikerinnen ihre Leidenschaft für improvisierte Musik und laden das Publikum bei jeder Aufführung zu einer einzigartigen unwiederholbaren Reise ein. \n\n \nDie Wahlberlinerin aus Haifa stammende Sängerin und Komponistin Efrat Alony gehört „schon längst zu eine der wichtigsten Stimmen des europäischen Jazz“ ( /Ulf Drechsel\, Radio Berlin Brandenburg). Alony steht mit ihrem künstlerischen Profil für eigenwillige\, eigenständige und hochqualitative Musik. Ihr letztes Album „Hollywood Isn’t Calling“ ist vom Deutschen Jazzpreis 2022 als bestes Vokalalbum des Jahres ausgezeichnet worden und der Titel „My Shorthand Modes of Perception“ als beste Komposition nominiert. Ihr neues Album „Händel-Fast Forward “\, veröffentlicht bei dem renommierten New Yorker Label Dot Time Records\, ist mit dem „Opus Klassik Award“ 2024 in der Kategorie „Klassik Ohne Grenzen“ ausgezeichnet worden. Laut der Jury ist dieses Album „ein Beweis für Alony’s einzigartige Vision und Kreativität“. \nAlony studierte Gesang und Komposition an renommierten Internationalen Musikhochschulen (Rimon School of Jazz and Contemporary Music\, Israel; Berklee College of Music\, Boston und and der Hochschule für Musik Hanns Eisler\, Berlin). Mit „Alony“ wurde Efrat mit ihrer außerordentlichen Stimme gefeiert und vielfach preisgekrönt (u.a. Karl Hofer Prize\, Internationaler Jazz Preis der Nürnberger Nachrichten\, Preise des Berliner Senats\, den Gema Autorenpreis im Bereich Jazz Komposition oder die Nominierung für den BMW international Jazz Award). Im Sommer 2019 erhielt Alony in Los Angeles den „Winner of Best Foreign Artist“- Award im Rahmen des „Artemis Film Festival 2019“ im Bereich Komposition.\nAls Solistin und Komponistin arbeitet sie unter anderem mit dem Star-Pianist Igor Levit. mit der „Hessischen Rundfunk Bigband“ (Frankfurt)\, dem „Zürich Jazz Orchestra“\, dem „Jazz Orchestra Concertgebouw“ (Amsterdam)\, dem „Ed Partyka Jazz Orchestra“\, dem „Helsinki UMO Jazz Orchestra“ (Finnland)\, dem „Christoph Cech Jazz Orchestra“ (Wien) sowie dem „Swiss Jazz Orchestra“ und „Martin Streule Jazz Orchestra „(Bern) von 2009 bis 2023 war Alony Dozentin für Jazzgesang an der HKB\, Bern\, Schweiz. Seit Okt. 2023 ist Alony Prof.in für Jazz Gesang an der Bruckner Universität\, Linz. \nhttps://alony.de\nhttps://www.youtube.com/@efratalony\nhttps://www.instagram.com/efrat_alony/ \nVerena Zeiner ist Pianistin\, Improvisatorin und Komponistin. Sie ist in Ensembles aus den Bereichen Jazz und improvisierte Musik tätig\, ist Bandleaderin\, komponiert für eigene Besetzungen\, Kammermusik\, für Orchester und für transdisziplinäre Projekte. Sie hat mehrere Alben veröffentlicht und Auszeichnungen für ihre Arbeit als Pianistin und Komponistin erhalten. Das Herzstück ihrer künstlerischen Arbeit ist die Erforschung der Möglichkeiten von Improvisation. Ihr Zugang zu Musik ist stark in Bewegung\, Körperarbeit und Tanz verwurzelt.\nVerena Zeiner hat ihre Studien (Musik- und Bewegungspädagogik/Rhythmik; IGP Tasteninstrumente Popularmusik/ Jazzklavier) an der Universität für Musik und darstellende Kunst Wien und am Königlichen Konservatorium in Brüssel absolviert. Sie ist Mitgründerin der Plattform Fraufeld\, die sich dem Sichtbarmachen von Künstler*innen in der improvisierten Musik widmet\, Senior Lecturer für Improvisation an der Universität für Musik und darstellende Kunst Wien und Lecturer für das Free Jazz Ensemble sowie Jazz Komposition an der Musik und Kunst Privatuniversität der Stadt Wien. \nhttps://www.verenazeiner.at\nhttps://www.instagram.com/verenazeiner\nhttps://www.youtube.com/channel/UCAfpmiCgbkDe9fVluVyBb4A \nkit cut \nThomas Liesinger – Trompete & Elektronik\nBernhard Hadriga – Gitarre & Elektronik\nLan Sticker – Schlagzeug \nkit cut vereint die Instrumentalisten Bernhard Hadriga\, Thomas Liesinger und Lan Sticker zu einem kollektiven Klangkörper. Im Spannungsfeld von szenischer Improvisation und freier Komposition agiert das Ensemble als lebendiges Metainstrument\, in dem individuelle Stimmen zu einer kollektiven Form verschmelzen. Ihre Kompositionen entstehen frei und in Echtzeit. 2024 entstand radio edit\, ein Minialbum\, das als Vorbote und Dokument der Klangidentität des Trios dient. 2023 sah unter Anderem die Kollaboration mit der Filmemacherin Verena Repar. Der so entstandene Kurzfilm Echoes of Grief gewann mitunter die Haupt- und Publikumspreise beim Best Austrian Animation Festival 2023 und wurde beim Österreichischen Filmpreis 2023 in der Sparte Bester Kurzfilm nominiert. \nBernhard Anton Josef Hadriga (*1994) ist ein österreichischer Gitarrist und Improvisator mit Wurzeln im Weinviertel.Er absolvierte Studien in Jazz und Popularmusik (BA)\, wie Jazz und Improvisierter Musik (MA)\, jeweils mit Auszeichnung in Wien und Linz bei Martin Koller und Robert Pockfuß. Als freischaffender Künstler mit Lebensmittelpunkt in Wien geht Bernhard Hadriga verstärkt des Vokabularaufbaus im Kontext von Abstraktion der Gitarre und erweiterten Spieltechniken nach und arbeitet interdisziplinär als Musiker\, live und bei Tonträgeraufnahmen\, als auch als Produzent und Redakteur im Video- und Kurzfilmbereich \nLan Sticker (*1995\, Kärnten/Koroška) ist Schlagzeuger und Komponist. Aufgewachsen im\nzweisprachigen Kärnten/Koroška begann er früh mit dem Schlagzeugspiel und studierte Jazz-\nSchlagzeug bei Jeff Boudreaux und Herbert Pirker an der Anton Bruckner Privatuniversität\nLinz\, wo er sein Studium mit Auszeichnung abschloss. 2022 erhielt er ein Künstlerstipendium des\nLandes Kärnten. Lan Sticker arbeitet an der Schnittstelle von Jazz\, Improvisation\, zeitgenössischer Musik und Theater und ist in zahlreichen Bands und interdisziplinären Projekten aktiv. Ein besonderer Höhepunkt seiner jüngeren Arbeit war die Eröffnung der Wiener Festwochen 2025\, kuratiert von Milo Rau\, bei der er mit der Band Caravan of Luv gemeinsam mit u. a. Faber\, Nino aus Wien\, Khalid Rawi\, Soap&Skin\, Serge Kakudji\, dem Mozart Knabenchor Wien und einer Trachtenkapelle auftrat. Im selben Jahr war er als Live-Schlagzeuger und Komponist an den Theaterproduktionen „Tiefe Gewässer“ (Ars ex Machina\, Kärnten) und „Verschwinden in Lawinen“ am Tiroler Landestheater Innsbruck beteiligt. \nThomas Liesinger (*1987\, Bregenz) lebt und arbeitet als Live- und Studiomusiker im akustischen und elektronischen Kontext in Wien. Er studierte Trompete an der Universität für Musik und darstellende Kunst Wien. Im Mittelpunkt seiner künstlerischen Arbeit stehen freie Improvisation\, die Erarbeitung zeitgenössischer Spieltechniken und die elektronische Prozessierung des Trompetenklangs. Besonderen Fokus legt er auf transdisziplinäre Projekte und Kompositionsarbeiten für Ensembles\, Film und Tanz. \nhttps://kitcut.klingt.org/\nhttps://kitcut.bandcamp.com/album/radio-edit
URL:https://www.phantanoise.com/event/alony-zeiner-%c2%b7-kit-cut/
LOCATION:echoraum\, Sechshauserstrasse 66\, Wien\, Wien\, 1150\, Austria
CATEGORIES:Concert,Vienna
END:VEVENT
BEGIN:VEVENT
DTSTART;TZID=Europe/Vienna:20260327T203000
DTEND;TZID=Europe/Vienna:20260327T220000
DTSTAMP:20260424T175130
CREATED:20260316T125056Z
LAST-MODIFIED:20260316T125056Z
UID:30488-1774643400-1774648800@www.phantanoise.com
SUMMARY:Tápláléklánc\, R Moro\, Oscar der Winzige\, Martina Moro
DESCRIPTION:Tápláléklánc\nfeat. Lisa-Maria Hollaus\, Daniel Lercher\, Georg Zichy \nMetal oxide filtered natural tone collection. Enriched with carbon and electrolytes. Improvised processes\, structural scheme.\nhttps://www.instagram.com/i.lake.wav/\nhttps://gzgz.bandcamp.com/\nhttps://lercher.klingt.org/ \nR Moro\nLibrary music composer from Italy\n \nOscar Der Winzige\nRadio host at Radijo Musikii and co-founder of the Braille Satellite Festival.\n \nMartina Moro\nhttps://martinamoro.com/
URL:https://www.phantanoise.com/event/taplaleklanc-r-moro-oscar-der-winzige-martina-moro/
LOCATION:kvr – kulturverein rosalia\, Hernalser Hauptstrasse 86\, 1170 Wien
CATEGORIES:Concert,Vienna
END:VEVENT
END:VCALENDAR