BEGIN:VCALENDAR
VERSION:2.0
PRODID:-//Phantanoise© - ECPv6.15.20//NONSGML v1.0//EN
CALSCALE:GREGORIAN
METHOD:PUBLISH
X-ORIGINAL-URL:https://www.phantanoise.com
X-WR-CALDESC:Events for Phantanoise©
REFRESH-INTERVAL;VALUE=DURATION:PT1H
X-Robots-Tag:noindex
X-PUBLISHED-TTL:PT1H
BEGIN:VTIMEZONE
TZID:Europe/Vienna
BEGIN:DAYLIGHT
TZOFFSETFROM:+0100
TZOFFSETTO:+0200
TZNAME:CEST
DTSTART:20250330T010000
END:DAYLIGHT
BEGIN:STANDARD
TZOFFSETFROM:+0200
TZOFFSETTO:+0100
TZNAME:CET
DTSTART:20251026T010000
END:STANDARD
BEGIN:DAYLIGHT
TZOFFSETFROM:+0100
TZOFFSETTO:+0200
TZNAME:CEST
DTSTART:20260329T010000
END:DAYLIGHT
BEGIN:STANDARD
TZOFFSETFROM:+0200
TZOFFSETTO:+0100
TZNAME:CET
DTSTART:20261025T010000
END:STANDARD
BEGIN:DAYLIGHT
TZOFFSETFROM:+0100
TZOFFSETTO:+0200
TZNAME:CEST
DTSTART:20270328T010000
END:DAYLIGHT
BEGIN:STANDARD
TZOFFSETFROM:+0200
TZOFFSETTO:+0100
TZNAME:CET
DTSTART:20271031T010000
END:STANDARD
END:VTIMEZONE
BEGIN:VEVENT
DTSTART;TZID=Europe/Vienna:20260324T190000
DTEND;TZID=Europe/Vienna:20260324T220000
DTSTAMP:20260424T175826
CREATED:20260317T143119Z
LAST-MODIFIED:20260317T143119Z
UID:30532-1774378800-1774389600@www.phantanoise.com
SUMMARY:Pantet | Babikov | Pridal | Guionnet-Rosilio-Duit
DESCRIPTION:Pantet\nAnarchisches Improvisation Kollektiv aus Vermont (US)\nSteve Budington & Jeremy Harlos\, Gitarre\nDeborah Felmeth & Ron Rost\, Tasten\nBill Heminway & Heimo Wallner\, Trompete \nAlexander Babikov Solo\n“Discontinuous Observations”\nE.Guitar & Computer \nDavid Pridal Solo\n“Music for 3 Rooms” \nGUIONNET – ROSILIO – DUIT\n“Space & Time Improvisation trio”\nJean-Luc Guionnet : Sax\nYoram Rosilio : Contrabass\nValentin Duit : Drums
URL:https://www.phantanoise.com/event/pantet-babikov-pridal-guionnet-rosilio-duit/
LOCATION:Semmelweisklinik\, Hockegasse 37 Haus 4\, Wien\, 1180\, Austria
CATEGORIES:Concert,Vienna
END:VEVENT
END:VCALENDAR