BEGIN:VCALENDAR
VERSION:2.0
PRODID:-//Phantanoise© - ECPv6.15.20//NONSGML v1.0//EN
CALSCALE:GREGORIAN
METHOD:PUBLISH
X-ORIGINAL-URL:https://www.phantanoise.com
X-WR-CALDESC:Events for Phantanoise©
REFRESH-INTERVAL;VALUE=DURATION:PT1H
X-Robots-Tag:noindex
X-PUBLISHED-TTL:PT1H
BEGIN:VTIMEZONE
TZID:Europe/Vienna
BEGIN:DAYLIGHT
TZOFFSETFROM:+0100
TZOFFSETTO:+0200
TZNAME:CEST
DTSTART:20250330T010000
END:DAYLIGHT
BEGIN:STANDARD
TZOFFSETFROM:+0200
TZOFFSETTO:+0100
TZNAME:CET
DTSTART:20251026T010000
END:STANDARD
BEGIN:DAYLIGHT
TZOFFSETFROM:+0100
TZOFFSETTO:+0200
TZNAME:CEST
DTSTART:20260329T010000
END:DAYLIGHT
BEGIN:STANDARD
TZOFFSETFROM:+0200
TZOFFSETTO:+0100
TZNAME:CET
DTSTART:20261025T010000
END:STANDARD
BEGIN:DAYLIGHT
TZOFFSETFROM:+0100
TZOFFSETTO:+0200
TZNAME:CEST
DTSTART:20270328T010000
END:DAYLIGHT
BEGIN:STANDARD
TZOFFSETFROM:+0200
TZOFFSETTO:+0100
TZNAME:CET
DTSTART:20271031T010000
END:STANDARD
END:VTIMEZONE
BEGIN:VEVENT
DTSTART;TZID=Europe/Vienna:20260316T160000
DTEND;TZID=Europe/Vienna:20260317T220000
DTSTAMP:20260424T175929
CREATED:20260206T143027Z
LAST-MODIFIED:20260206T143027Z
UID:30361-1773676800-1773784800@www.phantanoise.com
SUMMARY:SO.UND.ING Acousmonium: INput
DESCRIPTION:Annual acousmatic music festival by CONA\, Floating Sound Gallery Vienna\, PiNA and Kino Šiška. \nArmando Balice\, Sophie Delafontaine\, Andrej Kobal\, Tetiana Khoroshun\, Patrick K.-H.\, Tilen Lebar\, Diego Losa\, Alastair McNeill\, Enrique Mendoza Mejia\, Maja Osojnik\, Christopher Sturmer\, Qingqing Teng\, Mauricio Valdés San Emeterio and Brane Zorman.
URL:https://www.phantanoise.com/event/so-und-ing-acousmonium-input/
LOCATION:Kino Šiška – Centre for Urban Culture\, prekomorskih brigad 3\, Ljubljana\, Ljubljana\, SI-1000\, Slovenia
CATEGORIES:Festival
END:VEVENT
END:VCALENDAR