BEGIN:VCALENDAR
VERSION:2.0
PRODID:-//Phantanoise© - ECPv6.15.20//NONSGML v1.0//EN
CALSCALE:GREGORIAN
METHOD:PUBLISH
X-ORIGINAL-URL:https://www.phantanoise.com
X-WR-CALDESC:Events for Phantanoise©
REFRESH-INTERVAL;VALUE=DURATION:PT1H
X-Robots-Tag:noindex
X-PUBLISHED-TTL:PT1H
BEGIN:VTIMEZONE
TZID:Europe/Vienna
BEGIN:DAYLIGHT
TZOFFSETFROM:+0100
TZOFFSETTO:+0200
TZNAME:CEST
DTSTART:20250330T010000
END:DAYLIGHT
BEGIN:STANDARD
TZOFFSETFROM:+0200
TZOFFSETTO:+0100
TZNAME:CET
DTSTART:20251026T010000
END:STANDARD
BEGIN:DAYLIGHT
TZOFFSETFROM:+0100
TZOFFSETTO:+0200
TZNAME:CEST
DTSTART:20260329T010000
END:DAYLIGHT
BEGIN:STANDARD
TZOFFSETFROM:+0200
TZOFFSETTO:+0100
TZNAME:CET
DTSTART:20261025T010000
END:STANDARD
BEGIN:DAYLIGHT
TZOFFSETFROM:+0100
TZOFFSETTO:+0200
TZNAME:CEST
DTSTART:20270328T010000
END:DAYLIGHT
BEGIN:STANDARD
TZOFFSETFROM:+0200
TZOFFSETTO:+0100
TZNAME:CET
DTSTART:20271031T010000
END:STANDARD
END:VTIMEZONE
BEGIN:VEVENT
DTSTART;TZID=Europe/Vienna:20260312T200000
DTEND;TZID=Europe/Vienna:20260312T220000
DTSTAMP:20260424T175925
CREATED:20260206T124459Z
LAST-MODIFIED:20260206T124459Z
UID:30353-1773345600-1773352800@www.phantanoise.com
SUMMARY:The Young Gods APPEAR DISAPPEAR
DESCRIPTION:Die Gitarren werden gezückt\, und die Messer werden gezogen. Auf dem Rhythmus einer Welt\, die aus den Fugen gerät\, passen The Young Gods ihr Feuer an und schlagen mit regenerierter Kraft zu. Von der ersten Sekunde von Appear Disappear an zerreisst die Sechssaitige den Raum und zeigt ihre Zähne in einem elektrischen Heulen. Das Trio hat sich auf seine offensivsten Grundlagen besonnen\, auf die Kunst des akustischen Kampfes\, die nie überflüssig ist\, wenn überall Krieg herrscht.\nSelten hat eine Platte der Young Gods so sehr von ihrer Zeit profitiert: Militärische Konflikte\, allgemeine Überwachung und intime Dramen. Seit ihrer Gründung 1985 hat die Band musikalische Gebiete erschlossen\, in denen sie als Pioniere die nackte Dringlichkeit des Rock mit der Kraft der Elektronik verband. Appear Disappear fängt das pulsierende Herz dieser Musik ein und ehrt ihre langjährigen Einflüsse\, vom Psychedelic Rock bis zum Post-Punk und Industrial.\n«Wir wollten etwas Rohes»\, fasst Franz Treichler\, Gitarrist und Sänger\, zusammen. «Nach dem atmosphärischen Rock von Data Mirage Tangram (2019) und dem Instrumentalstück von Terry Rileys In C (2022) brauchten und wollten wir uns frontaler ausdrücken.»\nEin Album des Widerstands. Mit seinen Themen und seiner Intensität führt es mitten ins Herz des Netzes. «Appear Disappear ist eine Reflexion über unsere Verwicklung in die Probleme der Welt und unsere Fähigkeit\, uns zu positionieren. Wie können wir reagieren\, wie können wir das Richtige tun in der Unmenge an Daten\, die wir jede Sekunde verarbeiten?»\, fragt der Sänger.\nDer Schlag ist körperlich\, der Tanz tribal. In Shine that Drone wird die Menge mit den Füssen auf den Boden gestampft. Blackwater feiert die neuen Werkzeuge des Widerstands.\nAber Appear Disappear ist auch – und vor allem – eine Liebesplatte. Eine Ode von Franz Treichler an seine 2023 verstorbene Frau Heleen. Blue Me Away hat die schönsten Explosionen des Albums\, die ehrlichsten Verpuffungen. Der Sänger ist sich sicher: «Das Chaos tanzt\, wenn sich die Tänze von Frauen und Männern vereinen.» Die Musik von The Young Gods ist der Soundtrack dazu.\nThe Young Gods – Systemized (Official Lyric Video)\nSupport: TOUT BLEU (CH) \nNEW ALBUM OUT IN MARCH 2026 \nTOUT BLEU is a crossover between sometimes melodic\, sometimes abrasive guitar riffs\, and vocal commitment of multi-instrumentist Simone Aubert (Massicot\, Hyperculte) and POL’s electronic composition. \nFor fans of Julia Holter\, Scott Walker\, Chelsea Wolfe\, Jenny Hval / Lost Girls\, Circuit des Yeux.
URL:https://www.phantanoise.com/event/the-young-gods-appear-disappear/
LOCATION:Flucc\, Praterstern 5\, Wien\, 1020\, Austria
CATEGORIES:Concert,Vienna
END:VEVENT
BEGIN:VEVENT
DTSTART;TZID=Europe/Vienna:20260312T200000
DTEND;TZID=Europe/Vienna:20260312T220000
DTSTAMP:20260424T175925
CREATED:20260216T115653Z
LAST-MODIFIED:20260216T115653Z
UID:30390-1773345600-1773352800@www.phantanoise.com
SUMMARY:Free Forms of Arts 2603 Wien
DESCRIPTION:ein freier dialog der kreativen : tänzerinnen\, musikerinnen\, malerinnen\, poetinnen und dem publikum ; das nicht existente JETZT greift auf raum und zeit zu. die FREIE KOMMUNIKATION rückt ins zentrum;\n-> frei im sinne von in „augenhöhe\, in gegenseitiger akzeptanz; hierarchie befreit bzw. befreiend“\, offen kommunizierend und grenzen überschreitend. FREE FORMS ist offen für alle genres soferne sie sich dem freien\, offenen\, kreativen dialog aussetzen wollen.\n-> JUST MUSIC ist teil der internationalen FREE FORMS bewegung.
URL:https://www.phantanoise.com/event/free-forms-of-arts-2603-wien/
LOCATION:v.e.k.k.s.\, Ratschkygasse 14/1\, Wien\, 1120\, Austria
CATEGORIES:Session,Vienna
END:VEVENT
END:VCALENDAR