BEGIN:VCALENDAR
VERSION:2.0
PRODID:-//Phantanoise© - ECPv6.15.20//NONSGML v1.0//EN
CALSCALE:GREGORIAN
METHOD:PUBLISH
X-ORIGINAL-URL:https://www.phantanoise.com
X-WR-CALDESC:Events for Phantanoise©
REFRESH-INTERVAL;VALUE=DURATION:PT1H
X-Robots-Tag:noindex
X-PUBLISHED-TTL:PT1H
BEGIN:VTIMEZONE
TZID:Europe/Vienna
BEGIN:DAYLIGHT
TZOFFSETFROM:+0100
TZOFFSETTO:+0200
TZNAME:CEST
DTSTART:20250330T010000
END:DAYLIGHT
BEGIN:STANDARD
TZOFFSETFROM:+0200
TZOFFSETTO:+0100
TZNAME:CET
DTSTART:20251026T010000
END:STANDARD
BEGIN:DAYLIGHT
TZOFFSETFROM:+0100
TZOFFSETTO:+0200
TZNAME:CEST
DTSTART:20260329T010000
END:DAYLIGHT
BEGIN:STANDARD
TZOFFSETFROM:+0200
TZOFFSETTO:+0100
TZNAME:CET
DTSTART:20261025T010000
END:STANDARD
BEGIN:DAYLIGHT
TZOFFSETFROM:+0100
TZOFFSETTO:+0200
TZNAME:CEST
DTSTART:20270328T010000
END:DAYLIGHT
BEGIN:STANDARD
TZOFFSETFROM:+0200
TZOFFSETTO:+0100
TZNAME:CET
DTSTART:20271031T010000
END:STANDARD
END:VTIMEZONE
BEGIN:VEVENT
DTSTART;TZID=Europe/Vienna:20260311T200000
DTEND;TZID=Europe/Vienna:20260311T220000
DTSTAMP:20260424T175924
CREATED:20260206T091602Z
LAST-MODIFIED:20260206T091621Z
UID:30286-1773259200-1773266400@www.phantanoise.com
SUMMARY:Playtypus Ensemble: Eine kleine Nacht Luciers
DESCRIPTION:Ausgehend von dem bekannten Stück “I’m sitting in a room” von Alvin Lucier entspringt die Idee für ein neues Klangexperiment von Masao Ono und Heimito von Wolfson. Das Klangmaterial entstammt dabei aus den verschiedenen Stadien des Originalstücks. Im Mittelpunkt steht auch hier der Prozess des wiederholten Aufnehmens und Wiedergebens. Was genau am Ende erklingen wird\, lassen die Komponisten\, wie Lucier auch\, dem Publikum\, den Musiker:innen und vor allem der Akustik des Echoraums über. \nProgramm: \nMasao Ono und Heimito von Wolfson – Neues Werk \nPlatypus Ensemble \nAnna Koch – Bassklarinette\nJan Satler – Klavier\nAnnette Fritz – Violine\nStefanie Prenn – Violoncello\nJaime Wolfson – Toy-Piano\nMasao Ono – Elektronik\nAron Ludwig – Klangregie
URL:https://www.phantanoise.com/event/eine-kleine-nacht-luciers/
LOCATION:echoraum\, Sechshauserstrasse 66\, Wien\, Wien\, 1150\, Austria
CATEGORIES:Concert,Vienna
END:VEVENT
END:VCALENDAR