BEGIN:VCALENDAR
VERSION:2.0
PRODID:-//Phantanoise© - ECPv6.15.20//NONSGML v1.0//EN
CALSCALE:GREGORIAN
METHOD:PUBLISH
X-WR-CALNAME:Phantanoise©
X-ORIGINAL-URL:https://www.phantanoise.com
X-WR-CALDESC:Events for Phantanoise©
REFRESH-INTERVAL;VALUE=DURATION:PT1H
X-Robots-Tag:noindex
X-PUBLISHED-TTL:PT1H
BEGIN:VTIMEZONE
TZID:Europe/Vienna
BEGIN:DAYLIGHT
TZOFFSETFROM:+0100
TZOFFSETTO:+0200
TZNAME:CEST
DTSTART:20250330T010000
END:DAYLIGHT
BEGIN:STANDARD
TZOFFSETFROM:+0200
TZOFFSETTO:+0100
TZNAME:CET
DTSTART:20251026T010000
END:STANDARD
BEGIN:DAYLIGHT
TZOFFSETFROM:+0100
TZOFFSETTO:+0200
TZNAME:CEST
DTSTART:20260329T010000
END:DAYLIGHT
BEGIN:STANDARD
TZOFFSETFROM:+0200
TZOFFSETTO:+0100
TZNAME:CET
DTSTART:20261025T010000
END:STANDARD
BEGIN:DAYLIGHT
TZOFFSETFROM:+0100
TZOFFSETTO:+0200
TZNAME:CEST
DTSTART:20270328T010000
END:DAYLIGHT
BEGIN:STANDARD
TZOFFSETFROM:+0200
TZOFFSETTO:+0100
TZNAME:CET
DTSTART:20271031T010000
END:STANDARD
END:VTIMEZONE
BEGIN:VEVENT
DTSTART;TZID=Europe/Vienna:20260228T200000
DTEND;TZID=Europe/Vienna:20260228T220000
DTSTAMP:20260424T174624
CREATED:20260216T115322Z
LAST-MODIFIED:20260216T115322Z
UID:30386-1772308800-1772316000@www.phantanoise.com
SUMMARY:Rovar17 | EMERGE
DESCRIPTION:The Rovar17\n(Insect17 in English) is basically Kálmán Pongrácz’s solo project\, but different kinds of collaboration often occur with musicians\, visual artists\, performers as well as theater. The music is made by audio-audio collage technique\, which rejects the traditional sound system\, harmony\, melody\, even rhythm\, and creates compositions from inconsistent and untempered sounds\, noises\, natural or electronic- but mostly human voices. This act has already seen more than 400 concerts and performances\, and has played all across Hungary\, in Austria\, Belarus\, Belgium\, Bulgaria\, Croatia\, the Czech Republic\, Denmark\, Estonia\, France\, Germany\, Indonesia\, Italy\, Latvia\, Lithuania\, Macedonia\, Malaysia\, Mexico\, Netherlands\, Norway\, Poland\, Portugal\, Romania\, Russia\, Serbia\, Slovakia\, Slovenia\, Spain\, Switzerland\, Thailand\, Turkey\, United Kingdom and the United States of America. The method of the Rovar17 audio collage technique: – first step: Creation. We create some artificial organisms. Because we have not got pure laboratory\, and we cannot groom test-tubes and instruments; the generated living beings are black-hearted. – second step: Sampling. We investigate the evil beings & make video and audio record of their behaviour. Eventually\, finds are presented live to the audience.\nhttps://www.facebook.com/rovar17\nhttps://havizaj.bandcamp.com/album/csonkolt-t-nd-r\n \nSascha Stadlmeier (b. 1977)\nhas been releasing electroacoustic music with his project EMERGE on international labels such as Drone Records\, aufabwegen\, Tâalem and Frozen Light since 2001. A composer working at the intersections of musique concrète\, drone\, and noise\, he has also been an increasingly active presence in the field of free improvisation since 2016. In addition to live electronics\, his improvisation practice involves guitar\, bass\, and amplified objects. Collaborations with other musicians from a very wide range of styles form an important part of his work\, with collaborators including RLW\, If\,Bwana\, Doc Wör Mirran and Toy Bizarre. He has been touring Europe extensively\, with concerts in France\, Belgium\, Italy\, Spain\, Switzerland\, Austria\, Russia\, Poland\, the Czech Republic\, Slovakia\, Hungary\, Slovenia\, Serbia\, and Bulgaria. His music has been presented at many international festivals including Avantgarde Festival\, lab30\, 20 years of MGNM\, Zasavje Noisefest\, Ecological Sound of Varna Fest and Autistic Campaign Fest. While a prolific composer and performer\, Stadlmeier has also created various sound installations and a radiophonic composition for West German Radio’s renowned Studio of Acoustic Art. Since 2010\, his label attenuation circuit has established itself as an important hub in the international experimental music scene\, with releases by more than 100 artists from numerous countries to date. attenuation circuit also regularly organised concerts of experimental music at Stadlmeier’s home base in Augsburg\, Germany.\n\nhttps://emergeac.wordpress.com/\nhttps://www.facebook.com/emerge.dependenz/\nhttps://immerge.bandcamp.com/
URL:https://www.phantanoise.com/event/rovar17-emerge/
LOCATION:v.e.k.k.s.\, Ratschkygasse 14/1\, Wien\, 1120\, Austria
CATEGORIES:Concert,Vienna
END:VEVENT
END:VCALENDAR