BEGIN:VCALENDAR
VERSION:2.0
PRODID:-//Phantanoise© - ECPv6.15.20//NONSGML v1.0//EN
CALSCALE:GREGORIAN
METHOD:PUBLISH
X-WR-CALNAME:Phantanoise©
X-ORIGINAL-URL:https://www.phantanoise.com
X-WR-CALDESC:Events for Phantanoise©
REFRESH-INTERVAL;VALUE=DURATION:PT1H
X-Robots-Tag:noindex
X-PUBLISHED-TTL:PT1H
BEGIN:VTIMEZONE
TZID:Europe/Vienna
BEGIN:DAYLIGHT
TZOFFSETFROM:+0100
TZOFFSETTO:+0200
TZNAME:CEST
DTSTART:20250330T010000
END:DAYLIGHT
BEGIN:STANDARD
TZOFFSETFROM:+0200
TZOFFSETTO:+0100
TZNAME:CET
DTSTART:20251026T010000
END:STANDARD
BEGIN:DAYLIGHT
TZOFFSETFROM:+0100
TZOFFSETTO:+0200
TZNAME:CEST
DTSTART:20260329T010000
END:DAYLIGHT
BEGIN:STANDARD
TZOFFSETFROM:+0200
TZOFFSETTO:+0100
TZNAME:CET
DTSTART:20261025T010000
END:STANDARD
BEGIN:DAYLIGHT
TZOFFSETFROM:+0100
TZOFFSETTO:+0200
TZNAME:CEST
DTSTART:20270328T010000
END:DAYLIGHT
BEGIN:STANDARD
TZOFFSETFROM:+0200
TZOFFSETTO:+0100
TZNAME:CET
DTSTART:20271031T010000
END:STANDARD
END:VTIMEZONE
BEGIN:VEVENT
DTSTART;TZID=Europe/Vienna:20260222T110000
DTEND;TZID=Europe/Vienna:20260222T220000
DTSTAMP:20260424T210414
CREATED:20260206T093348Z
LAST-MODIFIED:20260206T093348Z
UID:30303-1771758000-1771797600@www.phantanoise.com
SUMMARY:Reise Lenz
DESCRIPTION:Technoide Sprachkunstoper nach Georg Büchner \nEin fürchterlicher Text. Ein großartiger Text. Ein Text für die Gegenwart. \nDas “elfenstein ensemble” bewegt sich spielerisch zwischen Hochkultur und Pop. Seine technoide Sprachkunstoper verwandelt Literatur zu Musik – und wieder zurück. Worte werden zu Orten\, Sätze zu Gegenden\, der Text zur Landschaft. Es entsteht ein schillernder Raum voll Tiefe und Bedeutung\, voll heiliger Harmonie und lebendiger Leichtigkeit. \nMit REISE LENZ nach Georg Büchner greift das “elfenstein ensemble” auf einen der faszinierendsten Texte der Literatur zurück. In ihm werden große Fragen nach Wissen und Glauben\, nach dem Zustand des Individuums in einer Welt\, die kaum noch Halt bietet\, gestellt. Haben wir noch die Kontrolle – oder sind wir verloren wie ein trudelnder Kosmonaut im schwarzen Nichts des unendlichen Alls? \nMARTIN KREIDT Konzept\, Text\, Stimme\nHARALD G. KAINER elektronische Musik\nANDREA FISCHER Lektura\, Ausstattung\nwww.elfenstein-ensemble.com
URL:https://www.phantanoise.com/event/reise-lenz-2/
LOCATION:Das Dorf\, Obere Viaduktgasse 2/1\, Wien\, Wien\, 1030\, Austria
CATEGORIES:Concert,Vienna
END:VEVENT
END:VCALENDAR