BEGIN:VCALENDAR
VERSION:2.0
PRODID:-//Phantanoise© - ECPv6.15.20//NONSGML v1.0//EN
CALSCALE:GREGORIAN
METHOD:PUBLISH
X-WR-CALNAME:Phantanoise©
X-ORIGINAL-URL:https://www.phantanoise.com
X-WR-CALDESC:Events for Phantanoise©
REFRESH-INTERVAL;VALUE=DURATION:PT1H
X-Robots-Tag:noindex
X-PUBLISHED-TTL:PT1H
BEGIN:VTIMEZONE
TZID:Europe/Vienna
BEGIN:DAYLIGHT
TZOFFSETFROM:+0100
TZOFFSETTO:+0200
TZNAME:CEST
DTSTART:20250330T010000
END:DAYLIGHT
BEGIN:STANDARD
TZOFFSETFROM:+0200
TZOFFSETTO:+0100
TZNAME:CET
DTSTART:20251026T010000
END:STANDARD
BEGIN:DAYLIGHT
TZOFFSETFROM:+0100
TZOFFSETTO:+0200
TZNAME:CEST
DTSTART:20260329T010000
END:DAYLIGHT
BEGIN:STANDARD
TZOFFSETFROM:+0200
TZOFFSETTO:+0100
TZNAME:CET
DTSTART:20261025T010000
END:STANDARD
BEGIN:DAYLIGHT
TZOFFSETFROM:+0100
TZOFFSETTO:+0200
TZNAME:CEST
DTSTART:20270328T010000
END:DAYLIGHT
BEGIN:STANDARD
TZOFFSETFROM:+0200
TZOFFSETTO:+0100
TZNAME:CET
DTSTART:20271031T010000
END:STANDARD
END:VTIMEZONE
BEGIN:VEVENT
DTSTART;TZID=Europe/Vienna:20260220T200000
DTEND;TZID=Europe/Vienna:20260220T220000
DTSTAMP:20260424T210853
CREATED:20260206T115250Z
LAST-MODIFIED:20260218T104018Z
UID:30332-1771617600-1771624800@www.phantanoise.com
SUMMARY:Joaquin Ortega + Daniel Bierdümpfl\, Miriam Jochmann + Ellen Preuss
DESCRIPTION:Joaquin Ortega (guitar / impro)\nhttps://joaquinortega.eu/ \nDaniel Bierdümpfl (guitar / impro)\nhttps://bieri-bieri.com/ \nMiriam Jochmann\nEllen Preuss
URL:https://www.phantanoise.com/event/joaquin-ortega-daniel-bierdumpfl-miriam-jochmann-ellen-preuss/
LOCATION:kvr – kulturverein rosalia\, Hernalser Hauptstrasse 86\, 1170 Wien
CATEGORIES:Concert,Vienna
END:VEVENT
END:VCALENDAR