BEGIN:VCALENDAR
VERSION:2.0
PRODID:-//Phantanoise© - ECPv6.15.20//NONSGML v1.0//EN
CALSCALE:GREGORIAN
METHOD:PUBLISH
X-WR-CALNAME:Phantanoise©
X-ORIGINAL-URL:https://www.phantanoise.com
X-WR-CALDESC:Events for Phantanoise©
REFRESH-INTERVAL;VALUE=DURATION:PT1H
X-Robots-Tag:noindex
X-PUBLISHED-TTL:PT1H
BEGIN:VTIMEZONE
TZID:Europe/Vienna
BEGIN:DAYLIGHT
TZOFFSETFROM:+0100
TZOFFSETTO:+0200
TZNAME:CEST
DTSTART:20250330T010000
END:DAYLIGHT
BEGIN:STANDARD
TZOFFSETFROM:+0200
TZOFFSETTO:+0100
TZNAME:CET
DTSTART:20251026T010000
END:STANDARD
BEGIN:DAYLIGHT
TZOFFSETFROM:+0100
TZOFFSETTO:+0200
TZNAME:CEST
DTSTART:20260329T010000
END:DAYLIGHT
BEGIN:STANDARD
TZOFFSETFROM:+0200
TZOFFSETTO:+0100
TZNAME:CET
DTSTART:20261025T010000
END:STANDARD
BEGIN:DAYLIGHT
TZOFFSETFROM:+0100
TZOFFSETTO:+0200
TZNAME:CEST
DTSTART:20270328T010000
END:DAYLIGHT
BEGIN:STANDARD
TZOFFSETFROM:+0200
TZOFFSETTO:+0100
TZNAME:CET
DTSTART:20271031T010000
END:STANDARD
END:VTIMEZONE
BEGIN:VEVENT
DTSTART;TZID=Europe/Vienna:20260214T120000
DTEND;TZID=Europe/Vienna:20260214T180000
DTSTAMP:20260424T210851
CREATED:20260105T170624Z
LAST-MODIFIED:20260105T170624Z
UID:30225-1771070400-1771092000@www.phantanoise.com
SUMMARY:SAVINA YANNATOU Workshop zur freien Vokalimprovisation
DESCRIPTION:Workshop – Sa. 14. Februar\, 12:00 – 18:00 \nAnmelden
URL:https://www.phantanoise.com/event/savina-yannatou-workshop-zur-freien-vokalimprovisation/
LOCATION:mica\, Stiftgasse 29\, Wien\, Wien\, 1070\, Austria
CATEGORIES:Vienna,Workshop
END:VEVENT
BEGIN:VEVENT
DTSTART;TZID=Europe/Vienna:20260214T200000
DTEND;TZID=Europe/Vienna:20260214T220000
DTSTAMP:20260424T210851
CREATED:20260206T123803Z
LAST-MODIFIED:20260206T123803Z
UID:30347-1771099200-1771106400@www.phantanoise.com
SUMMARY:sample – schwebe. SprachKlangPerformance.
DESCRIPTION:Poetisch-musikalische Erkundungen zur Phänomenologie der Verwobenheit und gegenseitigen Bedeutungsaufladung von gesprochenem Wort und klanglicher Textur in einem ad hoc Setting inszeniert. Spontan gewählte Samples aus Texten\, simultan an 3 cd playern interpretiert\, ‘unterstützt’\, kontrastiert. – Ein morphologisch ad hoc entworfenes assoziationsreiches Ideen- und Interpretationsfeld\, filmisch sich entfaltend\, vernetzend\, fließend\, mit bizarr-beharrend und skurril-phantastischen Bildmomenten …\nSeit 2005 in Zusammenarbeit mit SchriftstellerInnen experimenteller Textformen\, entworfen in der Radiokunstreihe connex : context (Orange94.0); Gestaltung neuer Hörräume\, imaginativ\, on air und an realen Orten wie/für Ö1 Kunstradio\, Literaturhäuser Graz Wien und Innsbruck\, Kunsthaus Mürz\, Künstlerhaus Wien\, Goethe Institut San Francisco\, Beat Museum San Francisco\, Campus Radio Stanford University KZSU \, Stanford/Kalifornien\, Radio KFJC Los Altos Hills/Kalifornien\, Essl Museum\, Art Foundation Wien/Büro Weltausstellung\, Microfestival Praha\, Salon Praterstraße\, Rotunde Oberwart\, Forum Stadtpark\, DKT/SeeLab Aspern\, Festival Literatur in Grün\, Muth Wien u.a.. \ndas fröhliche wohnzimmer Ilse Kilic und Fritz Widhalm – Text\, Lesung\nMichael Fischer – ad hoc soundscaping an 3 cd-playern \ndas fröhliche wohnzimmer\nILSE KILIC\, geboren 1958 in Wien\, lebt im Fröhlichen Wohnzimmer (www.dfw.at). Schreibt\, zeichnet\, liest\, schwimmt allein und mit anderen. Seit 2019 Präsidentin der Grazer Autorinnen Autorenversammlung. Mitarbeit an der Radiosendung Literarische O-Töne seit 2020. Seit 1999 erscheint biennal der Verwicklungsroman.\nZuletzt: „Alter Ego. Mutprobe mit Zugaben”\, Ritter 2025 \nFRITZ WIDHALM\, geboren 1956 in Feichsen\, NÖ. Lebt seit 1976 in Wien. Schreibt konsequent und online an seinem Alterswerk auf www.dfw.at und veröffentlicht ansonsten gemeinsam mit Ilse Kilic Bücher:\nManchmal ist es aufregend\, zu aufregend sogar. Des Verwicklungsromans vierzehnter Teil\, Das fröhliche Wohnzimmer 2025\nFlugschrift: „Husch\, husch. Alterswerk”\, Literaturhaus Wien 2025\nChronik der kleinen Gedanken\, edition tagediebin 2024 \nMICHAEL FISCHER\, musician-composer im Bereich improvisierte und experimentelle Musik / noise / soundscapes sowie Arbeit an instant compositions conductings an der Sprachimmanenz von Klängen\, seit 1999 auch zum elektroakustischen Phänomen Feedback\, Entwicklung des feedback-saxophone.\nGründung des Vienna Improvisers Orchestra 2004\, mit Schwerpunktkooperationen in experimenteller Lyrik.\nZahlreiche Kooperationen mit Musiker-/KomponistInnen der internationalen Szene experimenteller Musik\, sowie mit KünstlerInnen/-kollektiven wie u.a. Marc Adrian\, Claudia Schumann\, Karin Ferrari\, Albert Mayr\, Nino Stelzl\, Liz King\, Baby-Q dance company Tokyo\, The Meeting Point Amsterdam;\nKonzerte\, Tourneen\, Projekte in Europa\, Libanon\, Kanada\, USA\, Japan u.a. Wien Modern\, High Zero Festival Baltimore\, Irtijal Festival Beirut\, Bunka Kaikan Tokyo\, Muziekgebouw Amsterdam;\nguest-lectures u.a. für University of California / Irvine\, The Johns Hopkins University Baltimore\, Newcastle University GB\, Universität für Architektur Vaduz.\nm.fischer.wuk.at/soundscaping \nDer Abend findet im Rahmen der Ausstellung In Memoriam: Onno Ennoson statt.
URL:https://www.phantanoise.com/event/sample-schwebe-sprachklangperformance/
LOCATION:Spitzer\, Taborstraße 10\, Wien\, Wien\, 1020
CATEGORIES:Performance,Vienna
END:VEVENT
BEGIN:VEVENT
DTSTART;TZID=Europe/Vienna:20260214T203000
DTEND;TZID=Europe/Vienna:20260214T220000
DTSTAMP:20260424T210851
CREATED:20260206T105711Z
LAST-MODIFIED:20260206T105711Z
UID:30305-1771101000-1771106400@www.phantanoise.com
SUMMARY:LOTinConcert: Klang-/Licht STROM + Natasha Moreno
DESCRIPTION:“Klang-/Licht STROM” is a collaborative project of Ben Bengler (music\, live electronics) and Thomas Geissl (light\, programming)\, performing together as Bengler/Geissl since 2018. It’s driven by their shared vision for creating performances where the audience is in the centre of things\, with sound and light unfolding around them. \nLargely free from strictly timed sequencing\, Bengler creates and evolves the music via real-time audio manipulation and sound processing techniques. The music is analysed in real-time and Geissl uses the derived data as a raw material\, augmenting and manipulating it with a custom software tool to play the spatial light setup. \nIn this way\, Bengler/Geissl conjure up an interconnected and fluid choreography of sound and light unfolding around the audience. \nNatasha Moreno is a live sound artist\, exploring psychoacoustic effects of repetition created by melancholic noisy modular synthesizer soundscapes.
URL:https://www.phantanoise.com/event/lotinconcert-klang-licht-strom-natasha-moreno-2/
LOCATION:Das Lot\, Absberggasse 31/2\, Wien\, Wien\, 1100\, Austria
CATEGORIES:Concert,Vienna
END:VEVENT
BEGIN:VEVENT
DTSTART;TZID=Europe/Vienna:20260214T203000
DTEND;TZID=Europe/Vienna:20260214T220000
DTSTAMP:20260424T210851
CREATED:20260206T115033Z
LAST-MODIFIED:20260210T074135Z
UID:30328-1771101000-1771106400@www.phantanoise.com
SUMMARY:lissa:schu collective\, Intakt III Tape Release
DESCRIPTION:Intakt III bringt Sound-Art-Studierende\, Alumni und Zuhörende im Rahmen einer Tape-Veröffentlichung zu einem gemeinsamen Abend in Wien zusammen. Ausgehend von unterschiedlichen künstlerischen Praktiken entsteht ein offener Raum für Listening\, Austausch und kollektives Erproben. Die Beiträge bewegen sich zwischen Field Recordings\, Noise\, performativem Klang\, Live-Sonifikation und prozessorientierten Experimenten. \nLissa:schu Collective: Im Mittelpunkt steht weniger das fertige Werk als der gemeinsame Prozess — Klang als Forschung\, als Dokument\, als soziale Praxis. Das Kollektiv versteht sich als temporäres Zusammenkommen sowie als wachsende\, erweiterte Sound-Art-Community: ein Moment des Teilens\, Testens und Weiterdenkens klangkünstlerischer Ansätze. \nwith live performances by: \nPaul Bießmann\nTill Bovermann\nNatyrë Elezi\nOphelia Flassig\nMaria Matinyan\nDimitra Pavlou\nAndres Ricardo Baquero\nAntonio Sarcinella\nElizaveta Trukhanova\nGeorg Volkert\nAlejandro Vega\nGeorg Zichy \nhttps://hmtmsoundart.bandcamp.com/album/intakt-ii
URL:https://www.phantanoise.com/event/lissaschu-collective-intakt-iii-tape-release/
LOCATION:kvr – kulturverein rosalia\, Hernalser Hauptstrasse 86\, 1170 Wien
CATEGORIES:Concert,Vienna
END:VEVENT
BEGIN:VEVENT
DTSTART;TZID=Europe/Vienna:20260214T203000
DTEND;TZID=Europe/Vienna:20260214T230000
DTSTAMP:20260424T210851
CREATED:20260105T165638Z
LAST-MODIFIED:20260105T165638Z
UID:30216-1771101000-1771110000@www.phantanoise.com
SUMMARY:LOTinConcert: Klang-/Licht STROM + Natasha Moreno
DESCRIPTION:Doors: 20:30\nVVK: 15€ // AK: 17€
URL:https://www.phantanoise.com/event/lotinconcert-klang-licht-strom-natasha-moreno/
LOCATION:Vienna
CATEGORIES:Concert,Vienna
END:VEVENT
END:VCALENDAR