BEGIN:VCALENDAR
VERSION:2.0
PRODID:-//Phantanoise© - ECPv6.15.20//NONSGML v1.0//EN
CALSCALE:GREGORIAN
METHOD:PUBLISH
X-ORIGINAL-URL:https://www.phantanoise.com
X-WR-CALDESC:Events for Phantanoise©
REFRESH-INTERVAL;VALUE=DURATION:PT1H
X-Robots-Tag:noindex
X-PUBLISHED-TTL:PT1H
BEGIN:VTIMEZONE
TZID:Europe/Vienna
BEGIN:DAYLIGHT
TZOFFSETFROM:+0100
TZOFFSETTO:+0200
TZNAME:CEST
DTSTART:20250330T010000
END:DAYLIGHT
BEGIN:STANDARD
TZOFFSETFROM:+0200
TZOFFSETTO:+0100
TZNAME:CET
DTSTART:20251026T010000
END:STANDARD
BEGIN:DAYLIGHT
TZOFFSETFROM:+0100
TZOFFSETTO:+0200
TZNAME:CEST
DTSTART:20260329T010000
END:DAYLIGHT
BEGIN:STANDARD
TZOFFSETFROM:+0200
TZOFFSETTO:+0100
TZNAME:CET
DTSTART:20261025T010000
END:STANDARD
BEGIN:DAYLIGHT
TZOFFSETFROM:+0100
TZOFFSETTO:+0200
TZNAME:CEST
DTSTART:20270328T010000
END:DAYLIGHT
BEGIN:STANDARD
TZOFFSETFROM:+0200
TZOFFSETTO:+0100
TZNAME:CET
DTSTART:20271031T010000
END:STANDARD
END:VTIMEZONE
BEGIN:VEVENT
DTSTART;TZID=Europe/Vienna:20260209T200000
DTEND;TZID=Europe/Vienna:20260209T220000
DTSTAMP:20260424T211921
CREATED:20260206T110714Z
LAST-MODIFIED:20260206T110714Z
UID:30309-1770667200-1770674400@www.phantanoise.com
SUMMARY:Monday Improvisers Session
DESCRIPTION:Cene Resnik |tenor sax\nJošt Drašler |bass\nhosted by Thomas Berghammer \n 
URL:https://www.phantanoise.com/event/monday-improvisers-session-8/
LOCATION:Celeste\, Hamburgerstraße 18\, Wien\, 1050\, Austria
CATEGORIES:Session,Vienna
END:VEVENT
END:VCALENDAR