BEGIN:VCALENDAR
VERSION:2.0
PRODID:-//Phantanoise© - ECPv6.15.20//NONSGML v1.0//EN
CALSCALE:GREGORIAN
METHOD:PUBLISH
X-WR-CALNAME:Phantanoise©
X-ORIGINAL-URL:https://www.phantanoise.com
X-WR-CALDESC:Events for Phantanoise©
REFRESH-INTERVAL;VALUE=DURATION:PT1H
X-Robots-Tag:noindex
X-PUBLISHED-TTL:PT1H
BEGIN:VTIMEZONE
TZID:Europe/Vienna
BEGIN:DAYLIGHT
TZOFFSETFROM:+0100
TZOFFSETTO:+0200
TZNAME:CEST
DTSTART:20250330T010000
END:DAYLIGHT
BEGIN:STANDARD
TZOFFSETFROM:+0200
TZOFFSETTO:+0100
TZNAME:CET
DTSTART:20251026T010000
END:STANDARD
BEGIN:DAYLIGHT
TZOFFSETFROM:+0100
TZOFFSETTO:+0200
TZNAME:CEST
DTSTART:20260329T010000
END:DAYLIGHT
BEGIN:STANDARD
TZOFFSETFROM:+0200
TZOFFSETTO:+0100
TZNAME:CET
DTSTART:20261025T010000
END:STANDARD
BEGIN:DAYLIGHT
TZOFFSETFROM:+0100
TZOFFSETTO:+0200
TZNAME:CEST
DTSTART:20270328T010000
END:DAYLIGHT
BEGIN:STANDARD
TZOFFSETFROM:+0200
TZOFFSETTO:+0100
TZNAME:CET
DTSTART:20271031T010000
END:STANDARD
END:VTIMEZONE
BEGIN:VEVENT
DTSTART;TZID=Europe/Vienna:20260207T200000
DTEND;TZID=Europe/Vienna:20260207T220000
DTSTAMP:20260424T210729
CREATED:20260206T085350Z
LAST-MODIFIED:20260206T085350Z
UID:30271-1770494400-1770501600@www.phantanoise.com
SUMMARY:Life Aquatic Quartett
DESCRIPTION:Liquid wie die Lyrik ihrer Lieder liebäugelt dieses Kollektiv mit den transparenten Übergängen zwischen Komposition und Improvisation. So darf streng Notiertes manchmal frei interpretiert werden während die tänzerische Freiheit auch mal als adretter Hörgenuss ertönen soll – Ansätze\,die das Repertoire der Band prägen. Die Kompositionen von Life Aquatic variieren zwischen verschiedenen musikalischen Genres. Contemporary Jazz\, freie Improvisation und Kammermusik verweben sich mit Einflüssen aus dem Indie Rock\, dem Alternative sowie aus osteuropäischer Musik – ein einzigartiges Konstrukt\, dessen Existenz auf die unterschiedlichen musikalischen Einflüsse der Bandmitglieder zurückzuführen ist. Life Aquatic sind raffinierte Geschichtenerzähler und laden den Zuhörer ein\, an ihrer Reise teilzunehmen – eine Reise ins Unbekannte.
URL:https://www.phantanoise.com/event/life-aquatic-quartett/
LOCATION:v.e.k.k.s.\, Ratschkygasse 14/1\, Wien\, 1120\, Austria
CATEGORIES:Concert,Vienna
END:VEVENT
END:VCALENDAR