BEGIN:VCALENDAR
VERSION:2.0
PRODID:-//Phantanoise© - ECPv6.15.20//NONSGML v1.0//EN
CALSCALE:GREGORIAN
METHOD:PUBLISH
X-ORIGINAL-URL:https://www.phantanoise.com
X-WR-CALDESC:Events for Phantanoise©
REFRESH-INTERVAL;VALUE=DURATION:PT1H
X-Robots-Tag:noindex
X-PUBLISHED-TTL:PT1H
BEGIN:VTIMEZONE
TZID:Europe/Vienna
BEGIN:DAYLIGHT
TZOFFSETFROM:+0100
TZOFFSETTO:+0200
TZNAME:CEST
DTSTART:20250330T010000
END:DAYLIGHT
BEGIN:STANDARD
TZOFFSETFROM:+0200
TZOFFSETTO:+0100
TZNAME:CET
DTSTART:20251026T010000
END:STANDARD
BEGIN:DAYLIGHT
TZOFFSETFROM:+0100
TZOFFSETTO:+0200
TZNAME:CEST
DTSTART:20260329T010000
END:DAYLIGHT
BEGIN:STANDARD
TZOFFSETFROM:+0200
TZOFFSETTO:+0100
TZNAME:CET
DTSTART:20261025T010000
END:STANDARD
BEGIN:DAYLIGHT
TZOFFSETFROM:+0100
TZOFFSETTO:+0200
TZNAME:CEST
DTSTART:20270328T010000
END:DAYLIGHT
BEGIN:STANDARD
TZOFFSETFROM:+0200
TZOFFSETTO:+0100
TZNAME:CET
DTSTART:20271031T010000
END:STANDARD
END:VTIMEZONE
BEGIN:VEVENT
DTSTART;TZID=Europe/Vienna:20260206T200000
DTEND;TZID=Europe/Vienna:20260206T220000
DTSTAMP:20260424T210539
CREATED:20260223T110850Z
LAST-MODIFIED:20260206T125344Z
UID:30313-1770408000-1770415200@www.phantanoise.com
SUMMARY:Monday Improvisers Session
DESCRIPTION:Klaus Filip |poool\nAlexander Babikov |guitar\nhosted by Susanna Gartmayer
URL:https://www.phantanoise.com/event/monday-improvisers-session-10/
LOCATION:Celeste\, Hamburgerstraße 18\, Wien\, 1050\, Austria
CATEGORIES:Session,Vienna
END:VEVENT
BEGIN:VEVENT
DTSTART;TZID=Europe/Vienna:20260206T210000
DTEND;TZID=Europe/Vienna:20260206T233000
DTSTAMP:20260424T210539
CREATED:20260206T123531Z
LAST-MODIFIED:20260206T123531Z
UID:30345-1770411600-1770420600@www.phantanoise.com
SUMMARY:Ausländer
DESCRIPTION:Esperimental Punk & Anti-Art Performance
URL:https://www.phantanoise.com/event/auslander/
LOCATION:Arenabeisl\, Baumgasse 80\, Wien\, Wien\, 1030\, Austria
CATEGORIES:Concert,Vienna
END:VEVENT
END:VCALENDAR