BEGIN:VCALENDAR
VERSION:2.0
PRODID:-//Phantanoise© - ECPv6.15.20//NONSGML v1.0//EN
CALSCALE:GREGORIAN
METHOD:PUBLISH
X-WR-CALNAME:Phantanoise©
X-ORIGINAL-URL:https://www.phantanoise.com
X-WR-CALDESC:Events for Phantanoise©
REFRESH-INTERVAL;VALUE=DURATION:PT1H
X-Robots-Tag:noindex
X-PUBLISHED-TTL:PT1H
BEGIN:VTIMEZONE
TZID:Europe/Vienna
BEGIN:DAYLIGHT
TZOFFSETFROM:+0100
TZOFFSETTO:+0200
TZNAME:CEST
DTSTART:20250330T010000
END:DAYLIGHT
BEGIN:STANDARD
TZOFFSETFROM:+0200
TZOFFSETTO:+0100
TZNAME:CET
DTSTART:20251026T010000
END:STANDARD
BEGIN:DAYLIGHT
TZOFFSETFROM:+0100
TZOFFSETTO:+0200
TZNAME:CEST
DTSTART:20260329T010000
END:DAYLIGHT
BEGIN:STANDARD
TZOFFSETFROM:+0200
TZOFFSETTO:+0100
TZNAME:CET
DTSTART:20261025T010000
END:STANDARD
BEGIN:DAYLIGHT
TZOFFSETFROM:+0100
TZOFFSETTO:+0200
TZNAME:CEST
DTSTART:20270328T010000
END:DAYLIGHT
BEGIN:STANDARD
TZOFFSETFROM:+0200
TZOFFSETTO:+0100
TZNAME:CET
DTSTART:20271031T010000
END:STANDARD
END:VTIMEZONE
BEGIN:VEVENT
DTSTART;VALUE=DATE:20260131
DTEND;VALUE=DATE:20260202
DTSTAMP:20260424T210740
CREATED:20250812T110835Z
LAST-MODIFIED:20250817T120336Z
UID:28647-1769817600-1769990399@www.phantanoise.com
SUMMARY:Symposium: »Improvisation und Resonanz«
DESCRIPTION:11. Symposium des exploratorium berlin\nSamstag\, 31. Januar – Sonntag\, 1. Februar 2026\nmit Auftakt am Freitag\, 30. Januar 2026\n> Mit Sofia Borges\, Christian Grüny\, Brad Henkel\, Charlotte Hug\, Thomas Lange\, Lê Quan Ninh\, Martin Pfleiderer\, Anna Pietsch\, Hartmut Rosa und anderen\n> Konferenz-Sprache: Deutsch\n…………………\n• Symposium – Thema & Programm: http://exploratorium-berlin.de/…/symposium…\n> Read in English: http://exploratorium-berlin.de/…/symposium…\n!! Anmeldung bis 25. Januar 2026\n.\n• Call for Papers (German only)\, Download: http://exploratorium-berlin.de/…/CfP_exploratorium…\n!! Bewerbung bis 15. Oktober 2025\n.\n=> Bewerbungen sowie Anmeldungen bitte senden an Mathias Maschat\, E-Mail: mm@exploratorium-berlin.de\n::::::::::::::::::::\nZum Thema:\nDas 11. vom exploratorium berlin ausgerichtete Symposium lädt dazu ein\, Improvisation als Resonanzgeschehen zu denken – ästhetisch und performativ\, sozial und epistemisch\, klanglich und körperlich. Im Zentrum steht die Auseinandersetzung mit freier\, experimenteller Improvisation in der Musik\, jedoch sollen auch Bezüge zu anderen avancierten Kunstformen hergestellt werden.\nWas bedeutet Resonanz im Kontext von Improvisation? Kann Resonanz als eine spezifische Qualität in Improvisationsprozessen verstanden werden? Wie wird Resonanz in improvisierten Prozessen erfahrbar – zwischen Menschen\, Räumen\, Klängen\, Zeiten? Und wie lässt sich das Momenthafte\, Situative\, das auf Antwort und Widerhall gerichtete Handeln der Improvisation über den Begriff der Resonanz analytisch fassen?\n::::::::::::::::::::\nZum Programm (Stand 7. August):\n• Auftakt Symposiums-Eröffnung | Fr 30. Januar 2026\, 20 Uhr\nSound & Lecture N° 27: Charlotte Hug / Lê Quan Ninh – Resonances\n> Performance + Talk in English\nhttp://exploratorium-berlin.de/…/sal27-charlotte-hug-le… | DE for German\n• Abend-Programm | Sa 31. Januar 2026\, 20 Uhr\nRecovered Resonances: Sofia Borges & Brad Henkel\n> Konzert und Performance\nhttp://exploratorium-berlin.de/…/recovered-resonances | EN for English\nwird fortlaufend aktualisiert / to be updated
URL:https://www.phantanoise.com/event/symposium-improvisation-und-resonanz/
LOCATION:exploratorium berlin\, Zossener Straße 24\, Berlin - Kreuzberg\, Berlin\, 10961
CATEGORIES:Festival
END:VEVENT
END:VCALENDAR