BEGIN:VCALENDAR
VERSION:2.0
PRODID:-//Phantanoise© - ECPv6.15.20//NONSGML v1.0//EN
CALSCALE:GREGORIAN
METHOD:PUBLISH
X-ORIGINAL-URL:https://www.phantanoise.com
X-WR-CALDESC:Events for Phantanoise©
REFRESH-INTERVAL;VALUE=DURATION:PT1H
X-Robots-Tag:noindex
X-PUBLISHED-TTL:PT1H
BEGIN:VTIMEZONE
TZID:Europe/Vienna
BEGIN:DAYLIGHT
TZOFFSETFROM:+0100
TZOFFSETTO:+0200
TZNAME:CEST
DTSTART:20240331T010000
END:DAYLIGHT
BEGIN:STANDARD
TZOFFSETFROM:+0200
TZOFFSETTO:+0100
TZNAME:CET
DTSTART:20241027T010000
END:STANDARD
BEGIN:DAYLIGHT
TZOFFSETFROM:+0100
TZOFFSETTO:+0200
TZNAME:CEST
DTSTART:20250330T010000
END:DAYLIGHT
BEGIN:STANDARD
TZOFFSETFROM:+0200
TZOFFSETTO:+0100
TZNAME:CET
DTSTART:20251026T010000
END:STANDARD
BEGIN:DAYLIGHT
TZOFFSETFROM:+0100
TZOFFSETTO:+0200
TZNAME:CEST
DTSTART:20260329T010000
END:DAYLIGHT
BEGIN:STANDARD
TZOFFSETFROM:+0200
TZOFFSETTO:+0100
TZNAME:CET
DTSTART:20261025T010000
END:STANDARD
BEGIN:DAYLIGHT
TZOFFSETFROM:+0100
TZOFFSETTO:+0200
TZNAME:CEST
DTSTART:20270328T010000
END:DAYLIGHT
BEGIN:STANDARD
TZOFFSETFROM:+0200
TZOFFSETTO:+0100
TZNAME:CET
DTSTART:20271031T010000
END:STANDARD
END:VTIMEZONE
BEGIN:VEVENT
DTSTART;VALUE=DATE:20251121
DTEND;VALUE=DATE:20260129
DTSTAMP:20260424T223153
CREATED:20250908T083526Z
LAST-MODIFIED:20250908T083526Z
UID:29938-1763683200-1769644799@www.phantanoise.com
SUMMARY:CoFestival\, the international festival of contemporary dance
DESCRIPTION:co-produced by Kino Šiška and Nomad Dance Academy\, returns with its 14th edition\, taking place from 21 to 28 November 2025 at Kino Šiška and other venues across Ljubljana. This year’s festival once again offers an outstanding international programme\, bringing together top-tier artists\, fresh choreographic approaches\, and a rich accompanying programme of talks\, workshops\, and social gatherings. \n\nThe title of Sonja Pregrad’s solo Object of Dance (2022) sets the tone for the artistic landscape addressed by the works of Berlin’s Dance On Ensemble under the joint name Making Dances. A short solo by Martha Graham\, Deep Song (1937)\, will be accompanied by an installation by director and performer Tim Etchells titled Everything/Nothing (2021)\, marking the first live presentation of Graham’s work in Slovenia. Dance On Ensemble also reconstructed Story (1963)\, Merce Cunningham’s legendary open work\, which prompted a choreographic response from French choreographer Mathilde Monnier\, titled Never Ending (Story) (2021). \nIn collaboration with the Forum for New Music\, the Old Power Station will host the premiere of Open Cage\, choreographed by Andreja Rauch Podrzavnik and Milan Tomášik\, featuring live performances of works from John Cage’s repertoire\, along with Rauch Podrzavnik’s own recent piece A Fold (2024). German choreographer Isabelle Schad returns with her latest piece Studies of Infinity #2 – Nudity and Landscape (2024)\, a sensitive closing to the Object of Dance section. \nFour contemporary expressions of subjectivity will unfold through four solo works: South African choreographer and dancer Tiran Willemse’s Blackmilk (2022)\, exploring the specific masculinities in South African pop culture; Batty Bwoy (2022)\, an anthological queer solo by rising European contemporary dance star Harald Baharie; and debut pieces by local dance artists Petja Golec Horvat (my own private\, Spring 2025) and Bor Prokofjev (Equilibrium\, 2024)\, the latter premiered at the Dance Theatre Ljubljana. \nThe programme also includes a presentation of choreographic artworks blending art and technology as part of the European project MODINA\, where dance artists collaborate with technologists and engineers to create choreo-digital situations\, accompanied by a dedicated conference strand. \nCo-produced by Kino Šiška and Nomad Dance Academy Slovenia\, the festival will also host talks\, workshops\, and social events that invite collective reflection on the programme. \nMark your calendars and stay tuned to the CoFestival channels — more programme details coming soon!
URL:https://www.phantanoise.com/event/cofestival-the-international-festival-of-contemporary-dance/
LOCATION:Kino Šiška – Centre for Urban Culture\, prekomorskih brigad 3\, Ljubljana\, Ljubljana\, SI-1000\, Slovenia
CATEGORIES:Dance
END:VEVENT
BEGIN:VEVENT
DTSTART;TZID=Europe/Vienna:20260109T190000
DTEND;TZID=Europe/Vienna:20260109T220000
DTSTAMP:20260424T223153
CREATED:20260105T161858Z
LAST-MODIFIED:20260105T161858Z
UID:30198-1767985200-1767996000@www.phantanoise.com
SUMMARY:Vernissage Chris Janka: Microtonal Chandalier · Phenomenal World
DESCRIPTION:Fischer\, Quehenberger\, Kern = Phenomenal World \nThere’s a new band in town\, and it’s called Phenomenal World !\nAfter years of crossing paths in the experimental music scene\, Michael Fischer (feedback-saxophone)\, Didi Kern (drums)\, and Philipp Quehenberger (keyboard) have finally come together to record their first album. The result is a raw\, dynamic exploration of sound —where intricate rhythmic play dances with shifting notions of time and space and melodies drift between tenderness and defiance\, reappearing in subtle variations – blurring the line between chaos and coherence with effortless fluidity. Phenomenal World delivers a visceral sonic journey—where punk energy collides with the depth and unpredictability of free improvisation. \nMichael Fischer arbeitet an der Sprachimmanenz von Klängen und ihrer skulpturalen und dramatischen Evidenz im Bereich der radikal frei improvisierten / experimentellen Musik. 1999 begann er\, das akustische Phänomen Feedback in seine Arbeit zu integrieren und entwickelte ein ausschließlich analoges\, effektfreies Instrument\, das Feedback-Saxophon\, das am ZKM – Zentrum für Kunst und Medientechnologie Karlsruhe oder STEIM Amsterdam weiterentwickelt wurde. Er ist Gründer zahlreicher Ensembles\, u.a. der langjährigen Projekte BAGG*FISH und M. A. D.; 2004 lancierte er das Vienna Improvisers Orchestra\, das u.a. beim Moers-Festival (D)\, Wien Modern oder der Vienna Art Week aufgetreten ist. Als instant composition conductor arbeitet er mit zahlreichen Improvisationsorchestern und temporären Großensembles für internationale Festivals\, Universitäten u. a. Institutionen. Seit Mitte der 90er Jahre Kooperationen in der internationalen Szene für Frei Improvisierte Musik und mit Schriftsteller:innen experimenteller Poesie; Tourneen und Festivalpräsenz in Europa\, Kanada\, USA und Japan. Zuletzt performative Lichtinstallationen NEON (für z.B. Donaufestival Krems\, Künstlerhaus Wien) oder ColorRaySaxophone (V.esch). Guest-lecturer an z.B. Peabody Institute – The Johns Hopkins University/USA\, University of California Irvine\, Newcastle University/UK\, Music Academy – University of Montenegro\, Janáček Academy of Music and Performing Arts Brno\, Universität für Musik und darstellende Kunst Wien\, die Angewandte Wien u.a.. \nDieter Kern ist nicht nur als präziser und vielseitiger Schlagzeuger der österreichischen Bands Bulbul und Fuckhead bekannt\, sondern hat sich auch einen Ruf in der improvisierten und freien Jazzszene erspielt\, indem er mit so namhaften Künstlern wie Satoko Fujii\, Linda Sharrock\, Saadet Türköz\, Marshall Allen\, Joe McPhee\, Ken Vandermark und Mayo Thompson zusammengearbeitet hat. Inzwischen gilt er als einer der geschäftigsten Schlagzeuger der Wiener Szene. Didi hat sich als ein einfallsreicher\, energischer Improvisator mit einem ausgeprägten Sinn für Humor etabliert. Er lebt und arbeitet in Wien. \nPhilipp Quehenberger\, geboren 1977 in Innsbruck\, aufgewachsen in Tirol\, Seattle (US) und Newcastle (GB). Lebt und arbeitet als freelance Musiker und Komponist in Wien.
URL:https://www.phantanoise.com/event/vernissage-chris-janka-microtonal-chandalier-%c2%b7-phenomenal-world/
LOCATION:echoraum\, Sechshauserstrasse 66\, Wien\, Wien\, 1150\, Austria
CATEGORIES:Concert,Vernissage,Vienna
END:VEVENT
BEGIN:VEVENT
DTSTART;TZID=Europe/Vienna:20260109T191500
DTEND;TZID=Europe/Vienna:20260109T220000
DTSTAMP:20260424T223153
CREATED:20260105T174051Z
LAST-MODIFIED:20260105T174051Z
UID:30231-1767986100-1767996000@www.phantanoise.com
SUMMARY:Lucent Gardens Live
DESCRIPTION:Vincent Pongracz\, clarinet\, electronic.\nFranz Hautzinger\, trumpet\, electronic.\nJakob Schneidewind\, el. bass.\nLukas König\, percussion\, electronic
URL:https://www.phantanoise.com/event/lucent-gardens-live/
LOCATION:Central Garden\, Untere Donaustraße Höhe 41\, Wien\, 1020\, Austria
CATEGORIES:Concert,Vienna
END:VEVENT
BEGIN:VEVENT
DTSTART;TZID=Europe/Vienna:20260109T193000
DTEND;TZID=Europe/Vienna:20260109T213000
DTSTAMP:20260424T223153
CREATED:20260105T170918Z
LAST-MODIFIED:20260105T170918Z
UID:30227-1767987000-1767994200@www.phantanoise.com
SUMMARY:josef KA: performance\, günter ZIMMERMANN: accordion \, ed REARDON: piano\, herbert LACINA: bass\, klavier\, Realisation
DESCRIPTION:pianokonklave / „the end of an ear “
URL:https://www.phantanoise.com/event/josef-ka-performance-gunter-zimmermann-accordion-ed-reardon-piano-herbert-lacina-bass-klavier-realisation/
LOCATION:kunstraum ewigkeitsgasse\, Thelemanngasse 6\, Wien\, Wien\, 1170\, Austria
CATEGORIES:Concert,Vienna
END:VEVENT
END:VCALENDAR