BEGIN:VCALENDAR
VERSION:2.0
PRODID:-//Phantanoise© - ECPv6.15.20//NONSGML v1.0//EN
CALSCALE:GREGORIAN
METHOD:PUBLISH
X-WR-CALNAME:Phantanoise©
X-ORIGINAL-URL:https://www.phantanoise.com
X-WR-CALDESC:Events for Phantanoise©
REFRESH-INTERVAL;VALUE=DURATION:PT1H
X-Robots-Tag:noindex
X-PUBLISHED-TTL:PT1H
BEGIN:VTIMEZONE
TZID:Europe/Vienna
BEGIN:DAYLIGHT
TZOFFSETFROM:+0100
TZOFFSETTO:+0200
TZNAME:CEST
DTSTART:20240331T010000
END:DAYLIGHT
BEGIN:STANDARD
TZOFFSETFROM:+0200
TZOFFSETTO:+0100
TZNAME:CET
DTSTART:20241027T010000
END:STANDARD
BEGIN:DAYLIGHT
TZOFFSETFROM:+0100
TZOFFSETTO:+0200
TZNAME:CEST
DTSTART:20250330T010000
END:DAYLIGHT
BEGIN:STANDARD
TZOFFSETFROM:+0200
TZOFFSETTO:+0100
TZNAME:CET
DTSTART:20251026T010000
END:STANDARD
BEGIN:DAYLIGHT
TZOFFSETFROM:+0100
TZOFFSETTO:+0200
TZNAME:CEST
DTSTART:20260329T010000
END:DAYLIGHT
BEGIN:STANDARD
TZOFFSETFROM:+0200
TZOFFSETTO:+0100
TZNAME:CET
DTSTART:20261025T010000
END:STANDARD
BEGIN:DAYLIGHT
TZOFFSETFROM:+0100
TZOFFSETTO:+0200
TZNAME:CEST
DTSTART:20270328T010000
END:DAYLIGHT
BEGIN:STANDARD
TZOFFSETFROM:+0200
TZOFFSETTO:+0100
TZNAME:CET
DTSTART:20271031T010000
END:STANDARD
END:VTIMEZONE
BEGIN:VEVENT
DTSTART;VALUE=DATE:20251121
DTEND;VALUE=DATE:20260129
DTSTAMP:20260425T015019
CREATED:20250908T083526Z
LAST-MODIFIED:20250908T083526Z
UID:29938-1763683200-1769644799@www.phantanoise.com
SUMMARY:CoFestival\, the international festival of contemporary dance
DESCRIPTION:co-produced by Kino Šiška and Nomad Dance Academy\, returns with its 14th edition\, taking place from 21 to 28 November 2025 at Kino Šiška and other venues across Ljubljana. This year’s festival once again offers an outstanding international programme\, bringing together top-tier artists\, fresh choreographic approaches\, and a rich accompanying programme of talks\, workshops\, and social gatherings. \n\nThe title of Sonja Pregrad’s solo Object of Dance (2022) sets the tone for the artistic landscape addressed by the works of Berlin’s Dance On Ensemble under the joint name Making Dances. A short solo by Martha Graham\, Deep Song (1937)\, will be accompanied by an installation by director and performer Tim Etchells titled Everything/Nothing (2021)\, marking the first live presentation of Graham’s work in Slovenia. Dance On Ensemble also reconstructed Story (1963)\, Merce Cunningham’s legendary open work\, which prompted a choreographic response from French choreographer Mathilde Monnier\, titled Never Ending (Story) (2021). \nIn collaboration with the Forum for New Music\, the Old Power Station will host the premiere of Open Cage\, choreographed by Andreja Rauch Podrzavnik and Milan Tomášik\, featuring live performances of works from John Cage’s repertoire\, along with Rauch Podrzavnik’s own recent piece A Fold (2024). German choreographer Isabelle Schad returns with her latest piece Studies of Infinity #2 – Nudity and Landscape (2024)\, a sensitive closing to the Object of Dance section. \nFour contemporary expressions of subjectivity will unfold through four solo works: South African choreographer and dancer Tiran Willemse’s Blackmilk (2022)\, exploring the specific masculinities in South African pop culture; Batty Bwoy (2022)\, an anthological queer solo by rising European contemporary dance star Harald Baharie; and debut pieces by local dance artists Petja Golec Horvat (my own private\, Spring 2025) and Bor Prokofjev (Equilibrium\, 2024)\, the latter premiered at the Dance Theatre Ljubljana. \nThe programme also includes a presentation of choreographic artworks blending art and technology as part of the European project MODINA\, where dance artists collaborate with technologists and engineers to create choreo-digital situations\, accompanied by a dedicated conference strand. \nCo-produced by Kino Šiška and Nomad Dance Academy Slovenia\, the festival will also host talks\, workshops\, and social events that invite collective reflection on the programme. \nMark your calendars and stay tuned to the CoFestival channels — more programme details coming soon!
URL:https://www.phantanoise.com/event/cofestival-the-international-festival-of-contemporary-dance/
LOCATION:Kino Šiška – Centre for Urban Culture\, prekomorskih brigad 3\, Ljubljana\, Ljubljana\, SI-1000\, Slovenia
CATEGORIES:Dance
END:VEVENT
BEGIN:VEVENT
DTSTART;TZID=Europe/Vienna:20251122T100000
DTEND;TZID=Europe/Vienna:20251123T173000
DTSTAMP:20260425T015019
CREATED:20250901T091328Z
LAST-MODIFIED:20250901T091328Z
UID:29725-1763805600-1763919000@www.phantanoise.com
SUMMARY:Falling with You – Contact Improvisation workshop with Urs Stauffer
DESCRIPTION:Falling with YouContact Improvisation workshop with Urs Stauffer\n—Workshop description—\nGravity – what ever it might be – was one of the all-time favorite subjects of Steve Paxton and probably one of the main issues we deal with in Contact Improvisation. The experience of it seems to come to our cellular awareness in some way as soon as we become mater. I would love to explore with you during this workshop the pleasure and joy of falling together with another person. Finding the excitement of falling\, of giving into it safely. I’m very much interested in finding ways to keep the dance going\, even in the moments when the best solution seems to fall into the arms of Mother Earth…\nAs always in my work\, my own experiences with Steve will be part of what I can share with you just as much as some principles from Body-Mind Centering® that I will introduce.\n—About Urs—\nI met Steve Paxton for the first time in 1989 and was deeply impressed by his dance. The year after\, 1990\, I had for the first time the chance to work with Bonnie Bainbridge Cohen and knew right away that Body-Mind Centering® would be a life time project for me. Ever since I kept working with both of these persons that are of great influence in my movement research. I am Somatic Movement Educator and Practitioner certified by the School of Body-Mind Centering and I share my understanding of Contact Improvisation with the personal agreement of Steve Paxton.\nBody-Mind Centering® and BMC® are registered service marks of Bonnie Bainbridge Cohen\, used with permission.\n—Date—\nNovember 22–23.Saturday–Sunday: 10:00 a.m.–1:00 p.m.; 2:30–5:30 p.m.\n—Location—\nJurányi\, Műhely Alapítvány\, Grabo 100 room.1027 Budapest\, Jurányi utca 1.\n—Prices—\nEarly Bird (until October 19): 40\,000 HUF/100 EURRegular price (after October 19): 50\,000 HUF/125 EUR\n—Registration and further information—\nDániel Attila Kovács9danielkovacs3@gmail.com
URL:https://www.phantanoise.com/event/falling-with-you-contact-improvisation-workshop-with-urs-stauffer/
LOCATION:Jurányi Ház\, Jurányi utca 1\, Budapest\, Budapest\, 1027\, Hungary
CATEGORIES:Workshop
END:VEVENT
BEGIN:VEVENT
DTSTART;TZID=Europe/Vienna:20251122T200000
DTEND;TZID=Europe/Vienna:20251122T220000
DTSTAMP:20260425T015019
CREATED:20250926T153019Z
LAST-MODIFIED:20250926T153019Z
UID:30103-1763841600-1763848800@www.phantanoise.com
SUMMARY:Modular Synthesizer Ensemble
DESCRIPTION:22.11. – 28.11.2025\nELBPHILHARMONIE / Hamburg
URL:https://www.phantanoise.com/event/modular-synthesizer-ensemble/
LOCATION:Elbphilharmonie\, Platz der Deutschen Einheit 4\, Hamburg\, Hamburg\, 20457\, Germany
CATEGORIES:Concert
END:VEVENT
END:VCALENDAR