BEGIN:VCALENDAR
VERSION:2.0
PRODID:-//Phantanoise© - ECPv6.15.20//NONSGML v1.0//EN
CALSCALE:GREGORIAN
METHOD:PUBLISH
X-ORIGINAL-URL:https://www.phantanoise.com
X-WR-CALDESC:Events for Phantanoise©
REFRESH-INTERVAL;VALUE=DURATION:PT1H
X-Robots-Tag:noindex
X-PUBLISHED-TTL:PT1H
BEGIN:VTIMEZONE
TZID:Europe/Vienna
BEGIN:DAYLIGHT
TZOFFSETFROM:+0100
TZOFFSETTO:+0200
TZNAME:CEST
DTSTART:20240331T010000
END:DAYLIGHT
BEGIN:STANDARD
TZOFFSETFROM:+0200
TZOFFSETTO:+0100
TZNAME:CET
DTSTART:20241027T010000
END:STANDARD
BEGIN:DAYLIGHT
TZOFFSETFROM:+0100
TZOFFSETTO:+0200
TZNAME:CEST
DTSTART:20250330T010000
END:DAYLIGHT
BEGIN:STANDARD
TZOFFSETFROM:+0200
TZOFFSETTO:+0100
TZNAME:CET
DTSTART:20251026T010000
END:STANDARD
BEGIN:DAYLIGHT
TZOFFSETFROM:+0100
TZOFFSETTO:+0200
TZNAME:CEST
DTSTART:20260329T010000
END:DAYLIGHT
BEGIN:STANDARD
TZOFFSETFROM:+0200
TZOFFSETTO:+0100
TZNAME:CET
DTSTART:20261025T010000
END:STANDARD
BEGIN:DAYLIGHT
TZOFFSETFROM:+0100
TZOFFSETTO:+0200
TZNAME:CEST
DTSTART:20270328T010000
END:DAYLIGHT
BEGIN:STANDARD
TZOFFSETFROM:+0200
TZOFFSETTO:+0100
TZNAME:CET
DTSTART:20271031T010000
END:STANDARD
END:VTIMEZONE
BEGIN:VEVENT
DTSTART;VALUE=DATE:20251119
DTEND;VALUE=DATE:20251122
DTSTAMP:20260425T015329
CREATED:20250915T144942Z
LAST-MODIFIED:20250915T144942Z
UID:30020-1763510400-1763769599@www.phantanoise.com
SUMMARY:New Adits Festival
DESCRIPTION:Mi. – 19. Nov. 2025 – Villa for Forest\n– Soundinstallation “animal-voice-pavilion”\nFabian Lanzinier & Paul Gründorfer”\n– ?\n– Christopher A. Williams\n– Session für improvisierte Musik\nhosted by Christopher A. Williams & Matthias Erian \nDo. – 20. Nov. 2025 – Villa for Forest\n– Soundinstallation “animal-voice-pavilion”\n– ?\n– Agar Agar\n– Emilie Škrijelj + Tom Malmendier \nFr. – 21. Nov. 2025 – Villa for Forest\n– Soundinstallation “animal-voice-pavilion”\n– Dora Donata Sammer\n– Etienne Nillesen\n– FRI3SER Trio (Lucca Fries) \nSa. – 22. Nov. 2025 – Villa for Forest\n– Soundinstallation “animal-voice-pavilion”\n– Zara Mahni\n– Ryan Kernoa\n– Winterreise – Clara Frühstück & Oliver Welter\n– Subletvis (Moritz Nahold)
URL:https://www.phantanoise.com/event/new-adits-festival/
LOCATION:Villa for Forest\, Viktringer Ring 21\, Klagenfurt\, Carinthia\, 9020\, Austria
CATEGORIES:Festival
END:VEVENT
BEGIN:VEVENT
DTSTART;VALUE=DATE:20251121
DTEND;VALUE=DATE:20260129
DTSTAMP:20260425T015329
CREATED:20250908T083526Z
LAST-MODIFIED:20250908T083526Z
UID:29938-1763683200-1769644799@www.phantanoise.com
SUMMARY:CoFestival\, the international festival of contemporary dance
DESCRIPTION:co-produced by Kino Šiška and Nomad Dance Academy\, returns with its 14th edition\, taking place from 21 to 28 November 2025 at Kino Šiška and other venues across Ljubljana. This year’s festival once again offers an outstanding international programme\, bringing together top-tier artists\, fresh choreographic approaches\, and a rich accompanying programme of talks\, workshops\, and social gatherings. \n\nThe title of Sonja Pregrad’s solo Object of Dance (2022) sets the tone for the artistic landscape addressed by the works of Berlin’s Dance On Ensemble under the joint name Making Dances. A short solo by Martha Graham\, Deep Song (1937)\, will be accompanied by an installation by director and performer Tim Etchells titled Everything/Nothing (2021)\, marking the first live presentation of Graham’s work in Slovenia. Dance On Ensemble also reconstructed Story (1963)\, Merce Cunningham’s legendary open work\, which prompted a choreographic response from French choreographer Mathilde Monnier\, titled Never Ending (Story) (2021). \nIn collaboration with the Forum for New Music\, the Old Power Station will host the premiere of Open Cage\, choreographed by Andreja Rauch Podrzavnik and Milan Tomášik\, featuring live performances of works from John Cage’s repertoire\, along with Rauch Podrzavnik’s own recent piece A Fold (2024). German choreographer Isabelle Schad returns with her latest piece Studies of Infinity #2 – Nudity and Landscape (2024)\, a sensitive closing to the Object of Dance section. \nFour contemporary expressions of subjectivity will unfold through four solo works: South African choreographer and dancer Tiran Willemse’s Blackmilk (2022)\, exploring the specific masculinities in South African pop culture; Batty Bwoy (2022)\, an anthological queer solo by rising European contemporary dance star Harald Baharie; and debut pieces by local dance artists Petja Golec Horvat (my own private\, Spring 2025) and Bor Prokofjev (Equilibrium\, 2024)\, the latter premiered at the Dance Theatre Ljubljana. \nThe programme also includes a presentation of choreographic artworks blending art and technology as part of the European project MODINA\, where dance artists collaborate with technologists and engineers to create choreo-digital situations\, accompanied by a dedicated conference strand. \nCo-produced by Kino Šiška and Nomad Dance Academy Slovenia\, the festival will also host talks\, workshops\, and social events that invite collective reflection on the programme. \nMark your calendars and stay tuned to the CoFestival channels — more programme details coming soon!
URL:https://www.phantanoise.com/event/cofestival-the-international-festival-of-contemporary-dance/
LOCATION:Kino Šiška – Centre for Urban Culture\, prekomorskih brigad 3\, Ljubljana\, Ljubljana\, SI-1000\, Slovenia
CATEGORIES:Dance
END:VEVENT
BEGIN:VEVENT
DTSTART;TZID=Europe/Vienna:20251121T193000
DTEND;TZID=Europe/Vienna:20251121T220000
DTSTAMP:20260425T015329
CREATED:20250804T102626Z
LAST-MODIFIED:20250817T105136Z
UID:28173-1763753400-1763762400@www.phantanoise.com
SUMMARY:Cosby
DESCRIPTION:
URL:https://www.phantanoise.com/event/cosby/
LOCATION:rhiz – contemporary underground\, Lerchenfelder Gürtel\, Stadtbahnbögen 37-38\, Wien\, 1080\, Austria
CATEGORIES:Vienna
END:VEVENT
BEGIN:VEVENT
DTSTART;TZID=Europe/Vienna:20251121T200000
DTEND;TZID=Europe/Vienna:20251121T220000
DTSTAMP:20260425T015329
CREATED:20250822T081017Z
LAST-MODIFIED:20250822T081357Z
UID:29579-1763755200-1763762400@www.phantanoise.com
SUMMARY:John Klirr (Album Release)\, Elsa Tootsie (Solo)
DESCRIPTION:JOHN KLIRR & DIE TAMTAM BAGAGE\nAlbum Release Show!\nJohn Klirr conveys expressiveness and a love of linguistic detail. Embodied and embellished by a distinctive voice: “You’re almost gone with the light of the sun.” Inspired by diverse sounds\, John Klirr addresses complex discrepancies and conveys them with the necessary power.\nEnergetically charged lyrics\, formulated both harshly and gently\, create a harmonious balance between remorseful narratives and daring\, groovy songs. Together with his band\, the “Tamtam Bagage\,” the instruments howl and wail\, wrapping themselves around his voice like a decorative garment. Always a bit unconventional\, they enrich the audience. John Klirr & die Tamtam Bagage manage to express their versatility and fill the musical horizon with the greatest possible freedom. John Klirr tells stories that promise an entertaining concert experience.\nELSA TOOTSIE\nElsa Tootsie opens up worlds of sound that may be new to many ears. On his albums “Trickle Down” (2016) and “II” (2020)\, he shows us that he is just as devoted to classic songwriting as he is to the joyful exploration of boundless sonic universes. Here\, conventions and expectations are thrown overboard with great joy. To describe his music\, he unashamedly borrows a term from American literature: country noir. An exceptionally accentuated\, raw\, and raucous blend of dark melodies and sincere folk litany.\n\nJOHN KLIRR & DIE TAMTAM BAGAGE\nAlbum Release Show!\nJohn Klirr vermittelt Ausdrucksstärke und Liebe zum sprachlichen Detail. Verkörpert und verziert durch eine markante Stimme:” You ́re almost gone with the light of the sun “.Inspiriert von vielseitigen Sounds thematisiert John Klirr vielschichtige Diskrepanzen und transportiert diese mit der nötigen Kraft.Energetisch geladene Texte\, hart und sanft formuliert. Daraus entsteht ein harmonisches Gleichgewicht zwischen reumütigen Erzählungen und gewagt-groovigen Liedern. Gemeinsam mit der Band\, die “Tamtam Bagage”\, heulen und jaulen die Instrumente und legen sich wie ein schmückendes Kleid um seine Stimme. Immer gerne etwas unkonventionell – eine Bereicherung für die Zuhörerschaft. John Klirr & die Tamtam Bagage schaffen es\, ihrer Vielseitigkeit Ausdruck zu verleihen und den musikalischen Horizont mit größtmöglicher Freiheit zu füllen. John Klirr erzählt Geschichten\, die ein kurzweiliges Konzerterlebnis versprechen.\nELSA TOOTSIEElsa Tootsie eröffnet uns Klangwelten\, die für so manches Ohr neu sein dürften. Auf seinen Alben „Trickle Down“ (2016) und „II“ (2020) zeigt er uns\, dass er dem klassischen Songwriting ebenso zugetan ist wie der lustvollen Erkundung grenzenloser Klanguniversen. Hier werden Konventionen und Erwartungshaltungen mit großer Freude über Bord geworfen. Um seine Musik zu beschreiben\, leiht er sich ungeniert einen Begriff aus der amerikanischen Literatur: Country Noir. Eine außergewöhnlich akzentuierte\, rohe und raue Mischung aus düsteren Melodien und aufrichtiger Folk-Litanei.
URL:https://www.phantanoise.com/event/john-klirr-album-release-elsa-tootsie-solo/
LOCATION:Vienna
CATEGORIES:Concert,Vienna
END:VEVENT
END:VCALENDAR