BEGIN:VCALENDAR
VERSION:2.0
PRODID:-//Phantanoise© - ECPv6.15.20//NONSGML v1.0//EN
CALSCALE:GREGORIAN
METHOD:PUBLISH
X-ORIGINAL-URL:https://www.phantanoise.com
X-WR-CALDESC:Events for Phantanoise©
REFRESH-INTERVAL;VALUE=DURATION:PT1H
X-Robots-Tag:noindex
X-PUBLISHED-TTL:PT1H
BEGIN:VTIMEZONE
TZID:Europe/Vienna
BEGIN:DAYLIGHT
TZOFFSETFROM:+0100
TZOFFSETTO:+0200
TZNAME:CEST
DTSTART:20240331T010000
END:DAYLIGHT
BEGIN:STANDARD
TZOFFSETFROM:+0200
TZOFFSETTO:+0100
TZNAME:CET
DTSTART:20241027T010000
END:STANDARD
BEGIN:DAYLIGHT
TZOFFSETFROM:+0100
TZOFFSETTO:+0200
TZNAME:CEST
DTSTART:20250330T010000
END:DAYLIGHT
BEGIN:STANDARD
TZOFFSETFROM:+0200
TZOFFSETTO:+0100
TZNAME:CET
DTSTART:20251026T010000
END:STANDARD
BEGIN:DAYLIGHT
TZOFFSETFROM:+0100
TZOFFSETTO:+0200
TZNAME:CEST
DTSTART:20260329T010000
END:DAYLIGHT
BEGIN:STANDARD
TZOFFSETFROM:+0200
TZOFFSETTO:+0100
TZNAME:CET
DTSTART:20261025T010000
END:STANDARD
END:VTIMEZONE
BEGIN:VEVENT
DTSTART;TZID=Europe/Vienna:20251115T200000
DTEND;TZID=Europe/Vienna:20251115T220000
DTSTAMP:20260425T015334
CREATED:20250929T110731Z
LAST-MODIFIED:20250929T110731Z
UID:30129-1763236800-1763244000@www.phantanoise.com
SUMMARY:Where Fortune Smiles 幸運が微笑む場所
DESCRIPTION:Mia Zabelka – Violine\, Stimme\, Live-Elektronik\nHerbert Lacina – Komposition\, 12-String Bass\, Elektronik\nYoko Miura – Komposition\, Klavier\, Melodica\nWolfgang Seligo – Klavier
URL:https://www.phantanoise.com/event/where-fortune-smiles-%e5%b9%b8%e9%81%8b%e3%81%8c%e5%be%ae%e7%ac%91%e3%82%80%e5%a0%b4%e6%89%80/
LOCATION:Amannstudios\, Neustiftgasse 68/23b\, Wien\, Wien\, 1070\, Austria
CATEGORIES:Concert,Vienna
END:VEVENT
END:VCALENDAR