BEGIN:VCALENDAR
VERSION:2.0
PRODID:-//Phantanoise© - ECPv6.15.20//NONSGML v1.0//EN
CALSCALE:GREGORIAN
METHOD:PUBLISH
X-ORIGINAL-URL:https://www.phantanoise.com
X-WR-CALDESC:Events for Phantanoise©
REFRESH-INTERVAL;VALUE=DURATION:PT1H
X-Robots-Tag:noindex
X-PUBLISHED-TTL:PT1H
BEGIN:VTIMEZONE
TZID:Europe/Vienna
BEGIN:DAYLIGHT
TZOFFSETFROM:+0100
TZOFFSETTO:+0200
TZNAME:CEST
DTSTART:20240331T010000
END:DAYLIGHT
BEGIN:STANDARD
TZOFFSETFROM:+0200
TZOFFSETTO:+0100
TZNAME:CET
DTSTART:20241027T010000
END:STANDARD
BEGIN:DAYLIGHT
TZOFFSETFROM:+0100
TZOFFSETTO:+0200
TZNAME:CEST
DTSTART:20250330T010000
END:DAYLIGHT
BEGIN:STANDARD
TZOFFSETFROM:+0200
TZOFFSETTO:+0100
TZNAME:CET
DTSTART:20251026T010000
END:STANDARD
BEGIN:DAYLIGHT
TZOFFSETFROM:+0100
TZOFFSETTO:+0200
TZNAME:CEST
DTSTART:20260329T010000
END:DAYLIGHT
BEGIN:STANDARD
TZOFFSETFROM:+0200
TZOFFSETTO:+0100
TZNAME:CET
DTSTART:20261025T010000
END:STANDARD
END:VTIMEZONE
BEGIN:VEVENT
DTSTART;TZID=Europe/Vienna:20251112T190000
DTEND;TZID=Europe/Vienna:20251112T220000
DTSTAMP:20260425T015332
CREATED:20250908T163325Z
LAST-MODIFIED:20250908T163325Z
UID:29979-1762974000-1762984800@www.phantanoise.com
SUMMARY:Improvised & Experimental No. 264 (sound installation)
DESCRIPTION:-Set 1- Klaus Janek (double bass)\, Milena Kipfmüller (electronics) & guest\n-Set 2- Denise Dombrowski (violin\, vocals\, guitar)\, Mark Loughrey (banjo\, mandolin\, vocals)\, Conor Cunningham (clarinet\, flute\, vocals)
URL:https://www.phantanoise.com/event/improvised-experimental-no-264-sound-installation/
LOCATION:Hošek Contemporary\, Fischerinsel 3\, Berlin - Mitte\, Berlin\, 10179\, Germany
CATEGORIES:Berlin,Concert
END:VEVENT
BEGIN:VEVENT
DTSTART;TZID=Europe/Vienna:20251112T193000
DTEND;TZID=Europe/Vienna:20251112T223000
DTSTAMP:20260425T015332
CREATED:20241019T134309Z
LAST-MODIFIED:20250817T120542Z
UID:916-1762975800-1762986600@www.phantanoise.com
SUMMARY:Free Forms 2411 Brno
DESCRIPTION:Once a month\, the Free Forms Of Arts organize a musical gathering in Brno. \n 
URL:https://www.phantanoise.com/event/free-forms-2411-brno/
LOCATION:Ponava Café & Restaurant\, Lužánecká 3\, Brno\, Brmo\, 60200\, Czech Republic
CATEGORIES:Session
END:VEVENT
BEGIN:VEVENT
DTSTART;TZID=Europe/Vienna:20251112T200000
DTEND;TZID=Europe/Vienna:20251112T220000
DTSTAMP:20260425T015332
CREATED:20250804T153619Z
LAST-MODIFIED:20250817T120530Z
UID:28206-1762977600-1762984800@www.phantanoise.com
SUMMARY:Free Forms of Arts 2511 Brno
DESCRIPTION:Each and every month the Free Forms of Arts collective meets for free improvising more: https://www.freeformsof.art
URL:https://www.phantanoise.com/event/free-forms-of-arts-2511-brno/
LOCATION:Ponava Café & Restaurant\, Lužánecká 3\, Brno\, Brmo\, 60200\, Czech Republic
CATEGORIES:Session
END:VEVENT
BEGIN:VEVENT
DTSTART;TZID=Europe/Vienna:20251112T220000
DTEND;TZID=Europe/Vienna:20251112T233000
DTSTAMP:20260425T015332
CREATED:20250929T110119Z
LAST-MODIFIED:20250929T110119Z
UID:30125-1762984800-1762990200@www.phantanoise.com
SUMMARY:SFIEMA in Kooperation mit Wien Modern: Heimat\, fremde Heimat.
DESCRIPTION:“One.Night.Band” \n\nMia Zabelka – Violine\, Stimme\, Live-Elektronik\nSainkho Namtchylak – Stimme\nPhil Durrant – Live-Elektronik\nHerbert Lacina – 12 String Bass\, Elektronik\n\nFranz Schubert –  Moderation\n\nWIEN MODERN #38 “late night” im KORB; Produktion:\nSFIEMA Koproduktion: Wien Modern\, Kuratiert von Mia Zabelka und Herbert Lacina
URL:https://www.phantanoise.com/event/sfiema-in-kooperation-mit-wien-modern-heimat-fremde-heimat/
LOCATION:Café Korb\, Brandstätte 9\, Wien\, 1010\, Austria
CATEGORIES:Concert,Vienna
END:VEVENT
END:VCALENDAR