BEGIN:VCALENDAR
VERSION:2.0
PRODID:-//Phantanoise© - ECPv6.15.20//NONSGML v1.0//EN
CALSCALE:GREGORIAN
METHOD:PUBLISH
X-WR-CALNAME:Phantanoise©
X-ORIGINAL-URL:https://www.phantanoise.com
X-WR-CALDESC:Events for Phantanoise©
REFRESH-INTERVAL;VALUE=DURATION:PT1H
X-Robots-Tag:noindex
X-PUBLISHED-TTL:PT1H
BEGIN:VTIMEZONE
TZID:Europe/Vienna
BEGIN:DAYLIGHT
TZOFFSETFROM:+0100
TZOFFSETTO:+0200
TZNAME:CEST
DTSTART:20240331T010000
END:DAYLIGHT
BEGIN:STANDARD
TZOFFSETFROM:+0200
TZOFFSETTO:+0100
TZNAME:CET
DTSTART:20241027T010000
END:STANDARD
BEGIN:DAYLIGHT
TZOFFSETFROM:+0100
TZOFFSETTO:+0200
TZNAME:CEST
DTSTART:20250330T010000
END:DAYLIGHT
BEGIN:STANDARD
TZOFFSETFROM:+0200
TZOFFSETTO:+0100
TZNAME:CET
DTSTART:20251026T010000
END:STANDARD
BEGIN:DAYLIGHT
TZOFFSETFROM:+0100
TZOFFSETTO:+0200
TZNAME:CEST
DTSTART:20260329T010000
END:DAYLIGHT
BEGIN:STANDARD
TZOFFSETFROM:+0200
TZOFFSETTO:+0100
TZNAME:CET
DTSTART:20261025T010000
END:STANDARD
END:VTIMEZONE
BEGIN:VEVENT
DTSTART;TZID=Europe/Vienna:20251111T200000
DTEND;TZID=Europe/Vienna:20251111T220000
DTSTAMP:20260425T015154
CREATED:20250822T084055Z
LAST-MODIFIED:20250822T084055Z
UID:29592-1762891200-1762898400@www.phantanoise.com
SUMMARY:Phantanoise plays the TERRA
DESCRIPTION:plus another Artist – tba \nPhantanoise© Artist Solo with his SOMA TERRA \n 
URL:https://www.phantanoise.com/event/phantanoise-plays-the-terra/
LOCATION:v.e.k.k.s.\, Ratschkygasse 14/1\, Wien\, 1120\, Austria
CATEGORIES:Concert,Vienna
END:VEVENT
BEGIN:VEVENT
DTSTART;TZID=Europe/Vienna:20251111T200000
DTEND;TZID=Europe/Vienna:20251111T220000
DTSTAMP:20260425T015154
CREATED:20250905T162215Z
LAST-MODIFIED:20250905T162215Z
UID:29864-1762891200-1762898400@www.phantanoise.com
SUMMARY:GIK Grazer Impro Klub
DESCRIPTION:
URL:https://www.phantanoise.com/event/gik-grazer-impro-klub-3/
LOCATION:Cafe Wolf\, Annenstraße 18\, Graz\, Steiermark\, 8020\, Austria
CATEGORIES:Session
END:VEVENT
BEGIN:VEVENT
DTSTART;TZID=Europe/Vienna:20251111T200000
DTEND;TZID=Europe/Vienna:20251111T220000
DTSTAMP:20260425T015154
CREATED:20251027T113959Z
LAST-MODIFIED:20251027T113959Z
UID:30175-1762891200-1762898400@www.phantanoise.com
SUMMARY:Berke Can Özcan  & Jonah Parzen-Johnson | Phantanoise© Kollektiv feat. Ayşe Deniz Birdal
DESCRIPTION:The music meticulously builds on itself\, as two strangers from across the world weave percussive explosions\, field samples\, and forceful baritone saxophone melodies into something instantly solid & joyful. In an era of apathy and cynicism\, this music is a reminder that the antidote to polarization is curiosity. Recent press:\n• “An arresting tangle of minimalist electronic drones\, rumbling drums and modal jazz sax freakouts.” – The Guardian\n• “Their shared rapport has led to a frequently tuneful unspooling.” **** – Downbeat Magazine\n• “Sofisticanti tentativi di fourth world music che da Hassell portano alle vibrazioni contemporanee di Natural Information Society” – Blow Up Magazine \nhttps://bit.ly/bandcamp-wjlp77\nhttps://bit.ly/spotify-wjlp77\n \nThe Shape of Uncertainty – Phantanoise© Kollektiv feat. Ayşe Deniz Birdal\nNo script\, no safety net — only the fragile geometry of sound unfolding in the moment.\nThe Phantanoise© collective creates sonic spaces between structure and dissolution\, between resonance and resistance. Electronics\, B-flat clarinet\, soprano saxophone\, trumpet\, bass\, percussion\, and cello intertwine to form a vibrant fabric of tension and silence.\nFree improvisation as a collective process – immediate\, risky\, open to whatever emerges. \nGero von Randow – electronics\nPalatinszky Márton – bass clarinet\, soprano saxophone\, percussion\nHelmut Steininger – trumpet\nMilan Konrad – bass\nPhantanoise© artist – electronics\nGuest: Ayşe Deniz Birdal – cello \n“Die Form der Ungewissheit”
URL:https://www.phantanoise.com/event/berke-can-ozcan-jonah-parzen-johnson-phantanoise-kollektiv-feat-ayse-deniz-birdal/
LOCATION:v.e.k.k.s.\, Ratschkygasse 14/1\, Wien\, 1120\, Austria
CATEGORIES:Concert,Vienna
END:VEVENT
END:VCALENDAR