BEGIN:VCALENDAR
VERSION:2.0
PRODID:-//Phantanoise© - ECPv6.15.20//NONSGML v1.0//EN
CALSCALE:GREGORIAN
METHOD:PUBLISH
X-WR-CALNAME:Phantanoise©
X-ORIGINAL-URL:https://www.phantanoise.com
X-WR-CALDESC:Events for Phantanoise©
REFRESH-INTERVAL;VALUE=DURATION:PT1H
X-Robots-Tag:noindex
X-PUBLISHED-TTL:PT1H
BEGIN:VTIMEZONE
TZID:Europe/Vienna
BEGIN:DAYLIGHT
TZOFFSETFROM:+0100
TZOFFSETTO:+0200
TZNAME:CEST
DTSTART:20240331T010000
END:DAYLIGHT
BEGIN:STANDARD
TZOFFSETFROM:+0200
TZOFFSETTO:+0100
TZNAME:CET
DTSTART:20241027T010000
END:STANDARD
BEGIN:DAYLIGHT
TZOFFSETFROM:+0100
TZOFFSETTO:+0200
TZNAME:CEST
DTSTART:20250330T010000
END:DAYLIGHT
BEGIN:STANDARD
TZOFFSETFROM:+0200
TZOFFSETTO:+0100
TZNAME:CET
DTSTART:20251026T010000
END:STANDARD
BEGIN:DAYLIGHT
TZOFFSETFROM:+0100
TZOFFSETTO:+0200
TZNAME:CEST
DTSTART:20260329T010000
END:DAYLIGHT
BEGIN:STANDARD
TZOFFSETFROM:+0200
TZOFFSETTO:+0100
TZNAME:CET
DTSTART:20261025T010000
END:STANDARD
END:VTIMEZONE
BEGIN:VEVENT
DTSTART;VALUE=DATE:20251016
DTEND;VALUE=DATE:20251020
DTSTAMP:20260425T032648
CREATED:20250805T113100Z
LAST-MODIFIED:20250817T121214Z
UID:28262-1760572800-1760918399@www.phantanoise.com
SUMMARY:Donaueschinger Musiktage
DESCRIPTION:ie Do­nau­eschin­ger Mu­sik­ta­ge sind das äl­tes­te und tra­di­ti­ons­reichs­te Fes­ti­val für Neue Musik welt­weit. 1921 unter fürst­li­cher Pro­tek­ti­on ge­grün­det\, ste­hen sie auch heute für alle neuen ex­pe­ri­men­tel­len For­men auf dem Ge­biet ak­tu­el­ler Musik und Klang­kunst. Jedes Jahr kom­men dafür ca. 10.000 Be­su­che­rin­nen und Be­su­cher aus mehr als 15 Län­dern nach Do­nau­eschin­gen\, um das viel­fäl­ti­ge Pro­gramm aus Ur­auf­füh­run­gen\, Klang­in­stal­la­tio­nen\, Dis­kus­sio­nen\, Work­shops und Vor­trä­gen zu er­le­ben. In­ter­na­tio­nal re­nom­mier­te En­sem­bles wie das Klang­fo­rum Wien\, das En­sem­ble In­ter­con­tem­porain\, das SWR Sym­pho­nie­or­ches­ter Stutt­gart und das SWR Ex­pe­ri­men­tal­stu­dio tre­ten hier re­gel­mä­ßig auf. \nDie Donaueschinger Musiktage werden veranstaltet von der Gesellschaft der Musikfreunde Donaueschingen in Zusammenarbeit mit der Stadt Donaueschingen\, dem Südwestrundfunk und dem SWR Experimentalstudio. Sie werden gefördert durch die Kulturstiftung des Bundes\, gefördert von der Beauftragten der Bundesregierung für Kultur und Medien\, sowie durch das Ministerium für Wissenschaft\, Forschung und Kunst Baden-Württemberg und die Ernst von Siemens Musikstiftung. \n  \nDifferent Venues !!! \n 
URL:https://www.phantanoise.com/event/donaueschinger-musiktage/
LOCATION:Baarsporthalle\, Humboldtstraße 3\, Donaueschingen\, 78166\, Germany
CATEGORIES:Festival
END:VEVENT
BEGIN:VEVENT
DTSTART;VALUE=DATE:20251016
DTEND;VALUE=DATE:20251026
DTSTAMP:20260425T032648
CREATED:20250905T154026Z
LAST-MODIFIED:20250905T154026Z
UID:29831-1760572800-1761436799@www.phantanoise.com
SUMMARY:shut up and listen! 2025: PAST_20 → NEXT_∞ Transdisziplinäres Festival für Musik und Klangkunst
DESCRIPTION:Donnerstag\, 16. bis Samstag\, 18. Oktober 2025: echoraum (1150 Wien) sowie Livestreaming Sonntag\, 19. bis Samstag\, 25. Oktober 2025: SP•CE (\, 1190 Wien) \nIn Kooperation mit sp·ce – Verein zur Förderung von Kunst und Transdisziplinarität \nIn 2025\, the transdisciplinary festival shut up and listen! will celebrate its twentieth anniversary with a particularly extensive anniversary edition. Under the artistic direction of composer and curator Belma Bešlić-Gál\, the title PAST_20 → NEXT_∞ unfolds a transgressive structure between archive and speculation\, memory and still-unheard spaces of possibility. The festival once again transcends the character of a mere concert series and moves through time as a resonant space\, unfolding both backward and forward. In addition to the established echoraum venue\, the SP•CE audio gallery will also be used in 2025 – an addition that should be understood not only as a physical expansion but also as a conceptual extension. Since the COVID-19 pandemic\, a large portion of the performative contributions have been presented both via livestreaming and in the tried-and-tested format of collective experience on site. \nAcross nine festival days\, sual! connects the festival’s diverse audiences. 2025 will feature concerts\, performances\, audiovisual works\, sound installations\, and exhibition contributions within an open structure in which historical positions not only engage in dialogue with new works\, but also challenge each other. The media archive SUAL ARCHIVES #20 documents interdisciplinary diversity through selected artistic contributions from 20 festival editions. \nsual! 2025 includes twelve performative contributions\, including numerous premieres and new works by Petra Sandner\, an installation by Kolektiv ПROSTORЪ\, and discursive formats. The SP•CE listening gallery will present a multi-channel listening room and a comprehensive media archive with contributions from 20 festival years\, as well as a new quadraphonic sound installation by Berlin-based composer-performer Kai Fagaschinski\, created as part of the artistic research project AUDIO GHOSTS. \nThe musical program expands the concept of composition toward processual\, intermedial\, and auditory-theatrical formats. The opening at echoraum brings together works by Gertrude Moser-Wagner | Ulrich Kaufman and Radu Malfatti\, and the Ensemble Zimt (extended) featuring Franz Hautzinger create sonic structures that oscillate between reduction\, micro-interventions\, and condensation. The second day of the festival is dedicated to current developments in the post-Yugoslav space\, featuring an electroacoustic performance by Svetlana Maraš\, a lecture by Damjan Jovičin on sound and social engagement in Belgrade\, and a collective sound action by the formation metacounterpoint. The festival continues with a sound projection by noid and performances by Ensemble echo_von_nichts and Manuel Pessoa de Lima\, which explore the boundaries of sound\, language\, and body as semiotic carrier structures. \nWith the relocation to the SP•CE listening gallery\, the focus shifts from performance to space-related sound research. In addition to Kai Fagaschinski’s premiere of a sound installation for a virtual clarinet quartet\, the multi-channel listening space SHUT UP AND LISTEN! 2006-2025 forms an immersive acoustic topology of the festival’s history. \nshut up and listen! 2025 is not a retrospective look back\, but rather a dynamic reconstruction of temporality through sound – a festival that sees itself not as a closed edition\, but as an open resonance structure across time. \nBelma Bešlić-Gál\, Artistic Director
URL:https://www.phantanoise.com/event/shut-up-and-listen-2025-past_20-%e2%86%92-next_%e2%88%9e-transdisziplinares-festival-fur-musik-und-klangkunst/
LOCATION:echoraum\, Sechshauserstrasse 66\, Wien\, Wien\, 1150\, Austria
CATEGORIES:Festival,Vienna
END:VEVENT
BEGIN:VEVENT
DTSTART;TZID=Europe/Vienna:20251017T193000
DTEND;TZID=Europe/Vienna:20251017T220000
DTSTAMP:20260425T032648
CREATED:20250804T101723Z
LAST-MODIFIED:20250817T105300Z
UID:28167-1760729400-1760738400@www.phantanoise.com
SUMMARY:Yunger - Album Release Show
DESCRIPTION:New album ‘A Travaller’s Story’ will be out Oct 3rd!
URL:https://www.phantanoise.com/event/yunger-album-release-show/
LOCATION:rhiz – contemporary underground\, Lerchenfelder Gürtel\, Stadtbahnbögen 37-38\, Wien\, 1080\, Austria
CATEGORIES:Vienna
END:VEVENT
BEGIN:VEVENT
DTSTART;TZID=Europe/Vienna:20251017T193000
DTEND;TZID=Europe/Vienna:20251017T220000
DTSTAMP:20260425T032648
CREATED:20251014T065220Z
LAST-MODIFIED:20251014T065220Z
UID:30163-1760729400-1760738400@www.phantanoise.com
SUMMARY:Impro-Session im Garten: Tashi Dorji (US) & Lukas Koenig Duo und Eric Arn (Solo)
DESCRIPTION:Am Freitag verwandelt sich der Central Garden in einen Ort für spontane Klangexperimente und frei fließende Musik. Ein Abend für alle\, die Musik lieber erleben als nur hören – roh\, lebendig und voller Überraschungen. Zwischen vibrierenden Gitarren\, abstrakten Beats und stillen Momenten entsteht etwas\, das’s nur einmal gibt – hier und jetzt. \nTashi Dorji & Lukas Koenig (Duo)\nDer Gitarrist Tashi Dorji und der Schlagzeuger Lukas Koenig treffen sich auf der Bühne ohne Plan\, aber mit offenen Ohren. Ihre Musik entsteht im Moment –  direkt und immer anders. Dorji ist bekannt für seinen eigenwilligen Zugang zur Gitarre\, irgendwo zwischen frei improvisiert\, punkig und meditativ.  Er bringt seine unverwechselbare Energie von Bhutan über die USA direkt auf die Wiener Bühne.\nhttps://tashidorji.bandcamp.com/        https://www.guitarworld.com/artists/guitarists/tashi-dorji-we-will-be-there-wherever-the-fire-is-lit \nKoenig\, aus Wien\, arbeitet zwischen Schlagzeug\, Elektronik und Noise\, und ist aus der europäischen Experimental-Szene nicht mehr wegzudenken (Jazzwerkstatt Wien\, König Leopold\, Kompost 3\, 5K HD\, u.a.) OE1\nEric Arn (Solo)\nDen Abend eröffnet der in Wien lebende Gitarrist Eric Arn mit einem Solo-Set zwischen Avantgarde\, Psychedelia und freier Improvisation. Eric lebt schon a Zeitlang in Wien und bastelt an seinen ganz eigenen Soundwelten. Irgendwo zwischen psychedelisch\, spacig und völlig frei. Er lässt die Gitarre knurren\, singen\, brummen – manchmal ruhig\, manchmal laut\, immer ehrlich.\nericarn.bandcamp.com
URL:https://www.phantanoise.com/event/impro-session-im-garten-tashi-dorji-us-lukas-koenig-duo-und-eric-arn-solo/
LOCATION:Central Garden\, Untere Donaustraße Höhe 41\, Wien\, 1020\, Austria
CATEGORIES:Concert,Vienna
END:VEVENT
BEGIN:VEVENT
DTSTART;TZID=Europe/Vienna:20251017T200000
DTEND;TZID=Europe/Vienna:20251017T220000
DTSTAMP:20260425T032648
CREATED:20250817T110759Z
LAST-MODIFIED:20250817T111140Z
UID:29200-1760731200-1760738400@www.phantanoise.com
SUMMARY:End of Resilience
DESCRIPTION:Jakob Schauer \nSonic Territories 25
URL:https://www.phantanoise.com/event/end-of-resilience/
LOCATION:Kirche am Schüttel (Erlöserkirche)\, Böcklinstraße 31\, Wien\, Wien\, 1020\, Austria
CATEGORIES:Vienna
END:VEVENT
BEGIN:VEVENT
DTSTART;TZID=Europe/Vienna:20251017T200000
DTEND;TZID=Europe/Vienna:20251017T220000
DTSTAMP:20260425T032648
CREATED:20250902T071554Z
LAST-MODIFIED:20250902T080249Z
UID:29747-1760731200-1760738400@www.phantanoise.com
SUMMARY:Sigi Finkel & Zoltan Migovics - Puszta
DESCRIPTION:CD- Presentation \nSIGI FINKEL (D) Saxophone\nZOLTAN MIGOVICS (UKR) Accordion \nBalkan & Jazz – Sigi Finkel and Zoltan Migovics present a new variation on this theme with their duo. Zoltan\, who comes from the Hungarian minority in western Ukraine\, joins Sigi Finkel\, a German citizen who has lived in Vienna for a long time\, on his accordion. \nThe combination of these two top-class soloists promises music that combines both the fire and melancholy of the Balkans with the virtuosity of jazz. \nThey debuted their first album\, PUSZTA\, at this year’s Vienna Accordion Festival. \nSIGI FINKEL has collaborated with international jazz greats (John Abercrombie\, Joseph Bowie\, Wolfgang Puschnig\, and many more) for many years and\, as a passionate world musician\, leads African and Arabic-inspired ensembles. He has released more than 15 CDs under his own name\, as well as concert tours and festival appearances throughout Europe\, Africa\, America\, and Asia. He was named Austrian Jazz Musician of the Year 2000.\nwww.sigifinkel.com \nZOLTAN MIGOVICS\, born in Munkács in western Ukraine as part of the Hungarian minority\, studied at the Ukrainian National Music Academy and lived in the Netherlands for several years. After returning to Hungary\, he also taught at the Jam Music Lab in Vienna. His exceptional musical skills allow him to blend styles ranging from Eastern European folk and Balkan grooves to Latin\, jazz\, and funk with impressive ease.\nwww.zoltanmigovics.com
URL:https://www.phantanoise.com/event/sigi-finkel-zoltan-migovics-puszta/
LOCATION:Das Dorf\, Obere Viaduktgasse 2/1\, Wien\, Wien\, 1030\, Austria
CATEGORIES:Concert,Vienna
END:VEVENT
END:VCALENDAR