BEGIN:VCALENDAR
VERSION:2.0
PRODID:-//Phantanoise© - ECPv6.15.20//NONSGML v1.0//EN
CALSCALE:GREGORIAN
METHOD:PUBLISH
X-WR-CALNAME:Phantanoise©
X-ORIGINAL-URL:https://www.phantanoise.com
X-WR-CALDESC:Events for Phantanoise©
REFRESH-INTERVAL;VALUE=DURATION:PT1H
X-Robots-Tag:noindex
X-PUBLISHED-TTL:PT1H
BEGIN:VTIMEZONE
TZID:Europe/Vienna
BEGIN:DAYLIGHT
TZOFFSETFROM:+0100
TZOFFSETTO:+0200
TZNAME:CEST
DTSTART:20240331T010000
END:DAYLIGHT
BEGIN:STANDARD
TZOFFSETFROM:+0200
TZOFFSETTO:+0100
TZNAME:CET
DTSTART:20241027T010000
END:STANDARD
BEGIN:DAYLIGHT
TZOFFSETFROM:+0100
TZOFFSETTO:+0200
TZNAME:CEST
DTSTART:20250330T010000
END:DAYLIGHT
BEGIN:STANDARD
TZOFFSETFROM:+0200
TZOFFSETTO:+0100
TZNAME:CET
DTSTART:20251026T010000
END:STANDARD
BEGIN:DAYLIGHT
TZOFFSETFROM:+0100
TZOFFSETTO:+0200
TZNAME:CEST
DTSTART:20260329T010000
END:DAYLIGHT
BEGIN:STANDARD
TZOFFSETFROM:+0200
TZOFFSETTO:+0100
TZNAME:CET
DTSTART:20261025T010000
END:STANDARD
END:VTIMEZONE
BEGIN:VEVENT
DTSTART;VALUE=DATE:20251016
DTEND;VALUE=DATE:20251020
DTSTAMP:20260425T032646
CREATED:20250805T113100Z
LAST-MODIFIED:20250817T121214Z
UID:28262-1760572800-1760918399@www.phantanoise.com
SUMMARY:Donaueschinger Musiktage
DESCRIPTION:ie Do­nau­eschin­ger Mu­sik­ta­ge sind das äl­tes­te und tra­di­ti­ons­reichs­te Fes­ti­val für Neue Musik welt­weit. 1921 unter fürst­li­cher Pro­tek­ti­on ge­grün­det\, ste­hen sie auch heute für alle neuen ex­pe­ri­men­tel­len For­men auf dem Ge­biet ak­tu­el­ler Musik und Klang­kunst. Jedes Jahr kom­men dafür ca. 10.000 Be­su­che­rin­nen und Be­su­cher aus mehr als 15 Län­dern nach Do­nau­eschin­gen\, um das viel­fäl­ti­ge Pro­gramm aus Ur­auf­füh­run­gen\, Klang­in­stal­la­tio­nen\, Dis­kus­sio­nen\, Work­shops und Vor­trä­gen zu er­le­ben. In­ter­na­tio­nal re­nom­mier­te En­sem­bles wie das Klang­fo­rum Wien\, das En­sem­ble In­ter­con­tem­porain\, das SWR Sym­pho­nie­or­ches­ter Stutt­gart und das SWR Ex­pe­ri­men­tal­stu­dio tre­ten hier re­gel­mä­ßig auf. \nDie Donaueschinger Musiktage werden veranstaltet von der Gesellschaft der Musikfreunde Donaueschingen in Zusammenarbeit mit der Stadt Donaueschingen\, dem Südwestrundfunk und dem SWR Experimentalstudio. Sie werden gefördert durch die Kulturstiftung des Bundes\, gefördert von der Beauftragten der Bundesregierung für Kultur und Medien\, sowie durch das Ministerium für Wissenschaft\, Forschung und Kunst Baden-Württemberg und die Ernst von Siemens Musikstiftung. \n  \nDifferent Venues !!! \n 
URL:https://www.phantanoise.com/event/donaueschinger-musiktage/
LOCATION:Baarsporthalle\, Humboldtstraße 3\, Donaueschingen\, 78166\, Germany
CATEGORIES:Festival
END:VEVENT
BEGIN:VEVENT
DTSTART;VALUE=DATE:20251016
DTEND;VALUE=DATE:20251026
DTSTAMP:20260425T032646
CREATED:20250905T154026Z
LAST-MODIFIED:20250905T154026Z
UID:29831-1760572800-1761436799@www.phantanoise.com
SUMMARY:shut up and listen! 2025: PAST_20 → NEXT_∞ Transdisziplinäres Festival für Musik und Klangkunst
DESCRIPTION:Donnerstag\, 16. bis Samstag\, 18. Oktober 2025: echoraum (1150 Wien) sowie Livestreaming Sonntag\, 19. bis Samstag\, 25. Oktober 2025: SP•CE (\, 1190 Wien) \nIn Kooperation mit sp·ce – Verein zur Förderung von Kunst und Transdisziplinarität \nIn 2025\, the transdisciplinary festival shut up and listen! will celebrate its twentieth anniversary with a particularly extensive anniversary edition. Under the artistic direction of composer and curator Belma Bešlić-Gál\, the title PAST_20 → NEXT_∞ unfolds a transgressive structure between archive and speculation\, memory and still-unheard spaces of possibility. The festival once again transcends the character of a mere concert series and moves through time as a resonant space\, unfolding both backward and forward. In addition to the established echoraum venue\, the SP•CE audio gallery will also be used in 2025 – an addition that should be understood not only as a physical expansion but also as a conceptual extension. Since the COVID-19 pandemic\, a large portion of the performative contributions have been presented both via livestreaming and in the tried-and-tested format of collective experience on site. \nAcross nine festival days\, sual! connects the festival’s diverse audiences. 2025 will feature concerts\, performances\, audiovisual works\, sound installations\, and exhibition contributions within an open structure in which historical positions not only engage in dialogue with new works\, but also challenge each other. The media archive SUAL ARCHIVES #20 documents interdisciplinary diversity through selected artistic contributions from 20 festival editions. \nsual! 2025 includes twelve performative contributions\, including numerous premieres and new works by Petra Sandner\, an installation by Kolektiv ПROSTORЪ\, and discursive formats. The SP•CE listening gallery will present a multi-channel listening room and a comprehensive media archive with contributions from 20 festival years\, as well as a new quadraphonic sound installation by Berlin-based composer-performer Kai Fagaschinski\, created as part of the artistic research project AUDIO GHOSTS. \nThe musical program expands the concept of composition toward processual\, intermedial\, and auditory-theatrical formats. The opening at echoraum brings together works by Gertrude Moser-Wagner | Ulrich Kaufman and Radu Malfatti\, and the Ensemble Zimt (extended) featuring Franz Hautzinger create sonic structures that oscillate between reduction\, micro-interventions\, and condensation. The second day of the festival is dedicated to current developments in the post-Yugoslav space\, featuring an electroacoustic performance by Svetlana Maraš\, a lecture by Damjan Jovičin on sound and social engagement in Belgrade\, and a collective sound action by the formation metacounterpoint. The festival continues with a sound projection by noid and performances by Ensemble echo_von_nichts and Manuel Pessoa de Lima\, which explore the boundaries of sound\, language\, and body as semiotic carrier structures. \nWith the relocation to the SP•CE listening gallery\, the focus shifts from performance to space-related sound research. In addition to Kai Fagaschinski’s premiere of a sound installation for a virtual clarinet quartet\, the multi-channel listening space SHUT UP AND LISTEN! 2006-2025 forms an immersive acoustic topology of the festival’s history. \nshut up and listen! 2025 is not a retrospective look back\, but rather a dynamic reconstruction of temporality through sound – a festival that sees itself not as a closed edition\, but as an open resonance structure across time. \nBelma Bešlić-Gál\, Artistic Director
URL:https://www.phantanoise.com/event/shut-up-and-listen-2025-past_20-%e2%86%92-next_%e2%88%9e-transdisziplinares-festival-fur-musik-und-klangkunst/
LOCATION:echoraum\, Sechshauserstrasse 66\, Wien\, Wien\, 1150\, Austria
CATEGORIES:Festival,Vienna
END:VEVENT
BEGIN:VEVENT
DTSTART;TZID=Europe/Vienna:20251016T130000
DTEND;TZID=Europe/Vienna:20251016T180000
DTSTAMP:20260425T032646
CREATED:20250814T152153Z
LAST-MODIFIED:20250814T152218Z
UID:28854-1760619600-1760637600@www.phantanoise.com
SUMMARY:Norbert Stein – Der rhythmische Fluss und die Erschließung des tonalen Raumes
DESCRIPTION:This workshop\, led by saxophonist and composer Norbert Stein\, is a concentrated session focused on two key topics in free music. It is designed for musicians of all levels who want to deepen their improvisation skills. Norbert Stein\, who has released 27 CDs on his label Pata Music and authored numerous books on musical innovation\, will share his extensive experience in creating and shaping free music. \nThe workshop is open to all instruments and voices. It offers participants an opportunity to explore the flow and structure of free improvisation through practical playing and experience. \nWorkshop Details:\n\nDate: Thursday\, October 16\, 2025\, from 1:00 PM to 6:00 PM (including breaks)\nLocation: Pata Studio\, Lindenstr. 32\, Cologne\, Germany\nFee: 80\,00 EUR\nTo Register: Sign up by emailing contact@multiphonics-festival.com
URL:https://www.phantanoise.com/event/norbert-stein-der-rhythmische-fluss-und-die-erschliesung-des-tonalen-raumes/
LOCATION:Pata Studio\, Lindenstraße 32\, Köln\, 50674\, Germany
CATEGORIES:Workshop
END:VEVENT
BEGIN:VEVENT
DTSTART;TZID=Europe/Vienna:20251016T190000
DTEND;TZID=Europe/Vienna:20251016T220000
DTSTAMP:20260425T032646
CREATED:20250821T172545Z
LAST-MODIFIED:20250821T172545Z
UID:29551-1760641200-1760652000@www.phantanoise.com
SUMMARY:Criss-Cross Session 2510
DESCRIPTION:Welcome to The Criss-Cross Sessions\, where jazz meets free improv. Act one features a mix of jazz standards interpretations with wild improvisation. Act two is all about collaboration where musicians are invited to bring their musical ideas into an ever changing exchange. Join us at Kulturcafé Max\, where tradition and daring creativity cross paths. \nCo-Hosts:\nElisabeth Kelvin (Klarinette\, Saxophon)\nEd Reardon (Piano) \n 
URL:https://www.phantanoise.com/event/criss-cross-session-2510/
LOCATION:Kulturcafé Max – Kulturcafé Max und Atelierhaus\, Mariengasse 1\, Wien\, Wien\, 1170\, Austria
CATEGORIES:Session,Vienna
END:VEVENT
END:VCALENDAR