BEGIN:VCALENDAR
VERSION:2.0
PRODID:-//Phantanoise© - ECPv6.15.20//NONSGML v1.0//EN
CALSCALE:GREGORIAN
METHOD:PUBLISH
X-WR-CALNAME:Phantanoise©
X-ORIGINAL-URL:https://www.phantanoise.com
X-WR-CALDESC:Events for Phantanoise©
REFRESH-INTERVAL;VALUE=DURATION:PT1H
X-Robots-Tag:noindex
X-PUBLISHED-TTL:PT1H
BEGIN:VTIMEZONE
TZID:Europe/Vienna
BEGIN:DAYLIGHT
TZOFFSETFROM:+0100
TZOFFSETTO:+0200
TZNAME:CEST
DTSTART:20240331T010000
END:DAYLIGHT
BEGIN:STANDARD
TZOFFSETFROM:+0200
TZOFFSETTO:+0100
TZNAME:CET
DTSTART:20241027T010000
END:STANDARD
BEGIN:DAYLIGHT
TZOFFSETFROM:+0100
TZOFFSETTO:+0200
TZNAME:CEST
DTSTART:20250330T010000
END:DAYLIGHT
BEGIN:STANDARD
TZOFFSETFROM:+0200
TZOFFSETTO:+0100
TZNAME:CET
DTSTART:20251026T010000
END:STANDARD
BEGIN:DAYLIGHT
TZOFFSETFROM:+0100
TZOFFSETTO:+0200
TZNAME:CEST
DTSTART:20260329T010000
END:DAYLIGHT
BEGIN:STANDARD
TZOFFSETFROM:+0200
TZOFFSETTO:+0100
TZNAME:CET
DTSTART:20261025T010000
END:STANDARD
END:VTIMEZONE
BEGIN:VEVENT
DTSTART;TZID=Europe/Vienna:20251015T190000
DTEND;TZID=Europe/Vienna:20251015T220000
DTSTAMP:20260425T032729
CREATED:20250908T162921Z
LAST-MODIFIED:20250908T162921Z
UID:29971-1760554800-1760565600@www.phantanoise.com
SUMMARY:Improvised & Experimental No. 260 (sound installation)
DESCRIPTION:-Set 1- Reiner Hess (alt saxophone)\, Gerhard Gschlößl (trombone)\, Angela Wingerath (voice)\n-Set 2- Anna Stern (vocals\, electronics)\, Michael Kolberg (electric guitar)\, Anja Kreysing (accordion\, electronics)
URL:https://www.phantanoise.com/event/improvised-experimental-no-260-sound-installation/
LOCATION:Hošek Contemporary\, Fischerinsel 3\, Berlin - Mitte\, Berlin\, 10179\, Germany
CATEGORIES:Berlin,Concert
END:VEVENT
BEGIN:VEVENT
DTSTART;TZID=Europe/Vienna:20251015T193000
DTEND;TZID=Europe/Vienna:20251015T230000
DTSTAMP:20260425T032729
CREATED:20250812T110432Z
LAST-MODIFIED:20250812T110432Z
UID:28643-1760556600-1760569200@www.phantanoise.com
SUMMARY:Quispel Quintet | Multiphonics Improvisers Orchestra & PATA MAGMA
DESCRIPTION:19:30 Quispel QuintetDer Wiener Klarinettist und Saxofonist Leonhard Skorupa hat mit dem Quispel Quintet ein internationales\, hochkarätig besetztes Ensemble aus der Taufe gehoben. Zusammen mit dem aus Kalifornien stammenden Stilisten Michael Moore bildet er den Bläsersatz\, Robert Landfermann und Asja Valcic ergänzen sich zur markanten Streicher-Abteilung\, Schlagzeuger Michael Vatcher verleiht dem Streifzug zwischen Cool Jazz à la Stan Getz und quirligem\, zeitgenössischem Kammerjazz Halt und Rhythmus. Gemeinsam beschreiten sie überraschende Wege und (er-)finden faszinierende Klänge\, mal groovig subtil\, mal notturnoartig schön.\nLeonhard Skorupa – Tenor Sax\, Bassklarinette\, KlarinetteMichael Moore – Alto Sax\, KlarinetteAsja Valcic – CelloRobert Landfermann – BassMichael Vatcher – Schlagzeug\n21:00 Multiphonics Improvisers Orchestra & PATA MAGMASaxophonist und Komponist Norbert Stein kreiert mit seiner Pata-Musik eine einzigartige Palette an musikalischen Ausdrucksmöglichkeiten. In Anlehnung an die Pataphysik des Schriftstellers Alfred Jary führt er sein Projekt konsequent in den Bereich der freien Musik\, die wie ein Fluss in Bewegung ist\, stetig\, nie aber hektisch. Mit dem kybernetischen System PATA MAGMA entstand nun ein weiterer Ort der musikalischen Begegnung. Das improvisierende Orchester des Multiphonics Festivals schöpft die Musik aus sich selbst heraus und bietet durch vielfältige Gruppierungsmöglichkeiten ein weites Spektrum an künstlerischen Begegnungen. Wie klangliches Magma lässt das Ensemble Steins “Komprovisationen“ an die Oberfläche emporsteigen. PATA SIGNS ist ein Leporello aus sieben grafischen Modulen\, erschaffen für ein Festival der expressiven Kommunikation. Ins Offene!\nCymin Samawatie – Stimme\, KlavierNorbert Stein – Konzeption\, Leitung\, TenorsaxoponTomas Savy – BassklarinetteHolger Werner – KlarinetteMichael Heupel – QuerflötenGina Schwarz – KontrabassKlaus Kugel – Schlagzeug Susanne Fröhlich – BlockflötenMahan Mirarab – Gitarre
URL:https://www.phantanoise.com/event/quispel-quintet-multiphonics-improvisers-orchestra-pata-magma/
LOCATION:LOFT Köln\, Wissmannstraße 30\, Köln\, 50823\, Germany
END:VEVENT
END:VCALENDAR