BEGIN:VCALENDAR
VERSION:2.0
PRODID:-//Phantanoise© - ECPv6.15.20//NONSGML v1.0//EN
CALSCALE:GREGORIAN
METHOD:PUBLISH
X-ORIGINAL-URL:https://www.phantanoise.com
X-WR-CALDESC:Events for Phantanoise©
REFRESH-INTERVAL;VALUE=DURATION:PT1H
X-Robots-Tag:noindex
X-PUBLISHED-TTL:PT1H
BEGIN:VTIMEZONE
TZID:Europe/Vienna
BEGIN:DAYLIGHT
TZOFFSETFROM:+0100
TZOFFSETTO:+0200
TZNAME:CEST
DTSTART:20240331T010000
END:DAYLIGHT
BEGIN:STANDARD
TZOFFSETFROM:+0200
TZOFFSETTO:+0100
TZNAME:CET
DTSTART:20241027T010000
END:STANDARD
BEGIN:DAYLIGHT
TZOFFSETFROM:+0100
TZOFFSETTO:+0200
TZNAME:CEST
DTSTART:20250330T010000
END:DAYLIGHT
BEGIN:STANDARD
TZOFFSETFROM:+0200
TZOFFSETTO:+0100
TZNAME:CET
DTSTART:20251026T010000
END:STANDARD
BEGIN:DAYLIGHT
TZOFFSETFROM:+0100
TZOFFSETTO:+0200
TZNAME:CEST
DTSTART:20260329T010000
END:DAYLIGHT
BEGIN:STANDARD
TZOFFSETFROM:+0200
TZOFFSETTO:+0100
TZNAME:CET
DTSTART:20261025T010000
END:STANDARD
END:VTIMEZONE
BEGIN:VEVENT
DTSTART;VALUE=DATE:20251007
DTEND;VALUE=DATE:20251013
DTSTAMP:20260425T033045
CREATED:20250805T111014Z
LAST-MODIFIED:20250817T121334Z
UID:28250-1759795200-1760313599@www.phantanoise.com
SUMMARY:unsound festival
DESCRIPTION:Lineup 2025\n2K88 & Bianca Scout & Lauren Duffus & Rainy Miller / A Guy Called Gerald presents Black Secret Technology / Actress & Suzanne Ciani present Concrète Waves / Artur Rumiński / Assyouti b2b OKO DJ / billy woods / caroline / dBridge b2b gyrofield / Dj Haram / DjRUM / Evicshen / FUJI​|||||||||||TA & Ka Baird / Harry Górski-Brown & Wojciech Rusin present Drift with Sinfonietta Cracovia / Iftll / Jim O’Rourke & Eiko Ishibashi / Joan La Barbara / julek ploski & Kat Zavada present Omega Secret Society / KAVARI / Kia (AU) / Matthew Barney and Jonathan Bepler’s film River of Fundament with live scoring by Bepler feat. Adam Golebiewski / Moin / Nazar / NEW YORK / Nexus (B4MBA & Mooki6) / Nina Garcia / Paszka / Rai Tateishi / RP Boo & Gary Gwadera / Smerz / Tashi Dorji / Tracey / YHWH Nailgun / Yvu + MORE TBA \nUnsound focuses on a broad swath of contemporary music — emerging\, experimental\, and leftfield — whose sweep doesn’t follow typical genre constraints. Influential\, it has developed a reputation for identifying innovative scenes and radical sounds. \nDifferent venues ! \nhttps://www.unsound.pl/en/unsound-web/
URL:https://www.phantanoise.com/event/unsound-festival/
LOCATION:Prozak 2.0\, plac Dominikański 6\, Kraków\, 33-332\, Poland
CATEGORIES:Festival
END:VEVENT
BEGIN:VEVENT
DTSTART;VALUE=DATE:20251009
DTEND;VALUE=DATE:20251013
DTSTAMP:20260425T033045
CREATED:20250925T110849Z
LAST-MODIFIED:20250925T135455Z
UID:30070-1759968000-1760313599@www.phantanoise.com
SUMMARY:DE/SEMBLE Festival
DESCRIPTION:for Jazz and Adventurous Music in Vienna October 9–12\, 2025\, various locations\nJoin us for four days of creative music exploration!\nDay 1 (October 9): Y-OTIS (SE/DE/UK) & Yvonne Moriel: Nothing Causes Anything (AT)https://fb.me/e/bkleIzHLO\nDay 2 (October 10): Yazz Ahmed Quartethttps://fb.me/e/8KJAotPmbTickets available via Radiokulturhaus: https://radiokulturhaus.orf.at/…/720900/Yazz-Ahmed-Quartet\nDay 3 (October 11): DE/SEMBLE × BEARS IN THE PARK Helene Glüxam Solo (AT) – Concert Los Sara Fontan (ES) – Concert Daphna Horencyzk (Dance Performance) giggidalessio – ANGST (Sound Performance) https://fb.me/e/6EPCIbURF\nDay 4 (October 12): Park Jiha (KR) – Afternoon Concerthttps://fb.me/e/6Gy8eJNeA\n\nFestival Passes available now! 𓅼https://kupfticket.com/en/events/desemble-festival-2025\nAbout\nDE/SEMBLE is a Vienna-based festival dedicated to expanding and redefining jazz and adventurous music. Renowned for its diverse lineup\, the festival brings together both internationally established artists and emerging voices. Its mission is to break away from traditional connotations of jazz\, cultivating an inclusive and forward-looking musical landscape.\nLaunched in 2022 as “de/semble — don’t play me”\, a project spotlighting women instrumentalists in jazz\, DE/SEMBLE has since grown into a festival that continues to place fair representation and artistic diversity at its core.\nMore Info\nwww.de-semble.at\nhttps://www.instagram.com/de_semble/
URL:https://www.phantanoise.com/event/de-semble-festival/
LOCATION:Vienna
CATEGORIES:Festival,Vienna
END:VEVENT
BEGIN:VEVENT
DTSTART;VALUE=DATE:20251010
DTEND;VALUE=DATE:20251013
DTSTAMP:20260425T033045
CREATED:20250805T115254Z
LAST-MODIFIED:20250817T121250Z
UID:28280-1760054400-1760313599@www.phantanoise.com
SUMMARY:Insel Broetz Festival für Freie Musik
DESCRIPTION:Farida Amadou / Kaja Draksler / Gunda Gottschalk / Achim Kaufmann / Jelena Kuljič / Almut Kühne / Robert Landfermann / Christian Lillinger / Dominik Mahnig / Bart Maris / Matthias Müller / Kathrin Pechlof / John-Dennis Renken / Jan Roder / Johannnes Schleiermacher / Wolfgang Schmidtke / Aki Takase / Kazuhisa Uchiashi / Els Vandeweye \nCurated by Wolfgang Schmidtke\nOn June 22\, 2023\, saxophonist and clarinettist Peter Brötzmann passed away. Two years earlier\, on the occasion of his eightieth birthday\, the INSEL in Wuppertal had organized a three-day festival with international guests – BROEtz 80! – which celebrated the outstanding status of this exceptional artist. The musicians and the audience literally came from all over the world to celebrate these three days in our jazz city. \nIn the aftermath\, Peter Brötzmann and I decided to further develop the unique program concept and establish a biennial international festival for free music. A festival that does not invite ensembles that are currently playing in clubs and halls up and down the country\, but artists who have something new and unusual\, sometimes disturbing\, in their playing. With BROEtz 23!\, which Peter Brötzmann helped to prepare\, it finally became clear that the unique significance he has achieved in the international jazz world is a Wuppertal specialty\, the continuation of which we absolutely want to ensure – through a festival program with an absolutely uncompromising\, forward-looking artistic vision. \nThe idea of free music would lead itself ad absurdum if we stuck to the traditional “sounds like whoopataal”. BROEtz 2025 presents musicians who stand for fresh\, innovative\, unheard paths of improvisation. Where others discover that a certain band\, a certain album\, a stylistic niche is particularly easy to market commercially\, we – in the spirit of Peter Brötzmann – consistently search for new musical concepts and bring them – sometimes for the first time together – to our stage! \n  \n 
URL:https://www.phantanoise.com/event/insel-broetz-festival-fur-freie-musik/
LOCATION:Vienna
CATEGORIES:Festival
END:VEVENT
BEGIN:VEVENT
DTSTART;VALUE=DATE:20251010
DTEND;VALUE=DATE:20251013
DTSTAMP:20260425T033045
CREATED:20250822T083712Z
LAST-MODIFIED:20250822T083919Z
UID:29589-1760054400-1760313599@www.phantanoise.com
SUMMARY:Between Spaces - Fractures
DESCRIPTION:Performance Art Festival | 10.–12. Oktober 2025 | Kunsthaus Urhof20\, Grünbach am SchneebergDas Festival Between Spaces – Fractures lädt ein\, gewohnte Räume zu verlassen und in künstlerische Zwischenwelten einzutauchen – voller Musik\, Tanz\, Licht\, Performance und Begegnung.Als Auftakt gibt es bereits am Sonntag\, 5. Oktober 2025\, um 11:00 Uhr ein zeitgenössisches Zirkustheater im öffentlichen Raum: Con Via (Billa-Parkplatz\, Eintritt frei) – ein humorvolles\, akrobatisches Stück über das Leben im Wohnwagen und die Dynamik des nachbarschaftlichen Zusammenlebens. ProgrammFreitag\, 10. Oktober 202517:00 Uhr – Echo Nature StagePerformance-Weg & Bühnenpräsentation mit Bea von Schrader\, Robert Steijn & Laura Pudelek20:00 Uhr – Graygreenblue Vol. 1992 – gesammelte ZwischenträumeSolo-Performance von Sophie Schollum (Flöte\, Stimme\, Elektronik) & Ahoo Maher (Lichtkunst)\nSamstag\, 11. Oktober 202513:00–16:00 Uhr – Tagtool Workshop mit OMAi und Josef Dorninger16:30 Uhr – SedimentsSoloperformance von Antonina Zelenina18:00 Uhr – EntZündetPerformance von Elena Waclawiczek & Daphne von Schrader19:30 Uhr – Fluid FrameMit Gina Schwarz (Kontrabass)\, Bea von Schrader (Tanz)\, Die.Puntigam & Matthias Fritz (Tagtool)21:00 Uhr – Orpheus and EurydiceMusik & Live Painting mit Ewa Zurakowska\, Dima Berzon\, Jonathan & Benjamin Hartmann\, Margot Huang\, Frances Sander\nSonntag\, 12. Oktober 2025ab 11:00 Uhr – Brunch & Encounters mit Festivalküche von Aaron Beck14:30 Uhr – AbschlusskonzertFresco Quartett & Loukia Loulaki spielen Werner Schulze (a-d-e-g) und Franz Schuberts Streichquintett in C-Dur Ein Wochenende zwischen Traum und Transformation – von zeitgenössischem Zirkus bis Kammermusik\, von poetischem Tanz bis visueller Lichtkunst.
URL:https://www.phantanoise.com/event/between-spaces-fractures/
LOCATION:Urhof 20\, Wienerneustädterstraße 12\,\, Grünbach am Schneeberg\, Lower Austria\, 2733\, Austria
CATEGORIES:Festival
END:VEVENT
BEGIN:VEVENT
DTSTART;TZID=Europe/Vienna:20251010T180000
DTEND;TZID=Europe/Vienna:20251012T171500
DTSTAMP:20260425T033045
CREATED:20250901T140925Z
LAST-MODIFIED:20250901T140925Z
UID:29735-1760119200-1760289300@www.phantanoise.com
SUMMARY:Butoh Workshop
DESCRIPTION:Molecular dance\nAll cells in our body consist of atoms bonded together. These bonds are in perpetual transformation\, change\, break\, rejoin\, in an eternal dance\, made possible by space and energy. Human existence relies on connections and exchanges too. To understand these connections\, we need space and silence\, allowing us to sense life’s dance. \nThis workshop explores innovative ways to create personal movement\, emphasizing the spaces and stillness between movements within our bodies. Guided explorations with concrete and abstract imagery help us discover new interactions with inner and outer space and the others. The silence between movements is the door opener of new possibilities. \nEach individual is a beautiful and unique form of life\, interconnected with everything. Let’s discover our unique qualities and movements and share them as gifts with others\, strengthening the ties that unite us \n\n\n\n\n\n\n\nMARUSKA RONCHI\nGraduated in Contemporary Dance\, she met Butoh in 2009 with Atsushi Takenouchi. She studied with him for 14 year becoming his assistant in the Butoh School in Italy where she could practice deeply\, learning and teaching. She met other important butoh master as Yumiko Yoshioka\, Yoshito Ohno\, Minako Seki\, Seisaku\, Carlotta Ikeda\, Ima Tenko\, Natsu Nakajima\,Semimaru (Sankai Yuku) Imre Tohrman\, Masaki Iwana\, among others. Her research is an alchemical process which seeks physical and spiritual transmutation in the matter of the body.\nInvestigating not only the movement but also the stillness\, the void\, the silence\, and the space in between. She travels around the world sharing her dance and practices through performances and workshops\, and collaboration with international artists. She presents her works all over the world\, in Canada\, Japan\, Mauritius\, and many countries in Europe.
URL:https://www.phantanoise.com/event/butoh-workshop/
LOCATION:Berkenrijs\, Lodewijk Mortelmansstraat 13\, Wilrijk (Antwerpen)\, Antwerpen\, 2610\, Belgium
CATEGORIES:Dance,Workshop
END:VEVENT
BEGIN:VEVENT
DTSTART;TZID=Europe/Vienna:20251011T190000
DTEND;TZID=Europe/Vienna:20251011T210000
DTSTAMP:20260425T033045
CREATED:20250925T110604Z
LAST-MODIFIED:20250925T110636Z
UID:30067-1760209200-1760216400@www.phantanoise.com
SUMMARY:DE/SEMBLE × BEARS IN THE PARK
DESCRIPTION:DE/SEMBLE is joining forces with the artist platform Bears in the Park for an unforgettable evening – a celebration of music and interdisciplinary art in the unique setting of Bears in the Park.\nJoin us where adventurous intersections meet\, and embark on a parkour of concerts and performances.This will be one for the books.\nHelene Glüxam (AT)Los Sara Fontan (ES) + Dance Performance by Daphna Horenczyk+ Sound Performance by giggidalession ‘ANGST’\nDE/SEMBLE FestivalOctober 9-12\, 2025Vienna\, Austria\nwww.de-semble.atFB Event: https://fb.me/e/5XNVnuHgY\nPay what you can.
URL:https://www.phantanoise.com/event/30067/
LOCATION:Bears in the Park\, Eyzingasse 12/2\, 1110 Wien\, Wien\, Wien\, 1110\, Austria
CATEGORIES:Festival,Vienna
END:VEVENT
BEGIN:VEVENT
DTSTART;TZID=Europe/Vienna:20251011T193000
DTEND;TZID=Europe/Vienna:20251011T220000
DTSTAMP:20260425T033045
CREATED:20250804T110546Z
LAST-MODIFIED:20250817T111602Z
UID:28189-1760211000-1760220000@www.phantanoise.com
SUMMARY:Milan W. + Tristanne
DESCRIPTION:
URL:https://www.phantanoise.com/event/milan-w-tristanne/
LOCATION:Café OTO\, 18–22 Ashwin street\, Dalston\, London\, E8 3DL
END:VEVENT
BEGIN:VEVENT
DTSTART;TZID=Europe/Vienna:20251011T193000
DTEND;TZID=Europe/Vienna:20251011T220000
DTSTAMP:20260425T033045
CREATED:20250908T162717Z
LAST-MODIFIED:20250908T162717Z
UID:29967-1760211000-1760220000@www.phantanoise.com
SUMMARY:Dierich - Matzke | Ramm | Merenda - Muttikan
DESCRIPTION:Neither kinky parties nor Beyoncé have succeeded in cracking the hard core of the millennia-old Roman Catholic tradition—a tradition that continually legitimises itself through the repeated performance of rituals. A tradition that systematically excludes\, among others\, women and queers. But now we say: enough with the Vatican – it’s time to open the Muttikan.\nMUTTIKAN appropriates the Roman Catholic Mass as a performative format and develops a secular counter-model to it. Marco Merenda\, Linda Lou Dierich-Matzke\, and Christopher Ramm guide the audience through experiences that mischievously sneak new meanings into the actions and proceedings of the Mass. Catholic rituals and liturgical choreographies are translated on three interconnected levels: ritual-symbolic\, content-based\, and spatial-choreographic. \nBY & WITH:\nLinda Lou Dierich-Matzke\, Marco Merenda [Concept\, artistic direction\, choreography\, performance\, dramaturgy]\nChristopher Ramm [Sound\, performance\, dramaturgy]\nCarolina Burandt & Anastasia Kriwoscheja [Stage design & visuals]\nSteve Leander Oelmann [Costume]\nDoria Worden [Light design]\nNathalie Giele\, Su Jin Kim [Mentoring dramaturgy & choreography]\nKerstin Henky [Production]\nLorenz Vetter [Photography and graphic arts]\nMade possible through the „Wiederaufnahme- und Gastspielförderung“ provided by the Dachverbands freie darstellende Künste Hamburg with the support of Freie und Hansestadt Hamburg\, Behörde für Kultur und Medien.
URL:https://www.phantanoise.com/event/dierich-matzke-ramm-merenda-muttikan/
LOCATION:Hošek Contemporary\, Fischerinsel 3\, Berlin - Mitte\, Berlin\, 10179\, Germany
CATEGORIES:Berlin,Performance
END:VEVENT
BEGIN:VEVENT
DTSTART;TZID=Europe/Vienna:20251011T200000
DTEND;TZID=Europe/Vienna:20251011T220000
DTSTAMP:20260425T033045
CREATED:20250901T075705Z
LAST-MODIFIED:20250901T075705Z
UID:29691-1760212800-1760220000@www.phantanoise.com
SUMMARY:PianoKonklave Special "Where Fortune Smiles" 幸運が微笑む場所
DESCRIPTION:Where Fortune Smiles…and the sky  meets the heaven is our  place for our Music…\nmia ZABELKA\, Violine\, Stimme\, Live-Elektronik\, herbert LACINA Komposition\, 12-String Bass\, Elektronik\, yoko MIURA Komposition\, Klavier\, Melodica
URL:https://www.phantanoise.com/event/pianokonklave-special-where-fortune-smiles-%e5%b9%b8%e9%81%8b%e3%81%8c%e5%be%ae%e7%ac%91%e3%82%80%e5%a0%b4%e6%89%80/
LOCATION:kunstraum ewigkeitsgasse\, Thelemanngasse 6\, Wien\, Wien\, 1170\, Austria
CATEGORIES:Concert,Vienna
END:VEVENT
END:VCALENDAR