BEGIN:VCALENDAR
VERSION:2.0
PRODID:-//Phantanoise© - ECPv6.15.20//NONSGML v1.0//EN
CALSCALE:GREGORIAN
METHOD:PUBLISH
X-ORIGINAL-URL:https://www.phantanoise.com
X-WR-CALDESC:Events for Phantanoise©
REFRESH-INTERVAL;VALUE=DURATION:PT1H
X-Robots-Tag:noindex
X-PUBLISHED-TTL:PT1H
BEGIN:VTIMEZONE
TZID:Europe/Vienna
BEGIN:DAYLIGHT
TZOFFSETFROM:+0100
TZOFFSETTO:+0200
TZNAME:CEST
DTSTART:20240331T010000
END:DAYLIGHT
BEGIN:STANDARD
TZOFFSETFROM:+0200
TZOFFSETTO:+0100
TZNAME:CET
DTSTART:20241027T010000
END:STANDARD
BEGIN:DAYLIGHT
TZOFFSETFROM:+0100
TZOFFSETTO:+0200
TZNAME:CEST
DTSTART:20250330T010000
END:DAYLIGHT
BEGIN:STANDARD
TZOFFSETFROM:+0200
TZOFFSETTO:+0100
TZNAME:CET
DTSTART:20251026T010000
END:STANDARD
BEGIN:DAYLIGHT
TZOFFSETFROM:+0100
TZOFFSETTO:+0200
TZNAME:CEST
DTSTART:20260329T010000
END:DAYLIGHT
BEGIN:STANDARD
TZOFFSETFROM:+0200
TZOFFSETTO:+0100
TZNAME:CET
DTSTART:20261025T010000
END:STANDARD
END:VTIMEZONE
BEGIN:VEVENT
DTSTART;TZID=Europe/Vienna:20251006T200000
DTEND;TZID=Europe/Vienna:20251006T220000
DTSTAMP:20260425T051859
CREATED:20250822T115527Z
LAST-MODIFIED:20250822T115527Z
UID:29602-1759780800-1759788000@www.phantanoise.com
SUMMARY:Trio Cielo - Freie Improvisation
DESCRIPTION:Francesco Costa\, tp\, Yoko Miura\, p\, Paul Eiser\, sax
URL:https://www.phantanoise.com/event/trio-cielo-freie-improvisation/
LOCATION:Salzburger Kunstverein Künstlerhaus Salzburg\, Hellbrunnerstrasse 3\, Salzburg\, Salzburg\, 5020\, Austria
CATEGORIES:Concert
END:VEVENT
END:VCALENDAR