BEGIN:VCALENDAR
VERSION:2.0
PRODID:-//Phantanoise© - ECPv6.15.20//NONSGML v1.0//EN
CALSCALE:GREGORIAN
METHOD:PUBLISH
X-WR-CALNAME:Phantanoise©
X-ORIGINAL-URL:https://www.phantanoise.com
X-WR-CALDESC:Events for Phantanoise©
REFRESH-INTERVAL;VALUE=DURATION:PT1H
X-Robots-Tag:noindex
X-PUBLISHED-TTL:PT1H
BEGIN:VTIMEZONE
TZID:Europe/Vienna
BEGIN:DAYLIGHT
TZOFFSETFROM:+0100
TZOFFSETTO:+0200
TZNAME:CEST
DTSTART:20240331T010000
END:DAYLIGHT
BEGIN:STANDARD
TZOFFSETFROM:+0200
TZOFFSETTO:+0100
TZNAME:CET
DTSTART:20241027T010000
END:STANDARD
BEGIN:DAYLIGHT
TZOFFSETFROM:+0100
TZOFFSETTO:+0200
TZNAME:CEST
DTSTART:20250330T010000
END:DAYLIGHT
BEGIN:STANDARD
TZOFFSETFROM:+0200
TZOFFSETTO:+0100
TZNAME:CET
DTSTART:20251026T010000
END:STANDARD
BEGIN:DAYLIGHT
TZOFFSETFROM:+0100
TZOFFSETTO:+0200
TZNAME:CEST
DTSTART:20260329T010000
END:DAYLIGHT
BEGIN:STANDARD
TZOFFSETFROM:+0200
TZOFFSETTO:+0100
TZNAME:CET
DTSTART:20261025T010000
END:STANDARD
END:VTIMEZONE
BEGIN:VEVENT
DTSTART;VALUE=DATE:20251003
DTEND;VALUE=DATE:20251005
DTSTAMP:20260425T032648
CREATED:20250805T105430Z
LAST-MODIFIED:20250817T121340Z
UID:28234-1759449600-1759622399@www.phantanoise.com
SUMMARY:Skanumesz Festival
DESCRIPTION:Joan La Barbara\, These New Puritans\, Shabaka Hutchings\, Sega Bodega\, John \nAfter its most successful edition in 2024\, Riga\, Latvia’s Skaņu Mežs festival 2025 will happen on October 3-4 at venue Hanzas Perons (16A Hanzas Street)\, and tickets can be purchased for 55 EUR at www.bilesuserviss.lv.
URL:https://www.phantanoise.com/event/skanumesz-festival/
LOCATION:Hanzas Perons\, Hanzas Street 16A\, Riga\, 1045\, Latvia
CATEGORIES:Festival
END:VEVENT
BEGIN:VEVENT
DTSTART;TZID=Europe/Vienna:20251004T100000
DTEND;TZID=Europe/Vienna:20251004T160000
DTSTAMP:20260425T032648
CREATED:20250901T085456Z
LAST-MODIFIED:20250901T085456Z
UID:29713-1759572000-1759593600@www.phantanoise.com
SUMMARY:movement - voice workshop
DESCRIPTION:Workshop  ŽANETA VÍTOVÁ ] MICHAELA ONDRAŠINOVÁ\nDANCE HALL 3 floor \nWhat does your exhalation sound like? Where in your body does your voice resonate? What do you hear when you walk and the environment around you changes? What does your movement sound like\, what is the rhythm in it? Come with us to explore\, discover and create space for your voice\, body and dance and through them for your self-expression.\nThe workshop is created in collaboration with two lecturers – one with a background in music\, the other with a background in dance. Although they come from different disciplines\, both are interested in the connection between voice\, body and movement.\nThe workshop will be a combination of movement parts\, focused on relaxation\, immersion in the body and making the body more accessible\, which helps to better use the voice\, and parts focused on working with the voice and vocal technique. Voice and movement are two interconnected vessels and we will explore them as such.\nThose who are more confident in their movement expression can open the way to their voice through working with the body and dance. Those who have more experience with vocal expression can open the way to greater use of the body and self-expression through movement and explore how movement work helps them with the use of their voice.\nWe will work with experiential anatomy\, movement\, breath\, rhythm\, voice\, we will also learn a simple song together\, we will improvise vocally and with movement. All without demands for performance or result\, in a relaxed atmosphere.\nThe workshop is intended for everyone who is interested in movement and/or voice and the connection of movement and voice work\, regardless of their level of advancement. Both “movement workers” (dancers\, performers and performers)\, as well as musicians or actors and actresses are welcome. And also everyone else with a desire to explore the topics of this workshop.\nWHEN: Saturday\, October 4\, 2025\, 10 a.m.–4 p.m. (includes an hour-long lunch break)\nWHERE: Radnická 8\, Brno\, dance hall (3rd floor)\nREGISTRATION: to register for the workshop (or if you have any questions)\, please email misharel@seznam.cz no later than September 18\, 2025.\nPRICE:\nsliding scale 1000–1600 CZK (choose the amount that suits your budget)\, after registration we will send you payment information. We will reserve your place only after the payment has been credited. \nWie klingt dein Ausatmen? Wo in deinem Körper schwingt deine Stimme mit? Was hörst du\, wenn du gehst und sich deine Umgebung verändert? Wie klingt deine Bewegung\, welchen Rhythmus hat sie? Komm mit uns\, um Raum für deine Stimme\, deinen Körper und deinen Tanz zu entdecken und zu schaffen und dadurch deinen Selbstausdruck zu fördern. \nDer Workshop entsteht in Zusammenarbeit mit zwei Dozenten – einer mit musikalischem\, der andere mit tänzerischem Hintergrund. Obwohl sie aus unterschiedlichen Disziplinen kommen\, interessieren sich beide für die Verbindung von Stimme\, Körper und Bewegung. \nDer Workshop kombiniert Bewegungsteile\, die sich auf Entspannung\, das Eintauchen in den Körper und die Ermöglichung einer besseren Nutzung der Stimme konzentrieren\, mit Teilen\, die sich auf die Arbeit mit der Stimme und der Gesangstechnik konzentrieren. Stimme und Bewegung sind zwei miteinander verbundene Gefäße\, und wir werden sie als solche erforschen. \nWer in seinem Bewegungsausdruck sicherer ist\, kann durch die Arbeit mit Körper und Tanz den Weg zu seiner Stimme öffnen. Wer bereits mehr Erfahrung mit stimmlichem Ausdruck hat\, kann sich durch Bewegung den Weg zu mehr Körpereinsatz und Selbstausdruck ebnen und erkunden\, wie Bewegungsarbeit ihm beim Einsatz seiner Stimme hilft.\nWir arbeiten mit erfahrungsbasierter Anatomie\, Bewegung\, Atmung\, Rhythmus und Stimme\, lernen gemeinsam ein einfaches Lied und improvisieren stimmlich und mit Bewegung. Alles ohne Leistungs- oder Ergebnisansprüche\, in entspannter Atmosphäre.\nDer Workshop richtet sich an alle\, die sich für Bewegung und/oder Stimme und die Verbindung von Bewegung und Stimmarbeit interessieren\, unabhängig von ihrem Vorkenntnissen. Sowohl Bewegungsarbeiter*innen (Tänzer*innen\, Performer*innen und Performer*innen) als auch Musiker*innen oder Schauspieler*innen sind willkommen. Und auch alle anderen\, die Lust haben\, die Themen dieses Workshops zu vertiefen.\nWANN: Samstag\, 4. Oktober 2025\, 10–16 Uhr (inkl. einstündiger Mittagspause)\nWO: Radnická 8\, Brünn\, Tanzsaal (3. Stock)\nANMELDUNG: Um sich für den Workshop anzumelden (oder bei Fragen)\, senden Sie bitte bis spätestens 18. September 2025 eine E-Mail an misharel@seznam.cz.\nPREIS:\nGleitender Preis: 1000–1600 CZK (wählen Sie den Betrag\, der Ihrem Budget entspricht). Nach der Anmeldung senden wir Ihnen die Zahlungsinformationen zu. Wir reservieren Ihren Platz erst nach Zahlungseingang.
URL:https://www.phantanoise.com/event/movement-voice-workshop/
LOCATION:Radnická 8\, Radnická 8\, Brno\, 602 00\, Czech Republic
CATEGORIES:Dance,Workshop
END:VEVENT
BEGIN:VEVENT
DTSTART;TZID=Europe/Vienna:20251004T183000
DTEND;TZID=Europe/Vienna:20251004T220000
DTSTAMP:20260425T032648
CREATED:20251001T081857Z
LAST-MODIFIED:20251001T081857Z
UID:30158-1759602600-1759615200@www.phantanoise.com
SUMMARY:Speichermusik
DESCRIPTION:Eine Hommage an Musik für Lochstreifen\, Walzen\, Scheiben\, Bänder und digitale Speicher. \nBei der langen Nacht der Museen\nim Phonomuseum\ngemeinsam mit dem Institut für Medienarchäologie\nder Speichermusik zu verschreiben. \n18:30 Phono is a voice // Performative Intervention // Andrea Salzmann & Rozina Pátkai\n19:00 Konzert // Marie Vermont\n19:45 Phonographen  // Führung // Kurt Krapfenbauer\n20:10 Multidimensionale Geschichten // Konzert // Philip Leitner\n20:45 Live Präsentation: Plapper-la-papp // Dauerhaft interaktiven Installation // Paul Gründorfer\n21:00 Historische Nachrichtentechnik // Führung // Kurt Krapfenbauer\n21:30 7 Haikus für einen Plattenspieler  // Performance // Yann Leguay\n22:15 Tagadà  // Konzert // JD Zazie \n 
URL:https://www.phantanoise.com/event/speichermusik/
LOCATION:Phonomuseum Wien\, Mollardgasse 8/2/16\, Wien\, Wien\, 1060\, Austria
CATEGORIES:Festival,Vienna
END:VEVENT
BEGIN:VEVENT
DTSTART;TZID=Europe/Vienna:20251004T200000
DTEND;TZID=Europe/Vienna:20251004T220000
DTSTAMP:20260425T032648
CREATED:20250822T075312Z
LAST-MODIFIED:20250822T075312Z
UID:29569-1759608000-1759615200@www.phantanoise.com
SUMMARY:Phenomenal World – Fischer\, Quehenberger\, Kern
DESCRIPTION:There’s a new band in Vienna\, and it’s called Phenomenal World!\nAfter years of crossing paths in the experimental music scene\, Michael Fischer (vocals and horns)\, Didi Kern (drums)\, and Philipp Quehenberger (keyboards) have finally come together to record their first album. The result is a raw\, dynamic exploration of sounds\, where intricate rhythmic interplay dances with shifting notions of time and space\, and melodies drift between tenderness and defiance\, resurfacing in subtle variations and blurring the line between chaos and coherence with effortless fluidity. \nPhenomenal World delivers a visceral sonic journey where the energy of punk collides with the depth and unpredictability of free improvisation. \nPhilipp Quehenberger and Didi Kern previously performed at the MPS studio in 2024. Read more about these two gentlemen on our website here. \nMichael Fischer is a musician\, composer\, and conductor for Instant Composition. He works in the field of radically free improvised and experimental music with a focus on sonic expressiveness. Since 1999\, he has integrated acoustic feedback into his work and developed the analog “feedback saxophone.” He has founded numerous ensembles\, including the Vienna Improvisers Orchestra\, and performed at renowned festivals worldwide. Fischer is also active in performative light installations and teaches at universities internationally.
URL:https://www.phantanoise.com/event/phenomenal-world-fischer-quehenberger-kern/
LOCATION:MPS Studio\, Richthofenstrasse 1/1\, Villingen\, Baden-Württemberg\, 78048\, Germany
CATEGORIES:Concert
END:VEVENT
BEGIN:VEVENT
DTSTART;TZID=Europe/Vienna:20251004T200000
DTEND;TZID=Europe/Vienna:20251004T220000
DTSTAMP:20260425T032648
CREATED:20250905T153334Z
LAST-MODIFIED:20250905T153334Z
UID:29825-1759608000-1759615200@www.phantanoise.com
SUMMARY:Nachhall #15: Magnetbanduntergrund Ost
DESCRIPTION:mit Susanne Binas-Preisendörfer (Der Expander des Fortschritts/ Berlin) & Alexander Pehlemann (Zonic/ Leipzig) · Konzert: Der Expander des Fortschritts feat. Safi
URL:https://www.phantanoise.com/event/nachhall-15-magnetbanduntergrund-ost/
LOCATION:echoraum\, Sechshauserstrasse 66\, Wien\, Wien\, 1150\, Austria
CATEGORIES:Concert,Vienna
END:VEVENT
BEGIN:VEVENT
DTSTART;TZID=Europe/Vienna:20251004T200000
DTEND;TZID=Europe/Vienna:20251004T220000
DTSTAMP:20260425T032648
CREATED:20250927T063616Z
LAST-MODIFIED:20250927T064233Z
UID:30111-1759608000-1759615200@www.phantanoise.com
SUMMARY:Sapient Paradox Duo (Christopher Cox & Zeynep Sarikartal) | Shoz
DESCRIPTION:Born in Los Angeles and raised in Northern California\, trombonist Christopher Robin Cox has performed creative music since 1987. Combining multiphonics\, split-tones\, and electronics\, Cox has begun to build his own approach that is at once ambient and saturated. He has worked with legendary blues\, funk\, and hip-hop artists\, as well as a long list of creative improvisers like Marco Eneidi\, Glenn Spearman\, George Cremaschi\, Elliot Humberto Kavee\, Jason Robinson\, Damon Smith\, and many others. After returning from a long hiatus\, Cox moved to Budapest in 2019\, where he has worked with Aram Shelton\, Miklos Szylveszter\, Robert Benkő\, and Franz Hautzinger. His trio with bassist Péter Ajtai and drummer Attila Gyárfás is in high demand in Hungary. In the Spring\, he plans to perform in Germany and Italy and will tour the West Coast of the United States with Transient a.k.a. David R. Molina. \n​Zeynep Sarıkartal\nis a sound-artist\, improviser and researcher. She studied classical Piano in Ankara Bilkent Music School\, had her Bachelor from Musicology in Istanbul Yildiz Technical University and her MA in University of Vienna in Ethnomusicology. Since 2010 she is based in Vienna and works as composer\, improviser and sound artist in theater\, film and multimedia projects\, curates events\, publishes articles\, performs under the moniker ZS ZS. She mostly collaborated with musicians from the fields of experimental\, noise\, flashcore\, extratone and other related genres. From 2016 on\, she started to develop creative research projects that focuses on the concept of social death. ZS ZS live performances are about exploring and merging harsh\, rhythmical and atmospheric soundscapes together with text and field recordings within a dramaturgical concept. \nShoz \nis a sound artist based in the Shenandoah Valley of Virginia (USA) and their work explores relationship to Place and spirit. Starting on a foundation of field recordings\, their pieces are expressions of embodied connection to a location\, stratifying textures of site-specific channelled melody and movement in various instrumentations\, digital processing\, and rhythms made from environmental sounds. Their work addresses issues of dis/connection guided by the intention to develop and strengthen relationship to the emergent knowing alive in collaboration with The Unseen\, creating containers for presence both individually and collectively.
URL:https://www.phantanoise.com/event/sapient-paradox-duo-christopher-cox-zeynep-sarikartal-shoz/
LOCATION:v.e.k.k.s.\, Ratschkygasse 14/1\, Wien\, 1120\, Austria
END:VEVENT
END:VCALENDAR