BEGIN:VCALENDAR
VERSION:2.0
PRODID:-//Phantanoise© - ECPv6.15.20//NONSGML v1.0//EN
CALSCALE:GREGORIAN
METHOD:PUBLISH
X-ORIGINAL-URL:https://www.phantanoise.com
X-WR-CALDESC:Events for Phantanoise©
REFRESH-INTERVAL;VALUE=DURATION:PT1H
X-Robots-Tag:noindex
X-PUBLISHED-TTL:PT1H
BEGIN:VTIMEZONE
TZID:Europe/Vienna
BEGIN:DAYLIGHT
TZOFFSETFROM:+0100
TZOFFSETTO:+0200
TZNAME:CEST
DTSTART:20240331T010000
END:DAYLIGHT
BEGIN:STANDARD
TZOFFSETFROM:+0200
TZOFFSETTO:+0100
TZNAME:CET
DTSTART:20241027T010000
END:STANDARD
BEGIN:DAYLIGHT
TZOFFSETFROM:+0100
TZOFFSETTO:+0200
TZNAME:CEST
DTSTART:20250330T010000
END:DAYLIGHT
BEGIN:STANDARD
TZOFFSETFROM:+0200
TZOFFSETTO:+0100
TZNAME:CET
DTSTART:20251026T010000
END:STANDARD
BEGIN:DAYLIGHT
TZOFFSETFROM:+0100
TZOFFSETTO:+0200
TZNAME:CEST
DTSTART:20260329T010000
END:DAYLIGHT
BEGIN:STANDARD
TZOFFSETFROM:+0200
TZOFFSETTO:+0100
TZNAME:CET
DTSTART:20261025T010000
END:STANDARD
END:VTIMEZONE
BEGIN:VEVENT
DTSTART;TZID=Europe/Vienna:20250929T200000
DTEND;TZID=Europe/Vienna:20250929T220000
DTSTAMP:20260425T033036
CREATED:20250901T140353Z
LAST-MODIFIED:20250901T140353Z
UID:29733-1759176000-1759183200@www.phantanoise.com
SUMMARY:Monday Improvisers Session
DESCRIPTION:Manu Mayr |double bass   Ivar Roban Krizic |bass  | hosted by Didi Kern
URL:https://www.phantanoise.com/event/monday-improvisers-session-6/
LOCATION:Celeste\, Hamburgerstraße 18\, Wien\, 1050\, Austria
CATEGORIES:Session,Vienna
END:VEVENT
BEGIN:VEVENT
DTSTART;TZID=Europe/Vienna:20250929T200000
DTEND;TZID=Europe/Vienna:20250929T220000
DTSTAMP:20260425T033036
CREATED:20250908T085629Z
LAST-MODIFIED:20250908T085629Z
UID:29949-1759176000-1759183200@www.phantanoise.com
SUMMARY:silent green Open Lab #3: megouem + Dara Shikoh + Kkoki
DESCRIPTION:We are delighted to be able to establish silent green Open Lab\, a new format for young Berlin musicians taking their first steps on stage – beyond the pressure of expectations or market-oriented presentation. \nSupporting young talent and revealing artistic processes is a major concern for us at silent green – and this is precisely what Open Lab is all about. It is deliberately conceived not as a mere showcase\, but as a space of opportunity: for entering the public sphere\, for encounters\, for resonance\, and for further development. \nBoth solo acts and ensembles/bands from Berlin were eligible to apply. Their approaches demonstrate not only individual artistic expression but also a desire to explore and transcend genre boundaries – between electronic music\, improvisational practice\, pop\, spoken word\, or performance. \nmegouem\nmegouem sings\, reads\, writes\, and performs. The poems\, pieces\, and songs\, set to music in melodies and chants\, are impulses\, observations\, and reflections given form. Occasionally\, illuminating insights also flow into the musical representations. Inspired by her grandmother’s spiritual legacy\, the preservation\, transmission\, and communication of knowledge are the focus of megouem’s artistic practice. At the silent green Open Lab\, megouem presents various fragments that lie somewhere between vocal performance and musical theater\, merging them into a harmonious concert piece. \nDara Shikoh\nDara Shikoh is a Berlin-based Sindhi interdisciplinary artist whose music exists on the threshold between language and emotion. For him\, sound is a vessel for feelings that have not yet been put into words—raw\, intuitive\, and sacred. His creative journey is an attempt to dwell in this very space and make it audible. \nBy fusing field recordings from places he calls home with electroacoustic sound textures and intimate vocal passages\, Dara Shikoh creates immersive sound worlds that reflect memory\, migration\, and inner states. \nKkoki\nKkoki is a Korean musician currently active in Berlin. Her songs are influenced by her long-standing engagement with pop and pop culture\, particularly through influences from films and television shows. \nShe spends most of her time writing and recording songs\, collaborating with artists such as Emil Gabriel\, COBEE\, Kev Koko\, Mathis Ruffing\, Valentin Hansen\, and others. Her debut single was released in August 2025\, and further releases are planned.
URL:https://www.phantanoise.com/event/silent-green-open-lab-3-megouem-dara-shikoh-kkoki/
LOCATION:silent green\, Gerichtstraße 35\, Berlin\, 13347
CATEGORIES:Berlin,Concert
END:VEVENT
BEGIN:VEVENT
DTSTART;TZID=Europe/Vienna:20250929T200000
DTEND;TZID=Europe/Vienna:20250929T230000
DTSTAMP:20260425T033036
CREATED:20250929T131148Z
LAST-MODIFIED:20250929T131148Z
UID:30147-1759176000-1759186800@www.phantanoise.com
SUMMARY:Blumenmontag Saisonstart
DESCRIPTION:Ronia\nAnna Jelena Schulte\nMaggie\nResistant\nJopa Jotakin Moderation
URL:https://www.phantanoise.com/event/blumenmontag-saisonstart/
LOCATION:Cafe Stadtbahn\, Gersthofer Straße 47\, Wien\, Wien\, 1180\, Austria
CATEGORIES:Concert,Vienna
END:VEVENT
BEGIN:VEVENT
DTSTART;TZID=Europe/Vienna:20250929T210000
DTEND;TZID=Europe/Vienna:20250929T233000
DTSTAMP:20260425T033036
CREATED:20250823T153647Z
LAST-MODIFIED:20250823T154201Z
UID:29616-1759179600-1759188600@www.phantanoise.com
SUMMARY:Experimontag Noctiluca + Antti Virtaranta & Blandine Casen + Anaïs Tuerlinckx (DJ-Set)
DESCRIPTION:Noctiluca\nImpro / Experimental – Japan/Berlin \nNoctiluca – Yakochu – is a Berlin based band. \nIt formed in 2018\, and consists of electronics musicians who perform effects with guitar\, keys\, and analog hardware synths. \nTheir sounds blend into one canvas like an endless abstract drawing that consistently but slowly evolve into another abstraction. \nhttps://noctiluca.bandcamp.com/ \nAntti Virtaranta & Blandine Casen\nImprovised music and visuals / Berlin \nAntti’s solo set is a combination of acoustic drones and colorful textures with a sprinkling of electronic bleeps and bloops. \nThis\, complimented by Blandine’s live manipulated visuals takes the audience on a haunting and beautiful journey through vivid visuals and sounds. \n \n \nhttps://avirtmusic.weebly.com \nhttps://www.facebook.com/antti.virtaranta/ \nhttps://www.facebook.com/blanchebln/ \nhttps://www.instagram.com/anttivirtaranta/ \nhttps://www.instagram.com/blanchebln/ \n  \nAnaïs Tuerlinckx (DJ-Set)\nExperimental\, contemporary\, free improvisation\, music concrète \nhttps://lyl.live/episode/chambre-de-visite-1 \nhttps://www.anaistuerlinckx.com/ \n 
URL:https://www.phantanoise.com/event/experimontag-noctiluca-antti-virtaranta-blandine-casen-anais-tuerlinckx-dj-set/
LOCATION:Madame Claude\, Lübbener Straße 19\, Berlin-Kreuzberg\, Berlin\, 10997
CATEGORIES:Berlin,Concert
END:VEVENT
BEGIN:VEVENT
DTSTART;TZID=Europe/Vienna:20250929T220000
DTEND;TZID=Europe/Vienna:20250929T233000
DTSTAMP:20260425T033036
CREATED:20250908T082822Z
LAST-MODIFIED:20250908T082822Z
UID:29930-1759183200-1759188600@www.phantanoise.com
SUMMARY:WHO'S CRAZY Svatý Michaeli\, archanděli!
DESCRIPTION:St. Michael\, the Archangel!\nCelebration of the feast of St. Michael. Delia\, Hrubý\, Nejtek\, Rataj\, Wroblewski and Zbořil will perform.\nAn improvised concert by Czech Michaels\, Czech musicians\, will take place as part of the WHO’S CRAZY series\, curated by Helena Konvalinová. Recommended admission is 200 crowns.
URL:https://www.phantanoise.com/event/whos-crazy-svaty-michaeli-archandeli/
LOCATION:Café Husovka\, Husova 242/9\, Praha\, 11000\, Czech Republic
CATEGORIES:Concert
END:VEVENT
END:VCALENDAR