BEGIN:VCALENDAR
VERSION:2.0
PRODID:-//Phantanoise© - ECPv6.15.20//NONSGML v1.0//EN
CALSCALE:GREGORIAN
METHOD:PUBLISH
X-WR-CALNAME:Phantanoise©
X-ORIGINAL-URL:https://www.phantanoise.com
X-WR-CALDESC:Events for Phantanoise©
REFRESH-INTERVAL;VALUE=DURATION:PT1H
X-Robots-Tag:noindex
X-PUBLISHED-TTL:PT1H
BEGIN:VTIMEZONE
TZID:Europe/Vienna
BEGIN:DAYLIGHT
TZOFFSETFROM:+0100
TZOFFSETTO:+0200
TZNAME:CEST
DTSTART:20240331T010000
END:DAYLIGHT
BEGIN:STANDARD
TZOFFSETFROM:+0200
TZOFFSETTO:+0100
TZNAME:CET
DTSTART:20241027T010000
END:STANDARD
BEGIN:DAYLIGHT
TZOFFSETFROM:+0100
TZOFFSETTO:+0200
TZNAME:CEST
DTSTART:20250330T010000
END:DAYLIGHT
BEGIN:STANDARD
TZOFFSETFROM:+0200
TZOFFSETTO:+0100
TZNAME:CET
DTSTART:20251026T010000
END:STANDARD
BEGIN:DAYLIGHT
TZOFFSETFROM:+0100
TZOFFSETTO:+0200
TZNAME:CEST
DTSTART:20260329T010000
END:DAYLIGHT
BEGIN:STANDARD
TZOFFSETFROM:+0200
TZOFFSETTO:+0100
TZNAME:CET
DTSTART:20261025T010000
END:STANDARD
END:VTIMEZONE
BEGIN:VEVENT
DTSTART;VALUE=DATE:20250922
DTEND;VALUE=DATE:20250925
DTSTAMP:20260425T051405
CREATED:20250805T113922Z
LAST-MODIFIED:20250817T122025Z
UID:28269-1758499200-1758758399@www.phantanoise.com
SUMMARY:Festival Impronedjeljak - Impromonday 5
DESCRIPTION:22.–24.09.2025. Močvara\, Zagreb \nAlexander von Schlippenbach\, Elisabegth Harnik\, Elliot Sharp\, Steve Swell\, Sergio Arnarolli\, Veli Kujala\, HArri Sjöström\, Giancarlo Schiaffini\, Peter Ole Joergensen\, Tracy Lisk\, Tanja Feichtmair\, Cene Resnik\, Urban Kusar\, Aperiron Kollektiv \n  \nImpromonday festival 2025
URL:https://www.phantanoise.com/event/festival-impronedjeljak-impromonday-5/
LOCATION:Klub Močvara\, Trnjanska struga 34\, Zagreb\, Zagreb\, 10000\, Croatia (Local Name: Hrvatska)
CATEGORIES:Festival
END:VEVENT
BEGIN:VEVENT
DTSTART;TZID=Europe/Vienna:20250922T200000
DTEND;TZID=Europe/Vienna:20250922T220000
DTSTAMP:20260425T051405
CREATED:20250901T140255Z
LAST-MODIFIED:20250901T140255Z
UID:29731-1758571200-1758578400@www.phantanoise.com
SUMMARY:Monday Improvisers Session
DESCRIPTION:Michal Wróblewski |alt sax\nLiliana Zieniawa |drums\nhosted by Thomas Berghammer
URL:https://www.phantanoise.com/event/monday-improvisers-session-5/
LOCATION:Celeste\, Hamburgerstraße 18\, Wien\, 1050\, Austria
CATEGORIES:Session,Vienna
END:VEVENT
BEGIN:VEVENT
DTSTART;TZID=Europe/Vienna:20250922T210000
DTEND;TZID=Europe/Vienna:20250922T233000
DTSTAMP:20260425T051405
CREATED:20250823T153357Z
LAST-MODIFIED:20250823T153357Z
UID:29614-1758574800-1758583800@www.phantanoise.com
SUMMARY:Experimontag Johannes Elnan + Gabriel Zucker + Forest Gimp (DJ-Set)
DESCRIPTION:Johannes Elnan\nFree-improvised music / Oslo\, Norway \nJohannes Elnan\, an ambitious bassist and improviser from Norway currently based in Oslo\, is a musical wildcard with a toe dipped in almost everything. \nAt a young age\, Elnan has established himself as a remarkable musician\, known for his expressive improvisations and commanding presence. \nAs of recent he has gotten attention for a series of convincing solo concerts\, as well as collaborations with musicians such as; Paal Nilsen-Love\, Ståle Liavik Solberg\, Amalie Dahl\, Gilbert Holström\, Ketija Ringa\, Per Texas Johansson\, Frederik Ljungkvist and Lisa Ullén. \nhttps://www.facebook.com/johannes.midbrodelnan \nhttps://www.instagram.com/johannes.elnan \nGabriel Zucker\nExperimental / New York City \nGabriel Zucker is a songwriter\, composer\, pianist\, multi-instrumentalist\, and polymath from New York\, whose work combines maximalist compositions\, intimate songwriting\, virtuosic metric complexity\, innovative production\, and the progressive improvisation of New York’s creative music scene. \nAt Madame Claude\, Zucker presents a wide-ranging and immersive solo set for synth and voice. \ngabrielzucker.com \ninstagram.com/gabriel.zucker \n 
URL:https://www.phantanoise.com/event/experimontag-4/
LOCATION:Madame Claude\, Lübbener Straße 19\, Berlin-Kreuzberg\, Berlin\, 10997
CATEGORIES:Berlin,Concert
END:VEVENT
END:VCALENDAR