BEGIN:VCALENDAR
VERSION:2.0
PRODID:-//Phantanoise© - ECPv6.15.20//NONSGML v1.0//EN
CALSCALE:GREGORIAN
METHOD:PUBLISH
X-WR-CALNAME:Phantanoise©
X-ORIGINAL-URL:https://www.phantanoise.com
X-WR-CALDESC:Events for Phantanoise©
REFRESH-INTERVAL;VALUE=DURATION:PT1H
X-Robots-Tag:noindex
X-PUBLISHED-TTL:PT1H
BEGIN:VTIMEZONE
TZID:Europe/Vienna
BEGIN:DAYLIGHT
TZOFFSETFROM:+0100
TZOFFSETTO:+0200
TZNAME:CEST
DTSTART:20240331T010000
END:DAYLIGHT
BEGIN:STANDARD
TZOFFSETFROM:+0200
TZOFFSETTO:+0100
TZNAME:CET
DTSTART:20241027T010000
END:STANDARD
BEGIN:DAYLIGHT
TZOFFSETFROM:+0100
TZOFFSETTO:+0200
TZNAME:CEST
DTSTART:20250330T010000
END:DAYLIGHT
BEGIN:STANDARD
TZOFFSETFROM:+0200
TZOFFSETTO:+0100
TZNAME:CET
DTSTART:20251026T010000
END:STANDARD
BEGIN:DAYLIGHT
TZOFFSETFROM:+0100
TZOFFSETTO:+0200
TZNAME:CEST
DTSTART:20260329T010000
END:DAYLIGHT
BEGIN:STANDARD
TZOFFSETFROM:+0200
TZOFFSETTO:+0100
TZNAME:CET
DTSTART:20261025T010000
END:STANDARD
END:VTIMEZONE
BEGIN:VEVENT
DTSTART;TZID=Europe/Vienna:20250917T180000
DTEND;TZID=Europe/Vienna:20250917T210000
DTSTAMP:20260425T051348
CREATED:20250916T144739Z
LAST-MODIFIED:20250917T104934Z
UID:30030-1758132000-1758142800@www.phantanoise.com
SUMMARY:KAK – Krach am Kanal 2509
DESCRIPTION:18:00 gammon\n18:30 Phantanoise© Artist\n19:00 deviant funk\n19:30 faetality\n20:00 eskalia\n20:30 ratriot\n21:00 timo
URL:https://www.phantanoise.com/event/kak-krach-am-kanal-2509/
LOCATION:Central Garden\, Untere Donaustraße Höhe 41\, Wien\, 1020\, Austria
CATEGORIES:Concert,Vienna
END:VEVENT
BEGIN:VEVENT
DTSTART;TZID=Europe/Vienna:20250917T190000
DTEND;TZID=Europe/Vienna:20250917T220000
DTSTAMP:20260425T051348
CREATED:20250812T112634Z
LAST-MODIFIED:20250817T122104Z
UID:28656-1758135600-1758146400@www.phantanoise.com
SUMMARY:Improvised & Experimental No. 256 (sound installation)
DESCRIPTION:-Set 1- Miriam Leo (piano)\, Berenice Llorens (guitar\, electronics)\, Gustavo Obligado (saxophone) \n-Set 2- Julia Biłat (cello\, voice)\, Roman Stolyar (piano)\, Dudu Kuarte (percussion)
URL:https://www.phantanoise.com/event/improvised-experimental-no-256-sound-installation/
LOCATION:Hošek Contemporary\, Fischerinsel 3\, Berlin - Mitte\, Berlin\, 10179\, Germany
CATEGORIES:Berlin,Concert
END:VEVENT
BEGIN:VEVENT
DTSTART;TZID=Europe/Vienna:20250917T203000
DTEND;TZID=Europe/Vienna:20250917T220000
DTSTAMP:20260425T051348
CREATED:20250908T081555Z
LAST-MODIFIED:20250908T081555Z
UID:29924-1758141000-1758146400@www.phantanoise.com
SUMMARY:n i M and H e a r Improvisers Session
DESCRIPTION:n i M and H e a r Improvisers Session\nhosted by Burkhard Stangl
URL:https://www.phantanoise.com/event/n-i-m-and-h-e-a-r-improvisers-session/
LOCATION:Jazzit Musik Club Salzburg\, Elisabethstraße 11\, Salzburg\, Salzburg\, 5020\, Austria
CATEGORIES:Concert
END:VEVENT
BEGIN:VEVENT
DTSTART;TZID=Europe/Vienna:20250917T203000
DTEND;TZID=Europe/Vienna:20250917T230000
DTSTAMP:20260425T051348
CREATED:20250817T125821Z
LAST-MODIFIED:20250908T164051Z
UID:29276-1758141000-1758150000@www.phantanoise.com
SUMMARY:Experimentik #86 Rizzo\, Hartmann\, Lamb
DESCRIPTION:doors: 20:00 | concert: 20:30 no entry during sets\n3 x solo:Luciana Rizzo – feedbacks\nHanna Hartman – amplified objects\, electronics\nCatherine Lamb – viola\, electronics\n\nadmission: suggested donation 8-12 € at the door\nA monthly series for experimental music at tik / Rigaerstr.77\, 10247 Berlin. curated by Seiji MorimotoExperimentik 2024 – Networking – is kindly supported by inm – initiative neue musik berlin / field notes\n  \nexperimentik.berlin@gmail.com
URL:https://www.phantanoise.com/event/experimentik-86-rizzo-hartmann-lamb/
LOCATION:theater im kino\, Rigaer Straße 77\, Berlin\, Berlin\, 10247\, Germany
CATEGORIES:Berlin,Concert
END:VEVENT
END:VCALENDAR