BEGIN:VCALENDAR
VERSION:2.0
PRODID:-//Phantanoise© - ECPv6.15.20//NONSGML v1.0//EN
CALSCALE:GREGORIAN
METHOD:PUBLISH
X-WR-CALNAME:Phantanoise©
X-ORIGINAL-URL:https://www.phantanoise.com
X-WR-CALDESC:Events for Phantanoise©
REFRESH-INTERVAL;VALUE=DURATION:PT1H
X-Robots-Tag:noindex
X-PUBLISHED-TTL:PT1H
BEGIN:VTIMEZONE
TZID:Europe/Vienna
BEGIN:DAYLIGHT
TZOFFSETFROM:+0100
TZOFFSETTO:+0200
TZNAME:CEST
DTSTART:20240331T010000
END:DAYLIGHT
BEGIN:STANDARD
TZOFFSETFROM:+0200
TZOFFSETTO:+0100
TZNAME:CET
DTSTART:20241027T010000
END:STANDARD
BEGIN:DAYLIGHT
TZOFFSETFROM:+0100
TZOFFSETTO:+0200
TZNAME:CEST
DTSTART:20250330T010000
END:DAYLIGHT
BEGIN:STANDARD
TZOFFSETFROM:+0200
TZOFFSETTO:+0100
TZNAME:CET
DTSTART:20251026T010000
END:STANDARD
BEGIN:DAYLIGHT
TZOFFSETFROM:+0100
TZOFFSETTO:+0200
TZNAME:CEST
DTSTART:20260329T010000
END:DAYLIGHT
BEGIN:STANDARD
TZOFFSETFROM:+0200
TZOFFSETTO:+0100
TZNAME:CET
DTSTART:20261025T010000
END:STANDARD
END:VTIMEZONE
BEGIN:VEVENT
DTSTART;TZID=Europe/Vienna:20250915T193000
DTEND;TZID=Europe/Vienna:20250915T233000
DTSTAMP:20260425T051428
CREATED:20250905T160145Z
LAST-MODIFIED:20250905T160145Z
UID:29848-1757964600-1757979000@www.phantanoise.com
SUMMARY:TÉRIDŐ JAM
DESCRIPTION:dance: Buday Enikő\, Horváth Réka\, Grégory Chevalier\, Kudlák Eszti\, Hende Szabi\, tba.\nmusic: Oli Mayne (electronics)\, Benkő Róbert (bass/cello)\, Gyárfás Attila (guitar/drums)\, Jávorka Ádám (viola)\nmc&dance&music: Rubik Ernő Zoltán (piano\, objects)\nlight&visual: Major Mátyás\nTÉRIDŐ JAM is an instant compositional structure led by Rubik Ernő Zoltán. In the first half of the evening\, a core group of dancers and musicians invited by TËRÏDÖ and JazzaJ performs\, while in the second half\, anyone from the audience can join in.\nCollective free improvisation is a dangerous genre: the performers cannot escape from their own story\, while the decisions of their fellow artists throw them into unexpected situations. It helps the imagination to soar if total freedom is created within predefined boundaries. This apparent paradox is enforced during the evening by drawing the participants and the duration of each program from a hat. After this\, it only depends on the newly formed ensemble what space-time compositions they surprise us with – and themselves.\nAdmission: 3000.- Supporters: 4000.-\n______________________________________________________\nSPACE_TIME JAM is an instant composition night led by Ernő Zoltán Rubik. In the first half\, TËRÏDÖ and JazzaJ will present a special act of dancers and musicians – but in the second half\, everyone will be invited to join!\nCollective free improvisation is a dangerous proposition: the performers must not abandon their own stories while their partners keep exposing them to unexpected situations. It only helps the soaring fantasy if total freedom is evoked among pre-defined boundaries. We will let this seemingly paradoxical state dominate our night by drawing the participants and the length of each act from a hat. But after the draw it is only up to the newly-formed groups what space_time compositions they create to surprise us – and themselves.
URL:https://www.phantanoise.com/event/terido-jam/
LOCATION:Három Holló Kávéház\, Piarista köz 1\, Budapest\, Budapest\, 1052\, Hungary
CATEGORIES:Session
END:VEVENT
BEGIN:VEVENT
DTSTART;TZID=Europe/Vienna:20250915T200000
DTEND;TZID=Europe/Vienna:20250915T210000
DTSTAMP:20260425T051428
CREATED:20250908T161721Z
LAST-MODIFIED:20250912T072742Z
UID:29961-1757966400-1757970000@www.phantanoise.com
SUMMARY:Mikołaj Rytowski - the snare drum project (sound installation)
DESCRIPTION:the snare drum project by Mikolaj Rytowski is an immersive instrument and a composition that fuses music\, visual arts\, and performance. At its core\, the project revolves around an ensemble of twenty snare drums\, transformed into a rich sonic landscape that redefines the traditional understanding of percussion. These prepared snare drums are spread throughout the performance space\, serving as both a standalone installation and a twenty-channel sound system for live performance.\nDuration : 45 minutes.\nBefore and after the performance\, the project will be running as a sound installation.\nPart of Monat der zeitgenössischen Musik.
URL:https://www.phantanoise.com/event/mikolaj-rytowski-the-snare-drum-project-sound-installation-2/
LOCATION:Hošek Contemporary\, Fischerinsel 3\, Berlin - Mitte\, Berlin\, 10179\, Germany
CATEGORIES:Berlin,Performance
END:VEVENT
BEGIN:VEVENT
DTSTART;TZID=Europe/Vienna:20250915T200000
DTEND;TZID=Europe/Vienna:20250915T220000
DTSTAMP:20260425T051428
CREATED:20250901T140212Z
LAST-MODIFIED:20250901T140212Z
UID:29729-1757966400-1757973600@www.phantanoise.com
SUMMARY:Monday Improvisers Session
DESCRIPTION:Bassenger |text/objekte | Phillipp Quehenberger |synth | hosted by Didi Kern
URL:https://www.phantanoise.com/event/monday-improvisers-session-4/
LOCATION:Celeste\, Hamburgerstraße 18\, Wien\, 1050\, Austria
CATEGORIES:Session,Vienna
END:VEVENT
END:VCALENDAR