BEGIN:VCALENDAR
VERSION:2.0
PRODID:-//Phantanoise© - ECPv6.15.20//NONSGML v1.0//EN
CALSCALE:GREGORIAN
METHOD:PUBLISH
X-ORIGINAL-URL:https://www.phantanoise.com
X-WR-CALDESC:Events for Phantanoise©
REFRESH-INTERVAL;VALUE=DURATION:PT1H
X-Robots-Tag:noindex
X-PUBLISHED-TTL:PT1H
BEGIN:VTIMEZONE
TZID:Europe/Vienna
BEGIN:DAYLIGHT
TZOFFSETFROM:+0100
TZOFFSETTO:+0200
TZNAME:CEST
DTSTART:20240331T010000
END:DAYLIGHT
BEGIN:STANDARD
TZOFFSETFROM:+0200
TZOFFSETTO:+0100
TZNAME:CET
DTSTART:20241027T010000
END:STANDARD
BEGIN:DAYLIGHT
TZOFFSETFROM:+0100
TZOFFSETTO:+0200
TZNAME:CEST
DTSTART:20250330T010000
END:DAYLIGHT
BEGIN:STANDARD
TZOFFSETFROM:+0200
TZOFFSETTO:+0100
TZNAME:CET
DTSTART:20251026T010000
END:STANDARD
BEGIN:DAYLIGHT
TZOFFSETFROM:+0100
TZOFFSETTO:+0200
TZNAME:CEST
DTSTART:20260329T010000
END:DAYLIGHT
BEGIN:STANDARD
TZOFFSETFROM:+0200
TZOFFSETTO:+0100
TZNAME:CET
DTSTART:20261025T010000
END:STANDARD
END:VTIMEZONE
BEGIN:VEVENT
DTSTART;VALUE=DATE:20250913
DTEND;VALUE=DATE:20250915
DTSTAMP:20260425T052029
CREATED:20250912T053806Z
LAST-MODIFIED:20250912T053806Z
UID:29990-1757721600-1757894399@www.phantanoise.com
SUMMARY:GRNZ1/25 - INSTI-TUT; symposium für klangkunst\, bioakustik und onomatopoesie
DESCRIPTION:sa 13.9.’25\n16h treffpunkt spitalskirche enzesfeld musikalische wanderung zum symposion lindabrunn\nmit lokalen vereinen und instituten – teilnahme gratis!\n19h sandkasten syndikat: “klangperformance”\n20h iftaf: “transakustische revue” \nso 14.9. ’25\n11h tafelrunde der institute:\nöffentliches tischgespräch – teilnahme gratis! \nausstellung an beiden tagen:\npegasus-institut für pataphysik: “auf hoher see”\nIMA Institut für Medienarchäologie: “INA.15 die Gala!”\nfestivalspass €7-15 \nadresse: symposion lindabrunn steinbruchstraße 25\, 2551 enzesfeld-lindabrunn\nverein kulturgrunsen ( . C/D!\ngrnz(at)klingt.org Wohnen\, Kunst\, Kultur\nMedien und Sport
URL:https://www.phantanoise.com/event/grnz1-25-insti-tut-symposium-fur-klangkunst-bioakustik-und-onomatopoesie/
LOCATION:Symposion Lindabrunn\, Steinbaruchstraße 25\, Enzesfeld-Lindabrunn\, Lower Austria\, 2551\, Austria
CATEGORIES:Festival
END:VEVENT
BEGIN:VEVENT
DTSTART;TZID=Europe/Vienna:20250914T200000
DTEND;TZID=Europe/Vienna:20250914T210000
DTSTAMP:20260425T052029
CREATED:20250908T161633Z
LAST-MODIFIED:20250912T072130Z
UID:29959-1757880000-1757883600@www.phantanoise.com
SUMMARY:Mikołaj Rytowski - the snare drum project (sound installation)
DESCRIPTION:the snare drum project by Mikolaj Rytowski is an immersive instrument and a composition that fuses music\, visual arts\, and performance. At its core\, the project revolves around an ensemble of twenty snare drums\, transformed into a rich sonic landscape that redefines the traditional understanding of percussion. These prepared snare drums are spread throughout the performance space\, serving as both a standalone installation and a twenty-channel sound system for live performance.\nDuration : 45 minutes.\nBefore and after the performance\, the project will be running as a sound installation.\nPart of Monat der zeitgenössischen Musik.
URL:https://www.phantanoise.com/event/mikolaj-rytowski-the-snare-drum-project-sound-installation/
LOCATION:Hošek Contemporary\, Fischerinsel 3\, Berlin - Mitte\, Berlin\, 10179\, Germany
CATEGORIES:Berlin,Performance
END:VEVENT
END:VCALENDAR