BEGIN:VCALENDAR
VERSION:2.0
PRODID:-//Phantanoise© - ECPv6.15.20//NONSGML v1.0//EN
CALSCALE:GREGORIAN
METHOD:PUBLISH
X-ORIGINAL-URL:https://www.phantanoise.com
X-WR-CALDESC:Events for Phantanoise©
REFRESH-INTERVAL;VALUE=DURATION:PT1H
X-Robots-Tag:noindex
X-PUBLISHED-TTL:PT1H
BEGIN:VTIMEZONE
TZID:Europe/Vienna
BEGIN:DAYLIGHT
TZOFFSETFROM:+0100
TZOFFSETTO:+0200
TZNAME:CEST
DTSTART:20240331T010000
END:DAYLIGHT
BEGIN:STANDARD
TZOFFSETFROM:+0200
TZOFFSETTO:+0100
TZNAME:CET
DTSTART:20241027T010000
END:STANDARD
BEGIN:DAYLIGHT
TZOFFSETFROM:+0100
TZOFFSETTO:+0200
TZNAME:CEST
DTSTART:20250330T010000
END:DAYLIGHT
BEGIN:STANDARD
TZOFFSETFROM:+0200
TZOFFSETTO:+0100
TZNAME:CET
DTSTART:20251026T010000
END:STANDARD
BEGIN:DAYLIGHT
TZOFFSETFROM:+0100
TZOFFSETTO:+0200
TZNAME:CEST
DTSTART:20260329T010000
END:DAYLIGHT
BEGIN:STANDARD
TZOFFSETFROM:+0200
TZOFFSETTO:+0100
TZNAME:CET
DTSTART:20261025T010000
END:STANDARD
END:VTIMEZONE
BEGIN:VEVENT
DTSTART;TZID=Europe/Vienna:20250909T150000
DTEND;TZID=Europe/Vienna:20250909T190000
DTSTAMP:20260425T052023
CREATED:20250816T142600Z
LAST-MODIFIED:20250816T143102Z
UID:29129-1757430000-1757444400@www.phantanoise.com
SUMMARY:Writing Classes on Acousmatic Music for Fixed Media
DESCRIPTION:9. September\, 7. Oktober\, 11. November\, 9. Dezember 2025\, 13. Januar 2026 jeweils 15:00 – 19:00 Uhr \nNeustart eines Kompositionskurses mit Annette Vande Gorne anzukündigen. Ab September 2025 \nFür zwei Jahre wird die Pionierin der akusmatischen Kunst einmal im Monat ihr umfangreiches Wissen zur akusmatischen Musik im Detail\nvermitteln. \nMit eigenen Klangstudien haben Sie die Möglichkeit\, diese Techniken zu verifizieren und für Ihre persönliche Anwendung zu nutzen. Eine große Vielfalt an Methoden\, Analysen und Hörübungen ermöglicht eine tiefgehende Auseinandersetzung mit den Möglichkeiten fixierter\nKlänge. \n\nEnergiemodelle und die Spielsequenz: Klassifizierung der musikalischen Gesten und Formen\nTechnik der Klangmontage: Delta-Klänge\, Attack-Substitution\, Minimontage\, Interpolation\, Inkrustation\, zusammengesetzte Objekte\, Variationen der Montage\nTechnik der Überlagerung: zwei Sequenzen verbinden\, Cross-Fading\, einen vordefinierten Track verwenden\, zusammengesetzte Spielsequenzen\, Mischung von drei oder mehr Objekten bzw. Ebenen\, Verbindung durch Thema und Variation\n\nKosten 700.- EUR \nAnmeldeschluss 30. August 2025 \n 
URL:https://www.phantanoise.com/event/writing-classes-on-acousmatic-music-for-fixed-media/
LOCATION:Akusmatik – Experimentalstudio\, Fröbelgasse 30\, Wien\, Wien\, 1160\, Austria
CATEGORIES:Vienna,Workshop
END:VEVENT
BEGIN:VEVENT
DTSTART;TZID=Europe/Vienna:20250909T200000
DTEND;TZID=Europe/Vienna:20250909T220000
DTSTAMP:20260425T052023
CREATED:20250902T072326Z
LAST-MODIFIED:20250902T072326Z
UID:29751-1757448000-1757455200@www.phantanoise.com
SUMMARY:Ragum | Hase - Palestinian Grindcore
DESCRIPTION:Jewish-Arab anti-colonial anthems battling state racism\, police brutality and military occupation. Grindcore influenced by old school extreme metal.Palestinian grindcore? Well\, yes please! We’re proudly presenting their first time in Europe: political old school grinders Ragum from Haifa!\nRAGUM | grindcore | Haifahttps://ragum.bandcamp.comFFO: Napalm Death\, Carcass\, Terrorizer\, Nasum\nHASE | hardcore punk | Vienna/Grazhttps://hasepunx.bandcamp.com/In your face noisy HC-punk\, that’s fun and poetic at the same time. Alle meine Entchen\, UGH!\n\n9.9.2025 | Venster99\nEintritt & Bar: freie SpendeFreier Eintritt für alle unter 18.\nNoise is for everyone. Except assholes.
URL:https://www.phantanoise.com/event/ragum-hase-palestinian-grindcore/
LOCATION:Venster 99\, Stadtbahnbogen 99\, Wien\, Wien\, 1090\, Austria
CATEGORIES:Concert,Vienna
END:VEVENT
BEGIN:VEVENT
DTSTART;TZID=Europe/Vienna:20250909T200000
DTEND;TZID=Europe/Vienna:20250909T220000
DTSTAMP:20260425T052023
CREATED:20250905T160649Z
LAST-MODIFIED:20250905T160649Z
UID:29852-1757448000-1757455200@www.phantanoise.com
SUMMARY:GIK (Grazer Impro Klub)
DESCRIPTION:Der GIK ist eine regelmäßig im Café Wolf stattfindende Impro-Session! Das Besondere daran: es gibt keine stilistischen Vorgaben. Instrumente\, Laptops\, Synthies und auch andere Gadgets und Toys sind willkommen\, so sie Strom brauchen\, oder auch nicht ! \n\nEs sind alle eingeladen mitzumachen\, außergewöhnlichen Fähigkeiten\nsind nicht erforderlich\, nur die Freude am gemeinsamen Musizieren und\nInteresse an elektronischer Musik! \nDer GIK wurde initiiert\, um einen Rahmen zu schaffen\, in dem das\nJammen und gemeinsame Improvisieren mit allerlei akustischen und\nelektronischen Instrumenten\, sowie auch stimmlich erprobt werden kann. \nDie Herausforderung dabei besteht in der Realtime-Interaktion und\nauch -Klangverarbeitung\, dem Begreifen von oft unbekannten Klangquellen\nund Klängen und ein Gefühl dafür zu bekommen\, wie diese musikalisch\nmiteinander funktionieren können. Im Vordergrund steht daher das\naufmerksame Zuhören\, sich gegenseitig Raum geben und das\nExperimentieren. \nKuratiert von Rainer Binder-Krieglstein
URL:https://www.phantanoise.com/event/gik-grazer-impro-klub/
LOCATION:Cafe Wolf\, Annenstraße 18\, Graz\, Steiermark\, 8020\, Austria
CATEGORIES:Session
END:VEVENT
END:VCALENDAR