BEGIN:VCALENDAR
VERSION:2.0
PRODID:-//Phantanoise© - ECPv6.15.20//NONSGML v1.0//EN
CALSCALE:GREGORIAN
METHOD:PUBLISH
X-WR-CALNAME:Phantanoise©
X-ORIGINAL-URL:https://www.phantanoise.com
X-WR-CALDESC:Events for Phantanoise©
REFRESH-INTERVAL;VALUE=DURATION:PT1H
X-Robots-Tag:noindex
X-PUBLISHED-TTL:PT1H
BEGIN:VTIMEZONE
TZID:Europe/Vienna
BEGIN:DAYLIGHT
TZOFFSETFROM:+0100
TZOFFSETTO:+0200
TZNAME:CEST
DTSTART:20240331T010000
END:DAYLIGHT
BEGIN:STANDARD
TZOFFSETFROM:+0200
TZOFFSETTO:+0100
TZNAME:CET
DTSTART:20241027T010000
END:STANDARD
BEGIN:DAYLIGHT
TZOFFSETFROM:+0100
TZOFFSETTO:+0200
TZNAME:CEST
DTSTART:20250330T010000
END:DAYLIGHT
BEGIN:STANDARD
TZOFFSETFROM:+0200
TZOFFSETTO:+0100
TZNAME:CET
DTSTART:20251026T010000
END:STANDARD
BEGIN:DAYLIGHT
TZOFFSETFROM:+0100
TZOFFSETTO:+0200
TZNAME:CEST
DTSTART:20260329T010000
END:DAYLIGHT
BEGIN:STANDARD
TZOFFSETFROM:+0200
TZOFFSETTO:+0100
TZNAME:CET
DTSTART:20261025T010000
END:STANDARD
END:VTIMEZONE
BEGIN:VEVENT
DTSTART;TZID=Europe/Vienna:20250908T193000
DTEND;TZID=Europe/Vienna:20250908T220000
DTSTAMP:20260425T051353
CREATED:20250814T183407Z
LAST-MODIFIED:20250817T122445Z
UID:28878-1757359800-1757368800@www.phantanoise.com
SUMMARY:Pintotonics n+1 edition
DESCRIPTION:SET 1 S O L O\nJAAP BLONK voice improvisations\nhttps;//www.jaapblonk.com\njaapblonk.bandcamp.com\nExperienced and ongoing pioneering voice improvisator Jaap Blonk will bring ad hoc work based on the interrelatedness of his abstract drawings and his dynamic vocal articulations.\nDon’t miss this intriguing set!\nSET 2 D U O\nCAMILLA NEBBIA tenor sax\nJOHN HUGUES contrabass\nhttps://www.camilanebbia.com/\nhttps://johnhugues.info/\nThis duo digs deep into ‘a dark topology of endless sound possibilities’ and creates ad hoc sonic fantasies which are by definition unique and non-repeatable.
URL:https://www.phantanoise.com/event/pintotonics-n1-edition/
LOCATION:Huis De Pinto (Pintohuis)\, Sint Antoniesbreestraat 69\, Amsterdam\, 1011 HB\, Netherlands
CATEGORIES:Concert
END:VEVENT
BEGIN:VEVENT
DTSTART;TZID=Europe/Vienna:20250908T200000
DTEND;TZID=Europe/Vienna:20250908T220000
DTSTAMP:20260425T051353
CREATED:20250812T111459Z
LAST-MODIFIED:20250812T111644Z
UID:28649-1757361600-1757368800@www.phantanoise.com
SUMMARY:loscil pres. Lake Fire + Patricia Wolf
DESCRIPTION:LOSCIL ist das elektronische Musikprojekt des kanadischen Komponisten und Multimedia-Künstlers Scott Morgan. Seit über 20 Jahren hat Morgan unter dem Namen LOSCIL ein umfangreiches Werk aufgebaut\, das sich stilistisch zwischen Ambient\, klassischer und elektroakustischer Musik bewegt.\nIm Mai 2025 kehrt LOSCIL mit »Lake Fire« zurück – einem neunteiligen Werk voller aschegetränkter Klanglandschaften\, die die Spannung im Kreislauf von Zerstörung und Erneuerung ausloten. »Lake Fire« ist das Ergebnis eines fragmentierten kreativen Prozesses. Das Ergebnis gleicht einem Phönix: ein Album\, das niedergebrannt und aus seiner eigenen Asche neu zusammengesetzt wurde. \nPatricia Wolf ist Musikerin\, Sounddesignerin und Field Recordist und lebt in Portland\, Oregon. Ihre Arbeit vereint auf klangliche Weise die natürliche und die moderne Welt\, indem sie ökologische Klangquellen in ihre minimalistischen elektronischen Kompositionen integriert. Mit Melodien und Wiederholungen zieht sie die Hörer*innen in einen hypnotischen Innenraum\, in dem sie lebendige Klangtexturen und Atmosphären mit emotionaler Tiefe erschafft.
URL:https://www.phantanoise.com/event/loscil-pres-lake-fire-patricia-wolf/
LOCATION:silent green\, Gerichtstraße 35\, Berlin\, 13347
END:VEVENT
BEGIN:VEVENT
DTSTART;TZID=Europe/Vienna:20250908T200000
DTEND;TZID=Europe/Vienna:20250908T220000
DTSTAMP:20260425T051353
CREATED:20250901T140115Z
LAST-MODIFIED:20250901T140115Z
UID:29727-1757361600-1757368800@www.phantanoise.com
SUMMARY:Monday Improvisers Session
DESCRIPTION:Alexander Yannilos |drums\nTBA\nhosted by Thomas Berghammer |
URL:https://www.phantanoise.com/event/monday-improvisers-session-3/
LOCATION:Celeste\, Hamburgerstraße 18\, Wien\, 1050\, Austria
CATEGORIES:Session,Vienna
END:VEVENT
BEGIN:VEVENT
DTSTART;TZID=Europe/Vienna:20250908T200000
DTEND;TZID=Europe/Vienna:20250908T220000
DTSTAMP:20260425T051353
CREATED:20250908T083305Z
LAST-MODIFIED:20250908T083333Z
UID:29935-1757361600-1757368800@www.phantanoise.com
SUMMARY:TUTUTU Orchestra
DESCRIPTION:The international music collective Tututu Orchestra is returning to Slovenia after last year’s performance at the Ljubljana Jazz Festival! At Kino Šiška\, they’ll prepare a special concert where participants of the accompanying music workshop will also join them on stage. \nBased in the Netherlands\, Tututu Orchestra is a dynamic ensemble of musicians drawing inspiration from jazz\, impressionism\, and diverse musical traditions from around the world. What sets the orchestra apart is its use of compositional fragments as the driving force behind guided improvisation. Striving to merge the resonant power of an orchestral sound with the fluidity of a smaller combo\, the performance highlights the interplay between the orchestra and the conductor\, at times bursting with theatrical expressionism.
URL:https://www.phantanoise.com/event/tututu-orhcestra/
LOCATION:Kino Šiška – Centre for Urban Culture\, prekomorskih brigad 3\, Ljubljana\, Ljubljana\, SI-1000\, Slovenia
CATEGORIES:Concert
END:VEVENT
BEGIN:VEVENT
DTSTART;TZID=Europe/Vienna:20250908T200000
DTEND;TZID=Europe/Vienna:20250908T223000
DTSTAMP:20260425T051353
CREATED:20250812T110230Z
LAST-MODIFIED:20250817T122431Z
UID:28641-1757361600-1757370600@www.phantanoise.com
SUMMARY:Experimental Improvised Music @ The Hamlet
DESCRIPTION:The Sound Bureau (9) presentsExperimental Improvised Music @ The Hamlet\nMonday September 8th\nTrio: Phil Durrant/Charlotte Keefe/ Stuart Wilding electric mandolin – trumpet\, flugelhorn – percussion\nSolo: Paul Khimasia Morgan – guitar body & electronics\nDuo: Caroline Kraabel/Khabat Abas – alto sax\, voice – ‘cello\n7.30 for 8pm\, £10 cash on the door £8 in advance\nAddress: Downstairs at The Hamlet\, 10 Streatham High Road\, London\, SW16 1DB\n(venue is 1 min from Streatham Hill station\, direct trains from Victoria\, London Bridge\, Clapham Junction\, regular buses up from Victoria line’s Brixton tube\, only 10 mins).Full bar and food available.
URL:https://www.phantanoise.com/event/experimental-improvised-music-the-hamlet/
LOCATION:The Hamlet\, 10 Streatham High Road\, London\, London\, SW16 1DB
CATEGORIES:Concert
END:VEVENT
BEGIN:VEVENT
DTSTART;TZID=Europe/Vienna:20250908T210000
DTEND;TZID=Europe/Vienna:20250908T233000
DTSTAMP:20260425T051353
CREATED:20250823T153152Z
LAST-MODIFIED:20250823T153152Z
UID:29611-1757365200-1757374200@www.phantanoise.com
SUMMARY:Experimontag Peter Strickmann & Ansgar Wilken + Schneider TM + SurfSolaire
DESCRIPTION:Peter Strickmann & Ansgar Wilken\nExperimental / Berlin \nPeter Strickmann and Ansgar Wilken have been noticing each other already for some time. \nThey relate to each other’s musical matters as well as to each other´s artistic expressions\, which are characterized by simple\, original signs and forms. \nMost recently\, Peter gave away his self-made stamp set\, which Ansgar used to design a record cover and project logos. \nThis first joint public collaboration today intends to culminate in using each other’s stamps and join their musical forms and signs by using found objects\, wind instruments and various percussion tools. \nhttps://www.ansgarwilken.de \nhttps://peterstrickmann.info/
URL:https://www.phantanoise.com/event/experimontag-3/
LOCATION:Madame Claude\, Lübbener Straße 19\, Berlin-Kreuzberg\, Berlin\, 10997
CATEGORIES:Berlin,Concert
END:VEVENT
END:VCALENDAR