BEGIN:VCALENDAR
VERSION:2.0
PRODID:-//Phantanoise© - ECPv6.15.20//NONSGML v1.0//EN
CALSCALE:GREGORIAN
METHOD:PUBLISH
X-ORIGINAL-URL:https://www.phantanoise.com
X-WR-CALDESC:Events for Phantanoise©
REFRESH-INTERVAL;VALUE=DURATION:PT1H
X-Robots-Tag:noindex
X-PUBLISHED-TTL:PT1H
BEGIN:VTIMEZONE
TZID:Europe/Vienna
BEGIN:DAYLIGHT
TZOFFSETFROM:+0100
TZOFFSETTO:+0200
TZNAME:CEST
DTSTART:20240331T010000
END:DAYLIGHT
BEGIN:STANDARD
TZOFFSETFROM:+0200
TZOFFSETTO:+0100
TZNAME:CET
DTSTART:20241027T010000
END:STANDARD
BEGIN:DAYLIGHT
TZOFFSETFROM:+0100
TZOFFSETTO:+0200
TZNAME:CEST
DTSTART:20250330T010000
END:DAYLIGHT
BEGIN:STANDARD
TZOFFSETFROM:+0200
TZOFFSETTO:+0100
TZNAME:CET
DTSTART:20251026T010000
END:STANDARD
BEGIN:DAYLIGHT
TZOFFSETFROM:+0100
TZOFFSETTO:+0200
TZNAME:CEST
DTSTART:20260329T010000
END:DAYLIGHT
BEGIN:STANDARD
TZOFFSETFROM:+0200
TZOFFSETTO:+0100
TZNAME:CET
DTSTART:20261025T010000
END:STANDARD
END:VTIMEZONE
BEGIN:VEVENT
DTSTART;VALUE=DATE:20250830
DTEND;VALUE=DATE:20250908
DTSTAMP:20260425T052309
CREATED:20250812T104833Z
LAST-MODIFIED:20250817T122634Z
UID:28627-1756512000-1757289599@www.phantanoise.com
SUMMARY:Danza e Voce in Natura
DESCRIPTION:Attention: The seminar will NOT happen in Milano but at STROMBOLI contact KEA! \nA dance and voice seminar will take place on the island of Stromboli\, Sicily\, from August 30 to September 7\, 2025. Hosted by the Compagniakha\, the workshop will feature Kea Tonetti for dance (Butoh and Danza Sensibile®) and Tivitavi for voice (Sound Yoga\, Shamanic Singing). The event includes live music and will culminate in a final performance. The location is described as a magical and energetic place\, with black volcanic sand\, the revitalizing energy of the volcano\, and a unique natural environment.
URL:https://www.phantanoise.com/event/danza-e-voce-in-natura/
LOCATION:Spazio CONTINUUM\, Via Stendhal 43\, Milano\, Lombardia\, 20144\, Italy
CATEGORIES:Dance
END:VEVENT
BEGIN:VEVENT
DTSTART;TZID=Europe/Vienna:20250901T193000
DTEND;TZID=Europe/Vienna:20250901T220000
DTSTAMP:20260425T052309
CREATED:20250804T105421Z
LAST-MODIFIED:20250817T110451Z
UID:28175-1756755000-1756764000@www.phantanoise.com
SUMMARY:Water Damage
DESCRIPTION:
URL:https://www.phantanoise.com/event/water-damage/
LOCATION:Café OTO\, 18–22 Ashwin street\, Dalston\, London\, E8 3DL
END:VEVENT
BEGIN:VEVENT
DTSTART;TZID=Europe/Vienna:20250901T210000
DTEND;TZID=Europe/Vienna:20250901T233000
DTSTAMP:20260425T052309
CREATED:20250823T153003Z
LAST-MODIFIED:20250823T154406Z
UID:29609-1756760400-1756769400@www.phantanoise.com
SUMMARY:Experimontag Savic / Morimoto
DESCRIPTION:Grgur Savic – alto saxophone\, laptop\, sound processing \nSeiji Morimoto – modified sound modules \n \nhttp://grgursavic.com \nhttps://www.seijimorimoto.com
URL:https://www.phantanoise.com/event/experimontag-2/
LOCATION:Madame Claude\, Lübbener Straße 19\, Berlin-Kreuzberg\, Berlin\, 10997
CATEGORIES:Berlin,Concert
END:VEVENT
END:VCALENDAR